{"text_format":"1","workbook":"xlsx","n_sheets":7,"sheets":["Basisdaten","Fuhrparkliste","Werte","tblKunde","tblRisiken","Infos","tptool"],"not_rendered":{"charts":0,"images":2,"macros":1,"external_links":0,"defined_names":46,"comments":2,"pivot_tables":0},"unopened":[],"bounds":{"document_bytes":16777216,"sheet_cells":100000,"rows_first":2000,"rows_last":500,"rows_between":2000,"halvings":0,"cell_chars":16384,"cell_head_chars":4096},"cells_cut":0,"cells_raw":0,"read":"whole","date_system":"1900"}

{"sheet":"Basisdaten","index":0,"n_rows":23,"n_cols":5,"rows_kept":23,"cut":false,"hidden":false,"merged":[[1,1,1,4],[3,1,3,4],[22,1,29,5],[8,1,8,5],[5,2,5,4],[7,1,7,4],[16,4,16,5]]}
[]
["Name:"]
[]
["Straße:"]
[]
["PLZ/Ort:"]
[]
["Branche:"]
[]
["Umsatz in Mio. EUR:"]
[]
["Vermittlernummer:",null,null,"Vertriebsstelle:"]
[]
["Einsatzart:"]
[]
["Weitere Risikofragen:","Kündigung durch Vorversicherer?",null,null,"Nein"]
[null,"Gefahrguttransport?",null,null,"Kein Gefahrgut"]
[null,"Innenbereich Flughäfen?",null,null,"Nein"]
[null,"Chemiefabriken oder Raffinerien?",null,null,"Nein"]
[null,"Exponiertes Gelände z.B. Bahngelände?",null,null,"Nein"]
[]
[]
["Bemerkungen:"]

{"sheet":"Fuhrparkliste","index":1,"n_rows":110,"n_cols":29,"rows_kept":110,"cut":false,"hidden":false,"merged":[[5,3,5,9]]}
["Fuhrparkliste KFZ Flotten"]
[]
[]
["Firma:",null,null,{"$f":"VN_Name","v":0},null,null,null,null,null,null,null,null,null,"Betriebsart/Branche:",null,{"$f":"Branche","v":0}]
[]
["Vermittlername:",null,null,null,null,null,null,null,null,null,null,null,null,"Vermittlernummer:",null,{"$f":"CONCATENATE(VGES,\"/\",AGENTUR)","v":"/"}]
[]
[null,null,null,null,null,null,null,null,null,null,null,null,null,null,null," SFR-Daten des laufenden Kalenderjahres"]
["Lfd.","WKZ","Stärke","Gesamt-","Amtl.","HSN","TSN","Erstzul.","Fahrz.Ident-Nr","Fahr-\nleistung","Fahreralter unter ","Bedach","Leasing-\nfahrzeug","Aufbauart","Gefahrgut","KH ","VK","SF-Sonder-","Deckung","Fzg.Wert","  Rabattschutz",null,"   Zusatzdeckungen",null,null,null,null,"VorVU","Vorvertragsnr."]
[" Nr.",null,"kW ","gewicht","Kennz.",null,null,"Datum",null,"pro Jahr","23 Jahre","ungsart","Ja/Nein",null,null,"SF-KL","SF-KL","einstufung","VK/TK","EUR","KH","VK","KH+","LDD","FS","Elektro","WS+"]
[1]
[2]
[3]
[4]
[5]
[6]
[7]
[8]
[9]
[10]
[11]
[12]
[13]
[14]
[15]
[16]
[17]
[18]
[19]
[20]
[21]
[22]
[23]
[24]
[25]
[26]
[27]
[28]
[29]
[30]
[31]
[32]
[33]
[34]
[35]
[36]
[37]
[38]
[39]
[40]
[41]
[42]
[43]
[44]
[45]
[46]
[47]
[48]
[49]
[50]
[51]
[52]
[53]
[54]
[55]
[56]
[57]
[58]
[59]
[60]
[61]
[62]
[63]
[64]
[65]
[66]
[67]
[68]
[69]
[70]
[71]
[72]
[73]
[74]
[75]
[76]
[77]
[78]
[79]
[80]
[81]
[82]
[83]
[84]
[85]
[86]
[87]
[88]
[89]
[90]
[91]
[92]
[93]
[94]
[95]
[96]
[97]
[98]
[99]
[100]

{"sheet":"Werte","index":2,"n_rows":381,"n_cols":27,"rows_kept":381,"cut":false,"hidden":true,"merged":[]}
["Ja",null,"Verkehrsrechtsschutz",null,null,"vorvu","vorvunr","sfeingabe","sfAusgabe","sfklasse","sfhost","Rabattschutz",null,null,null,"KH ","VK",null,null,"Beschreibung","451key",null,"akz","StadtLand",null,"bedachung","bedachungkey"]
["Nein",null,"Zweiräder mit amtl. Zulassungskennzeichen",null,null,"AachenMünchener Vers. AG; Aachen",53420000,60,"60","F60","60","Ja",null,null,null,{"$f":"IF(Fuhrparkliste!P11=\"\",\"\",CONCATENATE(\"F\",Fuhrparkliste!P11))","v":""},{"$f":"IF(Fuhrparkliste!Q11=\"\",\"\",CONCATENATE(\"F\",Fuhrparkliste!Q11))","v":""},null,null,"Keine Kasko","00",null,"A","S",null,"Stahlblech","03"]
[null,null,"Pkw, Kombi, Omnibusse bis 9 Sitze",null,null,"AachenMünchener Vers. AG; Aachen",53420999,59,"59","F59","59","Ja",null,null,null,{"$f":"IF(Fuhrparkliste!P12=\"\",\"\",CONCATENATE(\"F\",Fuhrparkliste!P12))","v":""},{"$f":"IF(Fuhrparkliste!Q12=\"\",\"\",CONCATENATE(\"F\",Fuhrparkliste!Q12))","v":""},null,null,"0/0","21",null,"A","L",null,"Alu","04"]
[null,null,"Nutzfahrzeuge bis 2t Nutzlast (Lieferwagen, Lkw bis 2t)",null,null,"AachenMünchener Vers. AG; Hamburg",53421607,58,"58","F58","58","Ja",null,null,null,{"$f":"IF(Fuhrparkliste!P13=\"\",\"\",CONCATENATE(\"F\",Fuhrparkliste!P13))","v":""},{"$f":"IF(Fuhrparkliste!Q13=\"\",\"\",CONCATENATE(\"F\",Fuhrparkliste!Q13))","v":""},null,null,"150/150","32",null,"AB","S",null,"GFK","05"]
[null,null,"Nutzfahrzeuge über 2t bis 4t Nutzlast",null,null,"AachenMünchener Vers. AG; Köln",53422603,57,"57","F57","57","Ja",null,null,null,{"$f":"IF(Fuhrparkliste!P14=\"\",\"\",CONCATENATE(\"F\",Fuhrparkliste!P14))","v":""},{"$f":"IF(Fuhrparkliste!Q14=\"\",\"\",CONCATENATE(\"F\",Fuhrparkliste!Q14))","v":""},null,null,"300/150","33",null,"AB","L",null,"Sonstige","06"]
[null,null,"Nutzfahrzeuge über 4t Nutzlast u. Sattelzugmasch. (mit Aufliegern)",null,null,"AachenMünchener Vers. aG; Nürnberg",53426612,56,"56","F56","56","Ja",null,null,null,{"$f":"IF(Fuhrparkliste!P15=\"\",\"\",CONCATENATE(\"F\",Fuhrparkliste!P15))","v":""},{"$f":"IF(Fuhrparkliste!Q15=\"\",\"\",CONCATENATE(\"F\",Fuhrparkliste!Q15))","v":""},null,null,"500/150","34",null,"AN","L"]
[null,null,"Zugmasch. (nicht Sattelzugmasch.) mit amtl. schwarzen Kennz.",null,null,"AachenMünchener Vers. AG; Stuttgart",53425602,55,"55","F55","55","Ja",null,null,null,{"$f":"IF(Fuhrparkliste!P16=\"\",\"\",CONCATENATE(\"F\",Fuhrparkliste!P16))","v":""},{"$f":"IF(Fuhrparkliste!Q16=\"\",\"\",CONCATENATE(\"F\",Fuhrparkliste!Q16))","v":""},null,null,"1000/150","36",null,"AN","S"]
[null,null,"Zugmasch. (nicht Sattelzugmasch.) mit amtl. grünen o. steuerfr. schwarzen Kennz.",null,null,"ACE European Group Limited Direktion für Deutschland; Frankfurt",59020000,54,"54","F54","54","Ja",null,null,null,{"$f":"IF(Fuhrparkliste!P17=\"\",\"\",CONCATENATE(\"F\",Fuhrparkliste!P17))","v":""},{"$f":"IF(Fuhrparkliste!Q17=\"\",\"\",CONCATENATE(\"F\",Fuhrparkliste!Q17))","v":""},null,null,"2500/150","37",null,"BA","L"]
[null,null,"Kfz-zulassungspflichtige, selbstfahrende Sonderfahrzeuge und Arbeitsmasch.",null,null,"ACE European Group Limited Direktion für Deutschland; Frankfurt",59020001,53,"53","F53","53","Ja",null,null,null,{"$f":"IF(Fuhrparkliste!P18=\"\",\"\",CONCATENATE(\"F\",Fuhrparkliste!P18))","v":""},{"$f":"IF(Fuhrparkliste!Q18=\"\",\"\",CONCATENATE(\"F\",Fuhrparkliste!Q18))","v":""},null,null,"150/0","42",null,"BA","S"]
[null,null,null,null,null,"ADAC Autoversicherung AG; Bonn",51350009,52,"52","F52","52","Ja",null,null,null,{"$f":"IF(Fuhrparkliste!P19=\"\",\"\",CONCATENATE(\"F\",Fuhrparkliste!P19))","v":""},{"$f":"IF(Fuhrparkliste!Q19=\"\",\"\",CONCATENATE(\"F\",Fuhrparkliste!Q19))","v":""},null,null,"300/0","43",null,"BIR","S"]
[null,null,null,null,null,"ADAC Autoversicherung AG; München",51350000,51,"51","F51","51","Ja",null,null,null,{"$f":"IF(Fuhrparkliste!P20=\"\",\"\",CONCATENATE(\"F\",Fuhrparkliste!P20))","v":""},{"$f":"IF(Fuhrparkliste!Q20=\"\",\"\",CONCATENATE(\"F\",Fuhrparkliste!Q20))","v":""},null,null,"500/0","44",null,"BIR","L"]
[null,null,null,null,null,"ADLER Versicherung AG; Dortmund",55810000,50,"50","F50","50","Ja",null,null,null,{"$f":"IF(Fuhrparkliste!P21=\"\",\"\",CONCATENATE(\"F\",Fuhrparkliste!P21))","v":""},{"$f":"IF(Fuhrparkliste!Q21=\"\",\"\",CONCATENATE(\"F\",Fuhrparkliste!Q21))","v":""},null,null,"1000/0","46",null,"BT","L"]
[null,null,"aufbauart","Key",null,"Admiral Direkt / Marke der Itzehoher Versicherung; Köln",54010017,49,"49","F49","49","Ja",null,null,null,{"$f":"IF(Fuhrparkliste!P22=\"\",\"\",CONCATENATE(\"F\",Fuhrparkliste!P22))","v":""},{"$f":"IF(Fuhrparkliste!Q22=\"\",\"\",CONCATENATE(\"F\",Fuhrparkliste!Q22))","v":""},null,null,"2500/0","47",null,"BT","S"]
[null,null,"Kipper","11",null,"AIOI Nissay Dowa Inc. Company of Europe Lmtd. Nl. Deutschl.; Ismaning",50290000,48,"48","F48","48","Ja",null,null,null,{"$f":"IF(Fuhrparkliste!P23=\"\",\"\",CONCATENATE(\"F\",Fuhrparkliste!P23))","v":""},{"$f":"IF(Fuhrparkliste!Q23=\"\",\"\",CONCATENATE(\"F\",Fuhrparkliste!Q23))","v":""},null,null,"300/300","63",null,"CO","L"]
[null,null,"Offener Kasten","12",null,"AIOI Nissay Dowa Inc. Company of Europe Lmtd. Nl. Deutschl.; Ismaning",50290004,47,"47","F47","47","Ja",null,null,null,{"$f":"IF(Fuhrparkliste!P24=\"\",\"\",CONCATENATE(\"F\",Fuhrparkliste!P24))","v":""},{"$f":"IF(Fuhrparkliste!Q24=\"\",\"\",CONCATENATE(\"F\",Fuhrparkliste!Q24))","v":""},null,null,"500/500","64",null,"CO","S"]
[null,null,"Plane und Spriegel","13",null,"Allianz Automotive ehem.Nissan Vers.service GmbH; Frankfurt",53120120,46,"46","F46","46","Ja",null,null,null,{"$f":"IF(Fuhrparkliste!P25=\"\",\"\",CONCATENATE(\"F\",Fuhrparkliste!P25))","v":""},{"$f":"IF(Fuhrparkliste!Q25=\"\",\"\",CONCATENATE(\"F\",Fuhrparkliste!Q25))","v":""},null,null,"1000/1000","66",null,"DA","L"]
[null,null,"Geschlossener Kasten","14",null,"Allianz Automotive ehem.Renault Vers.service GmbH; Frankfurt",53120117,45,"45","F45","45","Ja",null,null,null,{"$f":"IF(Fuhrparkliste!P26=\"\",\"\",CONCATENATE(\"F\",Fuhrparkliste!P26))","v":""},{"$f":"IF(Fuhrparkliste!Q26=\"\",\"\",CONCATENATE(\"F\",Fuhrparkliste!Q26))","v":""},null,null,"2500/2500","67",null,"DA","S"]
[null,null,"Sonstige","15",null,"Allianz Automotive; Frankfurt",53120179,44,"44","F44","44","Ja",null,null,null,{"$f":"IF(Fuhrparkliste!P27=\"\",\"\",CONCATENATE(\"F\",Fuhrparkliste!P27))","v":""},{"$f":"IF(Fuhrparkliste!Q27=\"\",\"\",CONCATENATE(\"F\",Fuhrparkliste!Q27))","v":""},null,null,"TK 0","71",null,"FR","S"]
[null,null,null,null,null,"Allianz Versicherungs-AG Berlin; Berlin",53120015,43,"43","F43","43","Ja",null,null,null,{"$f":"IF(Fuhrparkliste!P28=\"\",\"\",CONCATENATE(\"F\",Fuhrparkliste!P28))","v":""},{"$f":"IF(Fuhrparkliste!Q28=\"\",\"\",CONCATENATE(\"F\",Fuhrparkliste!Q28))","v":""},null,null,"TK 150","72",null,"FR","L"]
[null,null,null,null,null,"Allianz Versicherungs-AG Frankfurt; Berlin",53120063,42,"42","F42","42","Ja",null,null,null,{"$f":"IF(Fuhrparkliste!P29=\"\",\"\",CONCATENATE(\"F\",Fuhrparkliste!P29))","v":""},{"$f":"IF(Fuhrparkliste!Q29=\"\",\"\",CONCATENATE(\"F\",Fuhrparkliste!Q29))","v":""},null,null,"TK 300","73",null,"FS","S"]
[null,null,null,null,null,"Allianz Versicherungs-AG Hamburg; Berlin",53120029,41,"41","F41","41","Ja",null,null,null,{"$f":"IF(Fuhrparkliste!P30=\"\",\"\",CONCATENATE(\"F\",Fuhrparkliste!P30))","v":""},{"$f":"IF(Fuhrparkliste!Q30=\"\",\"\",CONCATENATE(\"F\",Fuhrparkliste!Q30))","v":""},null,null,"TK 500","74",null,"FS","L"]
[null,null,"Elektrobaustein","Key",null,"Allianz Versicherungs-AG Hauptverwaltung; München",53120001,40,"40","F40","40","Ja",null,null,null,{"$f":"IF(Fuhrparkliste!P31=\"\",\"\",CONCATENATE(\"F\",Fuhrparkliste!P31))","v":""},{"$f":"IF(Fuhrparkliste!Q31=\"\",\"\",CONCATENATE(\"F\",Fuhrparkliste!Q31))","v":""},null,null,"TK 1000","76",null,"FUE","S"]
[null,null,"Akku-Ausgleich","1",null,"Allianz Versicherungs-AG Köln; Berlin",53120032,39,"39","F39","39","Ja",null,null,null,{"$f":"IF(Fuhrparkliste!P32=\"\",\"\",CONCATENATE(\"F\",Fuhrparkliste!P32))","v":""},{"$f":"IF(Fuhrparkliste!Q32=\"\",\"\",CONCATENATE(\"F\",Fuhrparkliste!Q32))","v":""},null,null,null,null,null,"FUE","L"]
[null,null,"Elektro-Kasko","3",null,"Allianz Versicherungs-AG Leipzig; Berlin",53120077,38,"38","F38","38","Ja",null,null,null,{"$f":"IF(Fuhrparkliste!P33=\"\",\"\",CONCATENATE(\"F\",Fuhrparkliste!P33))","v":""},{"$f":"IF(Fuhrparkliste!Q33=\"\",\"\",CONCATENATE(\"F\",Fuhrparkliste!Q33))","v":""},null,null,null,null,null,"GOE","S"]
[null,null,"Kasko-Plus Krad","4",null,"Allianz Versicherungs-AG München; Berlin",53120050,37,"37","F37","37","Ja",null,null,null,{"$f":"IF(Fuhrparkliste!P34=\"\",\"\",CONCATENATE(\"F\",Fuhrparkliste!P34))","v":""},{"$f":"IF(Fuhrparkliste!Q34=\"\",\"\",CONCATENATE(\"F\",Fuhrparkliste!Q34))","v":""},null,null,null,null,null,"GOE","L"]
[null,null,"Kasko-Plus 112,251,261","2",null,"Allianz Versicherungs-AG Stuttgart; Berlin",53120046,36,"36","F36","36","Ja",null,null,null,{"$f":"IF(Fuhrparkliste!P35=\"\",\"\",CONCATENATE(\"F\",Fuhrparkliste!P35))","v":""},{"$f":"IF(Fuhrparkliste!Q35=\"\",\"\",CONCATENATE(\"F\",Fuhrparkliste!Q35))","v":""},null,null,null,null,null,"H","S"]
[null,null,null,null,null,"Allianz Versicherungs-AG über Daimler Chrysler Services; Frankfurt",53120134,35,"35","F35","35","Ja",null,null,null,{"$f":"IF(Fuhrparkliste!P36=\"\",\"\",CONCATENATE(\"F\",Fuhrparkliste!P36))","v":""},{"$f":"IF(Fuhrparkliste!Q36=\"\",\"\",CONCATENATE(\"F\",Fuhrparkliste!Q36))","v":""},null,null,null,null,null,"H","L"]
[null,null,"Einsatzart",null,null,"Allianz Versicherungs-AG über Fiat Vers.dienst GmbH; Heilbronn",53120103,34,"34","F34","34","Ja",null,null,null,{"$f":"IF(Fuhrparkliste!P37=\"\",\"\",CONCATENATE(\"F\",Fuhrparkliste!P37))","v":""},{"$f":"IF(Fuhrparkliste!Q37=\"\",\"\",CONCATENATE(\"F\",Fuhrparkliste!Q37))","v":""},null,null,null,null,null,"HB","S"]
[null,null,"Werkverkehr",null,null,"Allianz Versicherungs-AG über Honda Vers.dienst GmbH; Frankfurt",53120148,33,"33","F33","33","Ja",null,null,null,{"$f":"IF(Fuhrparkliste!P38=\"\",\"\",CONCATENATE(\"F\",Fuhrparkliste!P38))","v":""},{"$f":"IF(Fuhrparkliste!Q38=\"\",\"\",CONCATENATE(\"F\",Fuhrparkliste!Q38))","v":""},null,null,null,null,null,"HB","L"]
[null,null,"Güterverkehr",null,null,"Allianz Versicherungs-AG über OpelHändeler Vers.ServiceGmbH; Frankfurt",53120094,32,"32","F32","32","Ja",null,null,null,{"$f":"IF(Fuhrparkliste!P39=\"\",\"\",CONCATENATE(\"F\",Fuhrparkliste!P39))","v":""},{"$f":"IF(Fuhrparkliste!Q39=\"\",\"\",CONCATENATE(\"F\",Fuhrparkliste!Q39))","v":""},null,null,null,null,null,"HD","L"]
[null,null,null,null,null,"Allianz Versicherungs-AG über PSA Finance Deutschland; Frankfurt",53120080,31,"31","F31","31","Ja",null,null,null,{"$f":"IF(Fuhrparkliste!P40=\"\",\"\",CONCATENATE(\"F\",Fuhrparkliste!P40))","v":""},{"$f":"IF(Fuhrparkliste!Q40=\"\",\"\",CONCATENATE(\"F\",Fuhrparkliste!Q40))","v":""},null,null,null,null,null,"HD","S"]
[null,null,"Gefahrgut","Key",null,"Allianz Versicherungs-AG über summit auto insurance; Frankfurt",53120151,30,"30","F30","30","Ja",null,null,null,{"$f":"IF(Fuhrparkliste!P41=\"\",\"\",CONCATENATE(\"F\",Fuhrparkliste!P41))","v":""},{"$f":"IF(Fuhrparkliste!Q41=\"\",\"\",CONCATENATE(\"F\",Fuhrparkliste!Q41))","v":""},null,null,null,null,null,"HN","L"]
[null,null,"Kein Gefahrgut","00",null,"Allianz Versicherungs-AG Volkswagen Vers.dienst GmbH; Braunschweig",53120165,29,"29","F29","29","Ja",null,null,null,{"$f":"IF(Fuhrparkliste!P42=\"\",\"\",CONCATENATE(\"F\",Fuhrparkliste!P42))","v":""},{"$f":"IF(Fuhrparkliste!Q42=\"\",\"\",CONCATENATE(\"F\",Fuhrparkliste!Q42))","v":""},null,null,null,null,null,"HN","S"]
[null,null,"Gefahrgut innerhalb der Freigrenzen","02",null,"Allianz Versicherungs-AG VVD24; Frankfurt",53120182,28,"28","F28","28","Ja",null,null,null,{"$f":"IF(Fuhrparkliste!P43=\"\",\"\",CONCATENATE(\"F\",Fuhrparkliste!P43))","v":""},{"$f":"IF(Fuhrparkliste!Q43=\"\",\"\",CONCATENATE(\"F\",Fuhrparkliste!Q43))","v":""},null,null,null,null,null,"HO","S"]
[null,null,"Gefahrgut oberhalb der Freigrenzen","03",null,"Allianz Versicherungs-AG; München",53120000,27,"27","F27","27","Ja",null,null,null,{"$f":"IF(Fuhrparkliste!P44=\"\",\"\",CONCATENATE(\"F\",Fuhrparkliste!P44))","v":""},{"$f":"IF(Fuhrparkliste!Q44=\"\",\"\",CONCATENATE(\"F\",Fuhrparkliste!Q44))","v":""},null,null,null,null,null,"HO","L"]
[null,null,"Treibstoff / Heizölbeförderung","04",null,"AllSecure Deutschland AG Kooperationsgeschäft; Frankfurt",54410106,26,"26","F26","26","Ja",null,null,null,{"$f":"IF(Fuhrparkliste!P45=\"\",\"\",CONCATENATE(\"F\",Fuhrparkliste!P45))","v":""},{"$f":"IF(Fuhrparkliste!Q45=\"\",\"\",CONCATENATE(\"F\",Fuhrparkliste!Q45))","v":""},null,null,null,null,null,"JEV","S"]
[null,null,null,null,null,"AllSecure Deutschland AG; Frankfurt",54410083,25,"25","F25","25","Ja",null,null,null,{"$f":"IF(Fuhrparkliste!P46=\"\",\"\",CONCATENATE(\"F\",Fuhrparkliste!P46))","v":""},{"$f":"IF(Fuhrparkliste!Q46=\"\",\"\",CONCATENATE(\"F\",Fuhrparkliste!Q46))","v":""},null,null,null,null,null,"JEV","L"]
[null,null,null,null,null,"AllSecure Deutschland AG; Frankfurt",54410110,24,"24","F24","24","Ja",null,null,null,{"$f":"IF(Fuhrparkliste!P47=\"\",\"\",CONCATENATE(\"F\",Fuhrparkliste!P47))","v":""},{"$f":"IF(Fuhrparkliste!Q47=\"\",\"\",CONCATENATE(\"F\",Fuhrparkliste!Q47))","v":""},null,null,null,null,null,"KA","S"]
[null,null,"wkz",null,null,"AllSecure Deutschland AG; München",54410000,23,"23","F23","23","Ja",null,null,null,{"$f":"IF(Fuhrparkliste!P48=\"\",\"\",CONCATENATE(\"F\",Fuhrparkliste!P48))","v":""},{"$f":"IF(Fuhrparkliste!Q48=\"\",\"\",CONCATENATE(\"F\",Fuhrparkliste!Q48))","v":""},null,null,null,null,null,"KA","L"]
[null,null,"003",null,null,"AllSecure Deutschland AG; München",54410004,22,"22","F22","22","Ja",null,null,null,{"$f":"IF(Fuhrparkliste!P49=\"\",\"\",CONCATENATE(\"F\",Fuhrparkliste!P49))","v":""},{"$f":"IF(Fuhrparkliste!Q49=\"\",\"\",CONCATENATE(\"F\",Fuhrparkliste!Q49))","v":""},null,null,null,null,null,"KH","S"]
[null,null,"014",null,null,"Alte Leipziger Versicherung AG; Oberursel",54050000,21,"21","F21","21","Ja",null,null,null,{"$f":"IF(Fuhrparkliste!P50=\"\",\"\",CONCATENATE(\"F\",Fuhrparkliste!P50))","v":""},{"$f":"IF(Fuhrparkliste!Q50=\"\",\"\",CONCATENATE(\"F\",Fuhrparkliste!Q50))","v":""},null,null,null,null,null,"KH","L"]
[null,null,"024",null,null,"Alte Leipziger Versicherung AG; Oberursel",54050200,20,"20","F20","20","Ja",null,null,null,{"$f":"IF(Fuhrparkliste!P51=\"\",\"\",CONCATENATE(\"F\",Fuhrparkliste!P51))","v":""},{"$f":"IF(Fuhrparkliste!Q51=\"\",\"\",CONCATENATE(\"F\",Fuhrparkliste!Q51))","v":""},null,null,null,null,null,"KL","L"]
[null,null,"030",null,null,"ARAG Allgemeine Versicherungs-AG; Düsseldorf",54550000,19,"19","F19","19","Ja",null,null,null,{"$f":"IF(Fuhrparkliste!P52=\"\",\"\",CONCATENATE(\"F\",Fuhrparkliste!P52))","v":""},{"$f":"IF(Fuhrparkliste!Q52=\"\",\"\",CONCATENATE(\"F\",Fuhrparkliste!Q52))","v":""},null,null,null,null,null,"KL","S"]
[null,null,"031",null,null,"Arisa Assurances S.A.; Luxemburg",73660000,18,"18","F18","18","Ja",null,null,null,{"$f":"IF(Fuhrparkliste!P53=\"\",\"\",CONCATENATE(\"F\",Fuhrparkliste!P53))","v":""},{"$f":"IF(Fuhrparkliste!Q53=\"\",\"\",CONCATENATE(\"F\",Fuhrparkliste!Q53))","v":""},null,null,null,null,null,"KS","L"]
[null,null,"112",null,null,"Arisa Assurances S.A.; Luxemburg",73660009,17,"17","F17","17","Ja",null,null,null,{"$f":"IF(Fuhrparkliste!P54=\"\",\"\",CONCATENATE(\"F\",Fuhrparkliste!P54))","v":""},{"$f":"IF(Fuhrparkliste!Q54=\"\",\"\",CONCATENATE(\"F\",Fuhrparkliste!Q54))","v":""},null,null,null,null,null,"KS","S"]
[null,null,"127",null,null,"Arisa Assurances S.A.; Luxemburg",73660012,16,"16","F16","16","Ja",null,null,null,{"$f":"IF(Fuhrparkliste!P55=\"\",\"\",CONCATENATE(\"F\",Fuhrparkliste!P55))","v":""},{"$f":"IF(Fuhrparkliste!Q55=\"\",\"\",CONCATENATE(\"F\",Fuhrparkliste!Q55))","v":""},null,null,null,null,null,"L","S"]
[null,null,"251",null,null,"Arisa Assurances S.A.; Luxemburg",73660026,15,"15","F15","15","Ja",null,null,null,{"$f":"IF(Fuhrparkliste!P56=\"\",\"\",CONCATENATE(\"F\",Fuhrparkliste!P56))","v":""},{"$f":"IF(Fuhrparkliste!Q56=\"\",\"\",CONCATENATE(\"F\",Fuhrparkliste!Q56))","v":""},null,null,null,null,null,"L","L"]
[null,null,"261",null,null,"Arisa Assurances S.A.; Luxemburg",73660030,14,"14","F14","14","Ja",null,null,null,{"$f":"IF(Fuhrparkliste!P57=\"\",\"\",CONCATENATE(\"F\",Fuhrparkliste!P57))","v":""},{"$f":"IF(Fuhrparkliste!Q57=\"\",\"\",CONCATENATE(\"F\",Fuhrparkliste!Q57))","v":""},null,null,null,null,null,"LA","L"]
[null,null,"351",null,null,"Arisa Assurances S.A.; Luxemburg",73660043,13,"13","F13","13","Ja",null,null,null,{"$f":"IF(Fuhrparkliste!P58=\"\",\"\",CONCATENATE(\"F\",Fuhrparkliste!P58))","v":""},{"$f":"IF(Fuhrparkliste!Q58=\"\",\"\",CONCATENATE(\"F\",Fuhrparkliste!Q58))","v":""},null,null,null,null,null,"LA","S"]
[null,null,"361",null,null,"Arisa Assurances S.A.; Luxemburg",73660057,12,"12","F12","12","Ja",null,null,null,{"$f":"IF(Fuhrparkliste!P59=\"\",\"\",CONCATENATE(\"F\",Fuhrparkliste!P59))","v":""},{"$f":"IF(Fuhrparkliste!Q59=\"\",\"\",CONCATENATE(\"F\",Fuhrparkliste!Q59))","v":""},null,null,null,null,null,"M","S"]
[null,null,"401",null,null,"Arisa Assurances S.A.; Luxemburg",73660060,11,"11","F11","11","Ja",null,null,null,{"$f":"IF(Fuhrparkliste!P60=\"\",\"\",CONCATENATE(\"F\",Fuhrparkliste!P60))","v":""},{"$f":"IF(Fuhrparkliste!Q60=\"\",\"\",CONCATENATE(\"F\",Fuhrparkliste!Q60))","v":""},null,null,null,null,null,"M","L"]
[null,null,"411",null,null,"Arisa Assurances S.A.; Luxemburg",73660074,10,"10","F10","10","Ja",null,null,null,{"$f":"IF(Fuhrparkliste!P61=\"\",\"\",CONCATENATE(\"F\",Fuhrparkliste!P61))","v":""},{"$f":"IF(Fuhrparkliste!Q61=\"\",\"\",CONCATENATE(\"F\",Fuhrparkliste!Q61))","v":""},null,null,null,null,null,"MZ","S"]
[null,null,"451",null,null,"Arisa Assurances S.A.; Luxemburg",73660088,9,"F9","F9",9,"Ja",null,null,null,{"$f":"IF(Fuhrparkliste!P62=\"\",\"\",CONCATENATE(\"F\",Fuhrparkliste!P62))","v":""},{"$f":"IF(Fuhrparkliste!Q62=\"\",\"\",CONCATENATE(\"F\",Fuhrparkliste!Q62))","v":""},null,null,null,null,null,"MZ","L"]
[null,null,"541",null,null,"Arisa Assurances S.A.; Luxemburg",73660091,8,"F8","F8",8,"Ja",null,null,null,{"$f":"IF(Fuhrparkliste!P63=\"\",\"\",CONCATENATE(\"F\",Fuhrparkliste!P63))","v":""},{"$f":"IF(Fuhrparkliste!Q63=\"\",\"\",CONCATENATE(\"F\",Fuhrparkliste!Q63))","v":""},null,null,null,null,null,"NR","S"]
[null,null,"542",null,null,"Arisa Assurances S.A.; Luxemburg",73660100,7,"F7","F7",7,"Ja",null,null,null,{"$f":"IF(Fuhrparkliste!P64=\"\",\"\",CONCATENATE(\"F\",Fuhrparkliste!P64))","v":""},{"$f":"IF(Fuhrparkliste!Q64=\"\",\"\",CONCATENATE(\"F\",Fuhrparkliste!Q64))","v":""},null,null,null,null,null,"NR","L"]
[null,null,"551",null,null,"Arisa Assurances S.A.; Luxemburg",73660114,6,"F6","F6",6,"Ja",null,null,null,{"$f":"IF(Fuhrparkliste!P65=\"\",\"\",CONCATENATE(\"F\",Fuhrparkliste!P65))","v":""},{"$f":"IF(Fuhrparkliste!Q65=\"\",\"\",CONCATENATE(\"F\",Fuhrparkliste!Q65))","v":""},null,null,null,null,null,"OF","S"]
[null,null,"581",null,null,"Arriva Incurance Company Lmtd c/o van Ameyde Germany AG; Köln",79990000,5,"F5","F5",5,"Ja",null,null,null,{"$f":"IF(Fuhrparkliste!P66=\"\",\"\",CONCATENATE(\"F\",Fuhrparkliste!P66))","v":""},{"$f":"IF(Fuhrparkliste!Q66=\"\",\"\",CONCATENATE(\"F\",Fuhrparkliste!Q66))","v":""},null,null,null,null,null,"OF","L"]
[null,null,"591",null,null,"Arriva Incurance Company Lmtd c/o van Ameyde Germany AG; Köln",79990002,4,"F4","F4",4,"Ja",null,null,null,{"$f":"IF(Fuhrparkliste!P67=\"\",\"\",CONCATENATE(\"F\",Fuhrparkliste!P67))","v":""},{"$f":"IF(Fuhrparkliste!Q67=\"\",\"\",CONCATENATE(\"F\",Fuhrparkliste!Q67))","v":""},null,null,null,null,null,"OL","S"]
[null,null,"709",null,null,"ASSTEL Sachversicherung AG; Köln",53970000,3,"F3","F3",3,"Nein",null,null,null,{"$f":"IF(Fuhrparkliste!P68=\"\",\"\",CONCATENATE(\"F\",Fuhrparkliste!P68))","v":""},{"$f":"IF(Fuhrparkliste!Q68=\"\",\"\",CONCATENATE(\"F\",Fuhrparkliste!Q68))","v":""},null,null,null,null,null,"OL","L"]
[null,null,"714",null,null,"ASSTEL Sachversicherung AG; Köln",53970008,2,"F2","F2",2,"Nein",null,null,null,{"$f":"IF(Fuhrparkliste!P69=\"\",\"\",CONCATENATE(\"F\",Fuhrparkliste!P69))","v":""},{"$f":"IF(Fuhrparkliste!Q69=\"\",\"\",CONCATENATE(\"F\",Fuhrparkliste!Q69))","v":""},null,null,null,null,null,"OS","L"]
[null,null,"719",null,null,"Avetas Versicherungs-AG; Bad Homburg",51320000,1,"F1","F1",1,"Nein",null,null,null,{"$f":"IF(Fuhrparkliste!P70=\"\",\"\",CONCATENATE(\"F\",Fuhrparkliste!P70))","v":""},{"$f":"IF(Fuhrparkliste!Q70=\"\",\"\",CONCATENATE(\"F\",Fuhrparkliste!Q70))","v":""},null,null,null,null,null,"OS","S"]
[null,null,null,null,null,"Avetas Versicherungs-AG; Bad Homburg",51320006,"1/2","F0","F1/2",0,"Nein",null,null,null,{"$f":"IF(Fuhrparkliste!P71=\"\",\"\",CONCATENATE(\"F\",Fuhrparkliste!P71))","v":""},{"$f":"IF(Fuhrparkliste!Q71=\"\",\"\",CONCATENATE(\"F\",Fuhrparkliste!Q71))","v":""},null,null,null,null,null,"PA","L"]
[null,null,null,null,null,"AXA easy Versicherung AG; Köln",51550000,"S","S","FS","S","Nein",null,null,null,{"$f":"IF(Fuhrparkliste!P72=\"\",\"\",CONCATENATE(\"F\",Fuhrparkliste!P72))","v":""},{"$f":"IF(Fuhrparkliste!Q72=\"\",\"\",CONCATENATE(\"F\",Fuhrparkliste!Q72))","v":""},null,null,null,null,null,"PA","S"]
[null,null,null,null,null,"AXA easy Versicherung AG; Köln",51550004,0,"A0","F0","1/2","Nein",null,null,null,{"$f":"IF(Fuhrparkliste!P73=\"\",\"\",CONCATENATE(\"F\",Fuhrparkliste!P73))","v":""},{"$f":"IF(Fuhrparkliste!Q73=\"\",\"\",CONCATENATE(\"F\",Fuhrparkliste!Q73))","v":""},null,null,null,null,null,"PF","L"]
[null,null,null,null,null,"AXA Versicherung AG; Köln",55150000,"M","M","FM","M","Nein",null,null,null,{"$f":"IF(Fuhrparkliste!P74=\"\",\"\",CONCATENATE(\"F\",Fuhrparkliste!P74))","v":""},{"$f":"IF(Fuhrparkliste!Q74=\"\",\"\",CONCATENATE(\"F\",Fuhrparkliste!Q74))","v":""},null,null,null,null,null,"PF","S"]
[null,null,null,null,null,"AXA Versicherung AG; Köln",55150005,null,null,null,null,null,null,null,null,{"$f":"IF(Fuhrparkliste!P75=\"\",\"\",CONCATENATE(\"F\",Fuhrparkliste!P75))","v":""},{"$f":"IF(Fuhrparkliste!Q75=\"\",\"\",CONCATENATE(\"F\",Fuhrparkliste!Q75))","v":""},null,null,null,null,null,"PS","L"]
[null,null,null,null,null,"Badische Allgemeine Vers. AG Verwaltungsdirektion Karlsruhe; Karlsruhe",55930019,null,null,null,null,null,null,null,null,{"$f":"IF(Fuhrparkliste!P76=\"\",\"\",CONCATENATE(\"F\",Fuhrparkliste!P76))","v":""},{"$f":"IF(Fuhrparkliste!Q76=\"\",\"\",CONCATENATE(\"F\",Fuhrparkliste!Q76))","v":""},null,null,null,null,null,"PS","S"]
[null,null,null,null,null,"Badische Allgemeine Versicherung AG; Karlsruhe",55930000,null,null,null,null,null,null,null,null,{"$f":"IF(Fuhrparkliste!P77=\"\",\"\",CONCATENATE(\"F\",Fuhrparkliste!P77))","v":""},{"$f":"IF(Fuhrparkliste!Q77=\"\",\"\",CONCATENATE(\"F\",Fuhrparkliste!Q77))","v":""},null,null,null,null,null,"R","S"]
[null,null,null,null,null,"Badischer Gemeinde-Vers.-Verb. Körpersch. d. öffentl. Rechts; Karlsruhe",53160000,null,null,null,null,null,null,null,null,{"$f":"IF(Fuhrparkliste!P78=\"\",\"\",CONCATENATE(\"F\",Fuhrparkliste!P78))","v":""},{"$f":"IF(Fuhrparkliste!Q78=\"\",\"\",CONCATENATE(\"F\",Fuhrparkliste!Q78))","v":""},null,null,null,null,null,"R","L"]
[null,null,null,null,null,"Badischer Gemeinde-Versicher- ungs-Verband; Karlsruhe",53160019,null,null,null,null,null,null,null,null,{"$f":"IF(Fuhrparkliste!P79=\"\",\"\",CONCATENATE(\"F\",Fuhrparkliste!P79))","v":""},{"$f":"IF(Fuhrparkliste!Q79=\"\",\"\",CONCATENATE(\"F\",Fuhrparkliste!Q79))","v":""},null,null,null,null,null,"RO","S"]
[null,null,null,null,null,"Barmenia Allgemeine Versicherungs-AG; Wuppertal",53170000,null,null,null,null,null,null,null,null,{"$f":"IF(Fuhrparkliste!P80=\"\",\"\",CONCATENATE(\"F\",Fuhrparkliste!P80))","v":""},{"$f":"IF(Fuhrparkliste!Q80=\"\",\"\",CONCATENATE(\"F\",Fuhrparkliste!Q80))","v":""},null,null,null,null,null,"RO","L"]
[null,null,null,null,null,"Barmenia Versicherungen; Wuppertal",53170505,null,null,null,null,null,null,null,null,{"$f":"IF(Fuhrparkliste!P81=\"\",\"\",CONCATENATE(\"F\",Fuhrparkliste!P81))","v":""},{"$f":"IF(Fuhrparkliste!Q81=\"\",\"\",CONCATENATE(\"F\",Fuhrparkliste!Q81))","v":""},null,null,null,null,null,"SR","S"]
[null,null,null,null,null,"Basler Securitas Vers. AG Volvo Auto-Vers.; Bremen",56337009,null,null,null,null,null,null,null,null,{"$f":"IF(Fuhrparkliste!P82=\"\",\"\",CONCATENATE(\"F\",Fuhrparkliste!P82))","v":""},{"$f":"IF(Fuhrparkliste!Q82=\"\",\"\",CONCATENATE(\"F\",Fuhrparkliste!Q82))","v":""},null,null,null,null,null,"SR","L"]
[null,null,null,null,null,"Basler Securitas Vers. AG; Bad Homburg",56330000,null,null,null,null,null,null,null,null,{"$f":"IF(Fuhrparkliste!P83=\"\",\"\",CONCATENATE(\"F\",Fuhrparkliste!P83))","v":""},{"$f":"IF(Fuhrparkliste!Q83=\"\",\"\",CONCATENATE(\"F\",Fuhrparkliste!Q83))","v":""},null,null,null,null,null,"SW","L"]
[null,null,null,null,null,"Basler Securitas Vers. AG; Bad Homburg",56330004,null,null,null,null,null,null,null,null,{"$f":"IF(Fuhrparkliste!P84=\"\",\"\",CONCATENATE(\"F\",Fuhrparkliste!P84))","v":""},{"$f":"IF(Fuhrparkliste!Q84=\"\",\"\",CONCATENATE(\"F\",Fuhrparkliste!Q84))","v":""},null,null,null,null,null,"SW","S"]
[null,null,null,null,null,"Bayerische Beamten Versicherung AG; München",53100000,null,null,null,null,null,null,null,null,{"$f":"IF(Fuhrparkliste!P85=\"\",\"\",CONCATENATE(\"F\",Fuhrparkliste!P85))","v":""},{"$f":"IF(Fuhrparkliste!Q85=\"\",\"\",CONCATENATE(\"F\",Fuhrparkliste!Q85))","v":""},null,null,null,null,null,"UL","S"]
[null,null,null,null,null,"Bayerische Beamten Versicherung AG; München",53100027,null,null,null,null,null,null,null,null,{"$f":"IF(Fuhrparkliste!P86=\"\",\"\",CONCATENATE(\"F\",Fuhrparkliste!P86))","v":""},{"$f":"IF(Fuhrparkliste!Q86=\"\",\"\",CONCATENATE(\"F\",Fuhrparkliste!Q86))","v":""},null,null,null,null,null,"UL","L"]
[null,null,null,null,null,"Bayerischer Vers.-Verband Versicherungsgesellschaft; München",53240000,null,null,null,null,null,null,null,null,{"$f":"IF(Fuhrparkliste!P87=\"\",\"\",CONCATENATE(\"F\",Fuhrparkliste!P87))","v":""},{"$f":"IF(Fuhrparkliste!Q87=\"\",\"\",CONCATENATE(\"F\",Fuhrparkliste!Q87))","v":""},null,null,null,null,null,"WUE","L"]
[null,null,null,null,null,"Bayerischer Vers.-Verband Versicherungsgesellschaft; München",53240010,null,null,null,null,null,null,null,null,{"$f":"IF(Fuhrparkliste!P88=\"\",\"\",CONCATENATE(\"F\",Fuhrparkliste!P88))","v":""},{"$f":"IF(Fuhrparkliste!Q88=\"\",\"\",CONCATENATE(\"F\",Fuhrparkliste!Q88))","v":""},null,null,null,null,null,"WUE","S"]
[null,null,null,null,null,"BGV-Versicherung AG; Karlsruhe",51460000,null,null,null,null,null,null,null,null,{"$f":"IF(Fuhrparkliste!P89=\"\",\"\",CONCATENATE(\"F\",Fuhrparkliste!P89))","v":""},{"$f":"IF(Fuhrparkliste!Q89=\"\",\"\",CONCATENATE(\"F\",Fuhrparkliste!Q89))","v":""}]
[null,null,null,null,null,"BGV-Versicherung AG; Karlsruhe",51460016,null,null,null,null,null,null,null,null,{"$f":"IF(Fuhrparkliste!P90=\"\",\"\",CONCATENATE(\"F\",Fuhrparkliste!P90))","v":""},{"$f":"IF(Fuhrparkliste!Q90=\"\",\"\",CONCATENATE(\"F\",Fuhrparkliste!Q90))","v":""}]
[null,null,null,null,null,"BRUDERHILFE Sachvers. a.G im Raum der Kirchen; Kassel",50980002,null,null,null,null,null,null,null,null,{"$f":"IF(Fuhrparkliste!P91=\"\",\"\",CONCATENATE(\"F\",Fuhrparkliste!P91))","v":""},{"$f":"IF(Fuhrparkliste!Q91=\"\",\"\",CONCATENATE(\"F\",Fuhrparkliste!Q91))","v":""}]
[null,null,null,null,null,"BRUDERHILFE Sachvers. a.G. im Raum der Kirchen; Kassel",50980000,null,null,null,null,null,null,null,null,{"$f":"IF(Fuhrparkliste!P92=\"\",\"\",CONCATENATE(\"F\",Fuhrparkliste!P92))","v":""},{"$f":"IF(Fuhrparkliste!Q92=\"\",\"\",CONCATENATE(\"F\",Fuhrparkliste!Q92))","v":""}]
[null,null,null,null,null,"BTA Insurance Stock Company; Dieburg",78420007,null,null,null,null,null,null,null,null,{"$f":"IF(Fuhrparkliste!P93=\"\",\"\",CONCATENATE(\"F\",Fuhrparkliste!P93))","v":""},{"$f":"IF(Fuhrparkliste!Q93=\"\",\"\",CONCATENATE(\"F\",Fuhrparkliste!Q93))","v":""}]
[null,null,null,null,null,"BTA Insurance Stock Company; Riga",78420000,null,null,null,null,null,null,null,null,{"$f":"IF(Fuhrparkliste!P94=\"\",\"\",CONCATENATE(\"F\",Fuhrparkliste!P94))","v":""},{"$f":"IF(Fuhrparkliste!Q94=\"\",\"\",CONCATENATE(\"F\",Fuhrparkliste!Q94))","v":""}]
[null,null,null,null,null,"Chartis Europe S.A. Direktion für Deutschland; Frankfurt",55950000,null,null,null,null,null,null,null,null,{"$f":"IF(Fuhrparkliste!P95=\"\",\"\",CONCATENATE(\"F\",Fuhrparkliste!P95))","v":""},{"$f":"IF(Fuhrparkliste!Q95=\"\",\"\",CONCATENATE(\"F\",Fuhrparkliste!Q95))","v":""}]
[null,null,null,null,null,"Chartis Europe S.A. Filialdirektion Heilbronn; Heilbronn",55954807,null,null,null,null,null,null,null,null,{"$f":"IF(Fuhrparkliste!P96=\"\",\"\",CONCATENATE(\"F\",Fuhrparkliste!P96))","v":""},{"$f":"IF(Fuhrparkliste!Q96=\"\",\"\",CONCATENATE(\"F\",Fuhrparkliste!Q96))","v":""}]
[null,null,null,null,null,"Concordia Vers.-Ges. auf Gegenseitigkeit; Hannover",53380000,null,null,null,null,null,null,null,null,{"$f":"IF(Fuhrparkliste!P97=\"\",\"\",CONCATENATE(\"F\",Fuhrparkliste!P97))","v":""},{"$f":"IF(Fuhrparkliste!Q97=\"\",\"\",CONCATENATE(\"F\",Fuhrparkliste!Q97))","v":""}]
[null,null,null,null,null,"Concordia Vers.-Ges. auf Gegenseitigkeit; Hannover",53380002,null,null,null,null,null,null,null,null,{"$f":"IF(Fuhrparkliste!P98=\"\",\"\",CONCATENATE(\"F\",Fuhrparkliste!P98))","v":""},{"$f":"IF(Fuhrparkliste!Q98=\"\",\"\",CONCATENATE(\"F\",Fuhrparkliste!Q98))","v":""}]
[null,null,null,null,null,"Condor Allgemeine Versicherungs-AG; Hamburg",53390000,null,null,null,null,null,null,null,null,{"$f":"IF(Fuhrparkliste!P99=\"\",\"\",CONCATENATE(\"F\",Fuhrparkliste!P99))","v":""},{"$f":"IF(Fuhrparkliste!Q99=\"\",\"\",CONCATENATE(\"F\",Fuhrparkliste!Q99))","v":""}]
[null,null,null,null,null,"Condor Allgemeine Versicherungs-AG; Hamburg",53390003,null,null,null,null,null,null,null,null,{"$f":"IF(Fuhrparkliste!P100=\"\",\"\",CONCATENATE(\"F\",Fuhrparkliste!P100))","v":""},{"$f":"IF(Fuhrparkliste!Q100=\"\",\"\",CONCATENATE(\"F\",Fuhrparkliste!Q100))","v":""}]
[null,null,null,null,null,"Continentale Sachversicherung AG; Dortmund",53400000,null,null,null,null,null,null,null,null,{"$f":"IF(Fuhrparkliste!P101=\"\",\"\",CONCATENATE(\"F\",Fuhrparkliste!P101))","v":""},{"$f":"IF(Fuhrparkliste!Q101=\"\",\"\",CONCATENATE(\"F\",Fuhrparkliste!Q101))","v":""}]
[null,null,null,null,null,"Continentale Sachversicherung AG; Dortmund",53400008,null,null,null,null,null,null,null,null,{"$f":"IF(Fuhrparkliste!P102=\"\",\"\",CONCATENATE(\"F\",Fuhrparkliste!P102))","v":""},{"$f":"IF(Fuhrparkliste!Q102=\"\",\"\",CONCATENATE(\"F\",Fuhrparkliste!Q102))","v":""}]
[null,null,null,null,null,"Cosmos Versicherung AG; Saarbrücken",55520000,null,null,null,null,null,null,null,null,{"$f":"IF(Fuhrparkliste!P103=\"\",\"\",CONCATENATE(\"F\",Fuhrparkliste!P103))","v":""},{"$f":"IF(Fuhrparkliste!Q103=\"\",\"\",CONCATENATE(\"F\",Fuhrparkliste!Q103))","v":""}]
[null,null,null,null,null,"Cosmos Versicherung AG; Saarbrücken",55520003,null,null,null,null,null,null,null,null,{"$f":"IF(Fuhrparkliste!P104=\"\",\"\",CONCATENATE(\"F\",Fuhrparkliste!P104))","v":""},{"$f":"IF(Fuhrparkliste!Q104=\"\",\"\",CONCATENATE(\"F\",Fuhrparkliste!Q104))","v":""}]
[null,null,null,null,null,"D E V K Allgemeine Versicherungs-AG; Berlin",55130034,null,null,null,null,null,null,null,null,{"$f":"IF(Fuhrparkliste!P105=\"\",\"\",CONCATENATE(\"F\",Fuhrparkliste!P105))","v":""},{"$f":"IF(Fuhrparkliste!Q105=\"\",\"\",CONCATENATE(\"F\",Fuhrparkliste!Q105))","v":""}]
[null,null,null,null,null,"D E V K Allgemeine Versicherungs-AG; Dresden",55130207,null,null,null,null,null,null,null,null,{"$f":"IF(Fuhrparkliste!P106=\"\",\"\",CONCATENATE(\"F\",Fuhrparkliste!P106))","v":""},{"$f":"IF(Fuhrparkliste!Q106=\"\",\"\",CONCATENATE(\"F\",Fuhrparkliste!Q106))","v":""}]
[null,null,null,null,null,"D E V K Allgemeine Versicherungs-AG; Erfurt",55130184,null,null,null,null,null,null,null,null,{"$f":"IF(Fuhrparkliste!P107=\"\",\"\",CONCATENATE(\"F\",Fuhrparkliste!P107))","v":""},{"$f":"IF(Fuhrparkliste!Q107=\"\",\"\",CONCATENATE(\"F\",Fuhrparkliste!Q107))","v":""}]
[null,null,null,null,null,"D E V K Allgemeine Versicherungs-AG; Essen",55130020,null,null,null,null,null,null,null,null,{"$f":"IF(Fuhrparkliste!P108=\"\",\"\",CONCATENATE(\"F\",Fuhrparkliste!P108))","v":""},{"$f":"IF(Fuhrparkliste!Q108=\"\",\"\",CONCATENATE(\"F\",Fuhrparkliste!Q108))","v":""}]
[null,null,null,null,null,"D E V K Allgemeine Versicherungs-AG; Frankfurt",55130065,null,null,null,null,null,null,null,null,{"$f":"IF(Fuhrparkliste!P109=\"\",\"\",CONCATENATE(\"F\",Fuhrparkliste!P109))","v":""},{"$f":"IF(Fuhrparkliste!Q109=\"\",\"\",CONCATENATE(\"F\",Fuhrparkliste!Q109))","v":""}]
[null,null,null,null,null,"D E V K Allgemeine Versicherungs-AG; Hamburg",55130153,null,null,null,null,null,null,null,null,{"$f":"IF(Fuhrparkliste!P110=\"\",\"\",CONCATENATE(\"F\",Fuhrparkliste!P110))","v":""},{"$f":"IF(Fuhrparkliste!Q110=\"\",\"\",CONCATENATE(\"F\",Fuhrparkliste!Q110))","v":""}]
[null,null,null,null,null,"D E V K Allgemeine Versicherungs-AG; Hannover",55130048]
[null,null,null,null,null,"D E V K Allgemeine Versicherungs-AG; Karlsruhe",55130082]
[null,null,null,null,null,"D E V K Allgemeine Versicherungs-AG; Kassel",55130105]
[null,null,null,null,null,"D E V K Allgemeine Versicherungs-AG; Köln",55130000]
[null,null,null,null,null,"D E V K Allgemeine Versicherungs-AG; Köln",55130003]
[null,null,null,null,null,"D E V K Allgemeine Versicherungs-AG; Köln",55130051]
[null,null,null,null,null,"D E V K Allgemeine Versicherungs-AG; Mainz",55130167]
[null,null,null,null,null,"D E V K Allgemeine Versicherungs-AG; München",55130140]
[null,null,null,null,null,"D E V K Allgemeine Versicherungs-AG; Münster",55130198]
[null,null,null,null,null,"D E V K Allgemeine Versicherungs-AG; Nürnberg",55130224]
[null,null,null,null,null,"D E V K Allgemeine Versicherungs-AG; Regensburg",55130210]
[null,null,null,null,null,"D E V K Allgemeine Versicherungs-AG; Saarbrücken",55130241]
[null,null,null,null,null,"D E V K Allgemeine Versicherungs-AG; Schwerin",55130119]
[null,null,null,null,null,"D E V K Allgemeine Versicherungs-AG; Stuttgart",55130122]
[null,null,null,null,null,"D E V K Allgemeine Versicherungs-AG; Wuppertal",55130096]
[null,null,null,null,null,"DA Deutsche Allgemeine Versicherung AG; Oberursel",53430000]
[null,null,null,null,null,"DA Deutsche Allgemeine Versicherung AG; Oberursel",53430059]
[null,null,null,null,null,"DBV Deutsche Beamten- Versicherung AG; Wiesbaden",53110000]
[null,null,null,null,null,"Debeka Allgemeine Versicherung AG; Koblenz",55490000]
[null,null,null,null,null,"Debeka Allgemeine Versicherung AG; Koblenz",55490007]
[null,null,null,null,null,"deutsche internet versicherung ag; Dortmund",50840000]
[null,null,null,null,null,"deutsche internet versicherung ag; Dortmund",50840006]
[null,null,null,null,null,"DEVK Deutsche Eisenbahn Vers. Versicherungsverein a.G.; Berlin",53440032]
[null,null,null,null,null,"DEVK Deutsche Eisenbahn Vers. Versicherungsverein a.G.; Dresden",53440205]
[null,null,null,null,null,"DEVK Deutsche Eisenbahn Vers. Versicherungsverein a.G.; Erfurt",53440182]
[null,null,null,null,null,"DEVK Deutsche Eisenbahn Vers. Versicherungsverein a.G.; Essen",53440029]
[null,null,null,null,null,"DEVK Deutsche Eisenbahn Vers. Versicherungsverein a.G.; Frankfurt",53440063]
[null,null,null,null,null,"DEVK Deutsche Eisenbahn Vers. Versicherungsverein a.G.; Hamburg",53440151]
[null,null,null,null,null,"DEVK Deutsche Eisenbahn Vers. Versicherungsverein a.G.; Hannover",53440046]
[null,null,null,null,null,"DEVK Deutsche Eisenbahn Vers. Versicherungsverein a.G.; Karlsruhe",53440080]
[null,null,null,null,null,"DEVK Deutsche Eisenbahn Vers. Versicherungsverein a.G.; Kassel",53440103]
[null,null,null,null,null,"DEVK Deutsche Eisenbahn Vers. Versicherungsverein a.G.; Köln",53440000]
[null,null,null,null,null,"DEVK Deutsche Eisenbahn Vers. Versicherungsverein a.G.; Köln",53440001]
[null,null,null,null,null,"DEVK Deutsche Eisenbahn Vers. Versicherungsverein a.G.; Köln",53440050]
[null,null,null,null,null,"DEVK Deutsche Eisenbahn Vers. Versicherungsverein a.G.; Mainz",53440165]
[null,null,null,null,null,"DEVK Deutsche Eisenbahn Vers. Versicherungsverein a.G.; München",53440148]
[null,null,null,null,null,"DEVK Deutsche Eisenbahn Vers. Versicherungsverein a.G.; Münster",53440196]
[null,null,null,null,null,"DEVK Deutsche Eisenbahn Vers. Versicherungsverein a.G.; Nürnberg",53440222]
[null,null,null,null,null,"DEVK Deutsche Eisenbahn Vers. Versicherungsverein a.G.; Regensburg",53440219]
[null,null,null,null,null,"DEVK Deutsche Eisenbahn Vers. Versicherungsverein a.G.; Saarbrücken",53440240]
[null,null,null,null,null,"DEVK Deutsche Eisenbahn Vers. Versicherungsverein a.G.; Schwerin",53440117]
[null,null,null,null,null,"DEVK Deutsche Eisenbahn Vers. Versicherungsverein a.G.; Stuttgart",53440120]
[null,null,null,null,null,"DEVK Deutsche Eisenbahn Vers. Versicherungsverein a.G.; Wuppertal",53440094]
[null,null,null,null,null,"Direct Line Versicherung AG; Teltow",50550000]
[null,null,null,null,null,"Direct Line Versicherung AG; Teltow",50550009]
[null,null,null,null,null,"ERGO Direkt Versicherung AG; Nürnberg",55620000]
[null,null,null,null,null,"ERGO Direkt Versicherung AG; Nürnberg",55620006]
[null,null,null,null,null,"ERGO Versicherung AG; Berlin",54721000]
[null,null,null,null,null,"ERGO Versicherung AG; Düsseldorf",54720000]
[null,null,null,null,null,"ERGO Versicherung AG; Düsseldorf",54720003]
[null,null,null,null,null,"ERGO Versicherung AG; Düsseldorf",54727127]
[null,null,null,null,null,"ERGO Versicherung AG; Hamburg",54725019]
[null,null,null,null,null,"ERGO Versicherung AG; Leipzig",54727158]
[null,null,null,null,null,"ERGO Versicherung AG; Mannheim",54727073]
[null,null,null,null,null,"ERGO Versicherung AG; München",54727011]
[null,null,null,null,null,"ERGO Versicherung AG; Nürnberg",54724012]
[null,null,null,null,null,"Euro Insurances Ltd. Van Ameyde Germany AG; Köln",76410000]
[null,null,null,null,null,"EUROPA Versicherung AG Servicecenter Kfz; Dortmund",55080019]
[null,null,null,null,null,"EUROPA Versicherung AG; Köln",55080000]
[null,null,null,null,null,"Fahrlehrerversicherung Verein auf Gegenseitigkeit; Stuttgart",54700000]
[null,null,null,null,null,"Fahrlehrerversicherung Verein auf Gegenseitigkeit; Stuttgart",54700001]
[null,null,null,null,null,"Feuersozietät Berlin Brandenb urg Vers. AG; Berlin",50240000]
[null,null,null,null,null,"GARANTA Versicherungs-AG; Nürnberg",55050000]
[null,null,null,null,null,"GARANTA Versicherungs-AG; Nürnberg",55056000]
[null,null,null,null,null,"GEGENSEITIGKEIT Versicherung Oldenburg; Oldenburg",53650000]
[null,null,null,null,null,"GEGENSEITIGKEIT Versicherung Oldenburg; Oldenburg",53650008]
[null,null,null,null,null,"Gemeinnützige Haftpflicht Vers.anstalt Darmstadt; Darmstadt",86090000]
[null,null,null,null,null,"Gemeinnützige Haftpflicht Vers.anstalt Darmstadt; Darmstadt",86090001]
[null,null,null,null,null,"Generali Versicherung AG (ehem. Volksfürsorge); München",54730000]
[null,null,null,null,null,"Generali Versicherung AG (ehem. Volksfürsorge); München",54730004]
[null,null,null,null,null,"Generlai Versicherung AG (ehem. Volksfürsorge); Hamburg",54732007]
[null,null,null,null,null,"Gothaer Allgemeine Vers. AG Hauptverwaltung Köln; Köln",58580005]
[null,null,null,null,null,"Gothaer Allgemeine Vers. AG; Köln",58580000]
[null,null,null,null,null,"GVV-Kommunalversicherung VVaG; Köln",54690000]
[null,null,null,null,null,"GVV-Kommunalversicherung VVaG; Köln",54690010]
[null,null,null,null,null,"GVV-Privatversicherung AG.; Köln",55850000]
[null,null,null,null,null,"GVV-Privatversicherung AG.; Köln",55850018]
[null,null,null,null,null,"Haftgem. Deutscher Nahv.- u. Vers.-unternehmen Allgem.VVaG; Bochum",50440000]
[null,null,null,null,null,"Haftgem. Deutscher Nahv.- u. Vers.-unternehmen Allgem.VVaG; Bochum",50440005]
[null,null,null,null,null,"Haftpfl.-Unterstützungs-Kasse kraftf. Beamter Deutschl. a.G.; Coburg",53750000]
[null,null,null,null,null,"Haftpflichtvers.-anstalt der Braunschw. landw. Berufsgen.; Braunschweig",86120000]
[null,null,null,null,null,"Haftpflichtvers.-anstalt der Braunschw. landw. Berufsgen.; Braunschweig",86120008]
[null,null,null,null,null,"Hannoversche Direktvers. AG; Hannover",51310005]
[null,null,null,null,null,"Hannoversche Direktvers.; Hannover",51310000]
[null,null,null,null,null,"Hanse-Merkur Allgemeine Versicherung AG; Hamburg",55010000]
[null,null,null,null,null,"Hanse-Merkur Allgemeine Versicherung AG; Hamburg",55010009]
[null,null,null,null,null,"HDI Direkt Versicherung AG; Berlin",50850109]
[null,null,null,null,null,"HDI Direkt Versicherung AG; Berlin",50850112]
[null,null,null,null,null,"HDI Direkt Versicherung AG; Dortmund",50850466]
[null,null,null,null,null,"HDI Direkt Versicherung AG; Düsseldorf",50850404]
[null,null,null,null,null,"HDI Direkt Versicherung AG; Düsseldorf",50850920]
[null,null,null,null,null,"HDI Direkt Versicherung AG; Essen",50850435]
[null,null,null,null,null,"HDI Direkt Versicherung AG; Hamburg",50850200]
[null,null,null,null,null,"HDI Direkt Versicherung AG; Hannover",50850000]
[null,null,null,null,null,"HDI Direkt Versicherung AG; Hannover",50850024]
[null,null,null,null,null,"HDI Direkt Versicherung AG; Hannover",50850302]
[null,null,null,null,null,"HDI Direkt Versicherung AG; Hannover",50850364]
[null,null,null,null,null,"HDI Direkt Versicherung AG; Leipzig",50850130]
[null,null,null,null,null,"HDI Direkt Versicherung AG; Mainz",50850656]
[null,null,null,null,null,"HDI Direkt Versicherung AG; München",50850801]
[null,null,null,null,null,"HDI Direkt Versicherung AG; Nürnberg",50850850]
[null,null,null,null,null,"HDI Direkt Versicherung AG; Stuttgart",50850700]
[null,null,null,null,null,"HDI Gerling Firmen- und Privat vers. AG / Organisation; Hannover",55129217]
[null,null,null,null,null,"HDI Gerling Firmen- und Privat vers. AG / Zentralinkasso; Hannover",55121009]
[null,null,null,null,null,"HDI Gerling Firmen- und Privat vers. AG; Hannover",55120000]
[null,null,null,null,null,"HDI Gerling Firmen- und Privat vers. AG; Hannover",55120016]
[null,null,null,null,null,"HDI Gerling Firmen- und Privat vers. AG; Hannover",55120532]
[null,null,null,null,null,"HDI-Gerling Industrie Vers. AG; Berlin",50961007]
[null,null,null,null,null,"HDI-Gerling Industrie Vers. AG; Dortmund",50964607]
[null,null,null,null,null,"HDI-Gerling Industrie Vers. AG; Düsseldorf",50964006]
[null,null,null,null,null,"HDI-Gerling Industrie Vers. AG; Essen",50964301]
[null,null,null,null,null,"HDI-Gerling Industrie Vers. AG; Hamburg",50962003]
[null,null,null,null,null,"HDI-Gerling Industrie Vers. AG; Hannover",50960000]
[null,null,null,null,null,"HDI-Gerling Industrie Vers. AG; Hannover",50960028]
[null,null,null,null,null,"HDI-Gerling Industrie Vers. AG; Hannover",50963000]
[null,null,null,null,null,"HDI-Gerling Industrie Vers. AG; Leipzig",50961302]
[null,null,null,null,null,"HDI-Gerling Industrie Vers. AG; Mainz",50966508]
[null,null,null,null,null,"HDI-Gerling Industrie Vers. AG; München",50968001]
[null,null,null,null,null,"HDI-Gerling Industrie Vers. AG; Nürnberg",50968500]
[null,null,null,null,null,"HDI-Gerling Industrie Vers. AG; Stuttgart",50967005]
[null,null,null,null,null,"Helvetia Schweiz. Vers.Ges. Direktion für Deutschland; Frankfurt",53840000]
[null,null,null,null,null,"Helvetia Schweiz. Vers.Ges. Direktion für Deutschland; Frankfurt",53840002]
[null,null,null,null,null,"Helvetia Schweiz. Vers.Ges. Filialdirektion; Berlin",53840016]
[null,null,null,null,null,"Helvetia Schweiz. Vers.Ges. Filialdirektion; Nürnberg",53840121]
[null,null,null,null,null,"Helvetia Schweiz. Vers.Ges. Firma C. Wm. König; Bremen",53840020]
[null,null,null,null,null,"Helvetia Schweizerische Versicherungsgesellschaft; Frankfurt",53840047]
[null,null,null,null,null,"Helvetia Schweizerische Versicherungsgesellschaft; Hannover",53840078]
[null,null,null,null,null,"Helvetia Schweizerische Versicherungsgesellschaft; Karlsruhe",53840081]
[null,null,null,null,null,"Helvetia Schweizerische Versicherungsgesellschaft; Köln",53840095]
[null,null,null,null,null,"Helvetia Schweizerische Versicherungsgesellschaft; München",53840118]
[null,null,null,null,null,"HISCOX Insurance Company Lmtd. Niederlassg. Deutschland; München",50790000]
[null,null,null,null,null,"HISCOX Insurance Company Lmtd. Niederlassg. Deutschland; München",50790008]
[null,null,null,null,null,"HUK24 AG; Coburg",50860000]
[null,null,null,null,null,"HUK24 AG; Coburg",50860008]
[null,null,null,null,null,"HUK-COBURG-Allgemeine Versicherungs AG; Coburg",55210000]
[null,null,null,null,null,"HUK-COBURG-Allgemeine Versicherungs AG; Coburg",55210004]
[null,null,null,null,null,"Itzehoer Versicherung / Brandgilde von 1691 VVaG; Itzehoe",54010000]
[null,null,null,null,null,"Itzehoer Versicherung Brandgilde von 1691 VVaG; Itzehoe",54010003]
[null,null,null,null,null,"Janitos Versicherung AG; Heidelberg",50780000]
[null,null,null,null,null,"Janitos Versicherung AG; Heidelberg",50780007]
[null,null,null,null,null,"Karlsruher Versicherung AG; Karlsruhe",55090000]
[null,null,null,null,null,"Karlsruher Versicherung AG; Karlsruhe",55090006]
[null,null,null,null,null,"Karlsruher Versicherung AG; Karlsruhe",55700000]
[null,null,null,null,null,"Karlsruher Versicherung AG; Karlsruhe",55700007]
[null,null,null,null,null,"KRAVAG und SVG Assekuranz Service GmbH; Hannover",50800152]
[null,null,null,null,null,"KRAVAG-ALLGEMEINE Vers. AG c/o R + V Allgem. Vers. AG; Frankfurt",50584700]
[null,null,null,null,null,"KRAVAG-ALLGEMEINE Vers. AG c/o R + V Allgem. Vers. AG; Hannover",50584608]
[null,null,null,null,null,"KRAVAG-ALLGEMEINE Vers. AG c/o R + V Allgem. Vers. AG; Stuttgart",50584801]
[null,null,null,null,null,"KRAVAG-ALLGEMEINE Versicherungs-AG; Hamburg",50580000]
[null,null,null,null,null,"KRAVAG-ALLGEMEINE Versicherungs-AG; Hamburg",50580179]
[null,null,null,null,null,"KRAVAG-LOGISTIC Vers.-AG c/o R+V Allgem. Vers. AG; Frankfurt",50804700]
[null,null,null,null,null,"KRAVAG-LOGISTIC Vers.-AG c/o R+V Allgem. Vers. AG; Hannover",50804609]
[null,null,null,null,null,"KRAVAG-LOGISTIC Vers.-AG c/o R+V Allgem. Vers. AG; Stuttgart",50804802]
[null,null,null,null,null,"KRAVAG-LOGISTIC Vers.-AG; Hamburg",50800000]
[null,null,null,null,null,"KRAVAG-LOGISTIC Vers.-AG; Hamburg",50800170]
[null,null,null,null,null,"Landesschadenhilfe Versicherung V.a.G; Bad Fallingbostel",53620000]
[null,null,null,null,null,"Landesschadenhilfe Versicherung V.a.G; Bad Fallingbostel",53620005]
[null,null,null,null,null,"Lippische Landes-Brandvers.-anstalt; Detmold","05050000"]
[null,null,null,null,null,"Lippische Landes-Brandvers.-anstalt; Detmold","05050002"]
[null,null,null,null,null,"Lloyd's Versicherer London Niederlassg. für Deutschland; Frankfurt",55920000]
[null,null,null,null,null,"Lloyd's Versicherer London Niederlassg. für Deutschland; Frankfurt",55920004]
[null,null,null,null,null,"LVM Landwirtschaftlicher Vers.verein Münster a.G.; Münster",54020000]
[null,null,null,null,null,"LVM Landwirtschaftlicher Vers.verein Münster a.G.; Münster",54020004]
[null,null,null,null,null,"Mannheimer Versicherung AG; Mannheim",50610000]
[null,null,null,null,null,"Mannheimer Versicherung AG; Mannheim",50610008]
[null,null,null,null,null,"Mecklenburgische Versicherungsgesellschaft a.G.; Hannover",54120000]
[null,null,null,null,null,"Mecklenburgische Versicherungsgesellschaft a.G.; Hannover",54120506]
[null,null,null,null,null,"MÜNCHENER VEREIN Allgemeine Versicherungs-AG; München",54140000]
[null,null,null,null,null,"MÜNCHENER VEREIN Allgemeine Versicherungs-AG; München",54140009]
[null,null,null,null,null,"Nürnberger Allgemeine Versicherungs-AG; Nürnberg",54260000]
[null,null,null,null,null,"Nürnberger Allgemeine Versicherungs-AG; Nürnberg",54265005]
[null,null,null,null,null,"NÜRNBERGER Beamten Allgemeine Versicherung AG; Nürnberg",56860000]
[null,null,null,null,null,"NÜRNBERGER Beamten Allgemeine Versicherung AG; Nürnberg",56867005]
[null,null,null,null,null,"Öffentl. Feuerversicherung Sachsen-Anhalt; Magdeburg","05220000"]
[null,null,null,null,null,"Öffentl. Feuerversicherung Sachsen-Anhalt; Magdeburg","05220019"]
[null,null,null,null,null,"Öffentliche Sachversicherung Braunschweig; Braunschweig","05010000"]
[null,null,null,null,null,"Öffentliche Sachversicherung Braunschweig; Braunschweig","05010009"]
[null,null,null,null,null,"OKV - Ostdeutsche Kommunalvers icherung auf Gegenseitigkeit; Berlin",57860000]
[null,null,null,null,null,"OKV - Ostdeutsche Kommunalvers icherung auf Gegenseitigkeit; Berlin",57860006]
[null,null,null,null,null,"Oldenburg. Landesbrandkasse; Oldenburg","05060000"]
[null,null,null,null,null,"Oldenburg. Landesbrandkasse; Oldenburg","05060003"]
[null,null,null,null,null,"OPTIMA Versicherungs-AG; Hamburg",55190000]
[null,null,null,null,null,"OPTIMA Versicherungs-AG; Hamburg",55190009]
[null,null,null,null,null,"OVAG - Ostdeutsche Versicherung AG; Berlin",57870000]
[null,null,null,null,null,"OVAG - Ostdeutsche Versicherung AG; Berlin",57870007]
[null,null,null,null,null,"Provinzial Nord Brandkasse AG; Hamburg",54460012]
[null,null,null,null,null,"Provinzial Nord Brandkasse AG; Kiel",54460000]
[null,null,null,null,null,"Provinzial Nord Brandkasse AG; Kiel",54460009]
[null,null,null,null,null,"Provinzial Rheinland Vers. AG Vers. der Sparkassen; Düsseldorf",50950000]
[null,null,null,null,null,"QBE Insuranc (Europe) Lmtd Direktion Deutschland; Düsseldorf",51200001]
[null,null,null,null,null,"QBE Insurance (Europe) Lmtd Direktion Deutschland; Düsseldorf",51200000]
[null,null,null,null,null,"R + V ALLGEM. VERSICHERUNG AG; Frankfurt",54384706]
[null,null,null,null,null,"R + V ALLGEM. VERSICHERUNG AG; Hannover",54384604]
[null,null,null,null,null,"R + V ALLGEM. VERSICHERUNG AG; Stuttgart",54384808]
[null,null,null,null,null,"R + V ALLGEM. VERSICHERUNG AG; Wiesbaden",54380000]
[null,null,null,null,null,"R + V Direktversicherung AG; Hannover",51374607]
[null,null,null,null,null,"R + V Direktversicherung AG; Wiesbaden",51370000]
[null,null,null,null,null,"Rheinland Versicherungs AG; Neuss",57980000]
[null,null,null,null,null,"Rheinland Versicherungs AG; Neuss",57980297]
[null,null,null,null,null,"S direkt Versicherung AG; Düsseldorf",50510000]
[null,null,null,null,null,"S direkt Versicherung AG; Düsseldorf",50510005]
[null,null,null,null,null,"Saarland Feuerversicherung AG; Saarbrücken",57730000]
[null,null,null,null,null,"SCHWARZMEER und OSTSEE Versicherungs-AG SOVAG; Berlin",56900201]
[null,null,null,null,null,"SCHWARZMEER und OSTSEE Versicherungs-AG SOVAG; Hamburg",56900000]
[null,null,null,null,null,"SCHWARZMEER und OSTSEE Versicherungs-AG SOVAG; Hamburg",56900008]
[null,null,null,null,null,"SCHWARZMEER und OSTSEE Versicherungs-AG SOVAG; Köln",56900100]
[null,null,null,null,null,"SCHWEIZER-NATIONAL Vers.-AG in Deutschland; Frankfurt",54480000]
[null,null,null,null,null,"SIGNAL IDUNA Allgemeine Versic herung AG; Dortmund",51250000]
[null,null,null,null,null,"SIGNAL IDUNA Allgemeine Versic herung AG; Dortmund",51250006]
[null,null,null,null,null,"Sparkassen Vers. Sachsen Allg. Versicherung AG; Dresden",57810000]
[null,null,null,null,null,"Sparkassen Vers. Sachsen Allg. Versicherung AG; Dresden",57810001]
[null,null,null,null,null,"SV Sparkassen-Vers. Gebäude- vers. AG; Stuttgart",50360000]
[null,null,null,null,null,"SV Sparkassen-Vers. Gebäude- vers. AG; Stuttgart",50360004]
[null,null,null,null,null,"SVG Baden-Württemberg Assek. GmbH / FD der KRAVAG-Vers.; Stuttgart",50800095]
[null,null,null,null,null,"SVG Bayern Assekuranz GmbH Filialdirekt. der KRAVAG-Vers.; München",50800121]
[null,null,null,null,null,"SVG Berlin Brandeburg GmbH Filialdir. der KRAVAG-Vers.; Berlin",50800223]
[null,null,null,null,null,"SVG Nord Assekuranz-Service Filialdir. der KRAVAG Vers.; Neumünster",50800016]
[null,null,null,null,null,"SVG Nordrhein Assek. GmbH Filialdir. d. KRAVAG-Vers.; Düsseldorf",50801043]
[null,null,null,null,null,"SVG Sachsen u.Thür.Asse. GmbH Filialdir. d. KRAVAG-Vers.; Dresden",50800550]
[null,null,null,null,null,"SVG Vers. u. Service GmbH Filialdir. d. KRAVAG-Vers.; Frankfurt/Main",50801060]
[null,null,null,null,null,"SVG Westfalen-Lippe Asse. GmbH Filialdirekt. der KRAVAG-Vers; Münster",50800081]
[null,null,null,null,null,"Uelzener Allgemeine Versicherungs-Ges. a.G.; Uelzen",54590000]
[null,null,null,null,null,"Uelzener Allgemeine Versicherungs-Ges. a.G.; Uelzen",54590004]
[null,null,null,null,null,"United Sercice Automobil Ass. Direktion für Deutschland; Frankfurt",54620000]
[null,null,null,null,null,"UNIVERSA Allgemeine Versicherung AG; Nürnberg",54630000]
[null,null,null,null,null,"UNIVERSA Allgemeine Versicherung AG; Nürnberg",54630001]
[null,null,null,null,null,"Van Ameyde Germany AG; Köln",76410005]
[null,null,null,null,null,"VAV Vers. f. Bauwirtschaft Allg. Vers.AG über Artus GmbH; München",72580000]
[null,null,null,null,null,"VAV Vers. f. Bauwirtschaft Allg. Vers.AG über Artus GmbH; München",72580002]
[null,null,null,null,null,"VdK Vers. d. Kraftfahrt Niederl. d. SIGNAL IDUNA; Berlin",51250010]
[null,null,null,null,null,"Versicherungskammer Bayern Vers.-Anstalt des ö. Rechts; München",50420000]
[null,null,null,null,null,"Versicherungskammer Bayern Vers.-Anstalt des ö. Rechts; München",50420017]
[null,null,null,null,null,"VGH Landsch.Brandkasse Hannov. K-Betrieb Bremen; Bremen",54000095]
[null,null,null,null,null,"VGH Landsch.Brandkasse Hannov. K-Betrieb Celle; Celle",54000149]
[null,null,null,null,null,"VGH Landsch.Brandkasse Hannov. K-Betrieb Emden; Emden",54000104]
[null,null,null,null,null,"VGH Landsch.Brandkasse Hannov. K-Betrieb Göttingen; Göttingen",54000078]
[null,null,null,null,null,"VGH Landsch.Brandkasse Hannov. K-Betrieb Hameln; Hameln",54000135]
[null,null,null,null,null,"VGH Landsch.Brandkasse Hannov. K-Betrieb Hildesheim; Hildesheim",54000118]
[null,null,null,null,null,"VGH Landsch.Brandkasse Hannov. K-Betrieb Lingen; Lingen",54000081]
[null,null,null,null,null,"VGH Landsch.Brandkasse Hannov. K-Betrieb Lüneburg; Lüneburg",54000047]
[null,null,null,null,null,"VGH Landsch.Brandkasse Hannov. K-Betrieb Nienburg; Nienburg",54000121]
[null,null,null,null,null,"VGH Landsch.Brandkasse Hannov. K-Betrieb Osnabrück; Osnabrück",54000064]
[null,null,null,null,null,"VGH Landsch.Brandkasse Hannov. K-Betrieb Stade; Stade",54000050]
[null,null,null,null,null,"VGH Landsch.Brandkasse Hannov. Lampe u. Schwarze KG GmbH; Bremen",54000166]
[null,null,null,null,null,"VGH Landsch.Brandkasse Hannov. Subdirekt.C.WM.König GmbH & C; Bremen",54000033]
[null,null,null,null,null,"VGH Landschaftliche Brand- kasse Hannover Kundencenter; Hannover",54000152]
[null,null,null,null,null,"VGH Landschaftliche Brand- kasse Hannover; Hannover",54000000]
[null,null,null,null,null,"VGH Landschaftliche Brand- kasse Hannover; Hannover",54000016]
[null,null,null,null,null,"VHV Allgemeine Vers. AG; Hannover",58620000]
[null,null,null,null,null,"VHV Allgemeine Vers. AG; Hannover",58620016]
[null,null,null,null,null,"VÖDAG Vers. f. d. öffentl. Die nst Niederl. ADLER Vers. AG; Hamburg",55810014]
[null,null,null,null,null,"VOLKSWOHL-BUND Sachvers. AG; Dortmund",54846006]
[null,null,null,null,null,"VOLKSWOHL-BUND Sachversicherung AG; Dortmund",54840000]
[null,null,null,null,null,"VVDE Vers.verband Deutscher Eisenbahnen VVaG; Köln",54680000]
[null,null,null,null,null,"VVDE Vers.verband Deutscher Eisenbahnen VVaG; Köln",54680010]
[null,null,null,null,null,"W.R. Berkley Insurance Europe Limited /Niederl. Deutschland; Köln",51520000]
[null,null,null,null,null,"W.R. Berkley Insurance Europe Limited /Niederl. Deutschland; Köln",51520001]
[null,null,null,null,null,"Westf. Provinz. Vers. AG; Münster",50930000]
[null,null,null,null,null,"Westf. Provinz. Vers. AG; Münster",50930008]
[null,null,null,null,null,"WGV-himmelblau; Stuttgart",55250011]
[null,null,null,null,null,"WGV-Versicherung AG Versicherung AG; Stuttgart",55250000]
[null,null,null,null,null,"WGV-Versicherung AG; Stuttgart",55250008]
[null,null,null,null,null,"WGV-Versicherung AG; Stuttgart",55251004]
[null,null,null,null,null,"Württ. Gemeinde-Vers. a.G.; Stuttgart",54790000]
[null,null,null,null,null,"Württ. Gemeinde-Vers. a.G.; Stuttgart",54791006]
[null,null,null,null,null,"Württembergische Vers. AG Gesch.stelle Karlsruhe; Karlsruhe",57831203]
[null,null,null,null,null,"Württembergische Vers. AG Servicebereich Hamburg; Hamburg",57836001]
[null,null,null,null,null,"Württembergische Vers. AG Servicebereich Hannover; Hannover",57835005]
[null,null,null,null,null,"Württembergische Vers. AG Servicebereich Köln; Köln",57834009]
[null,null,null,null,null,"Württembergische Vers. AG Servicebereich Leipzig; Leipzig",57836806]
[null,null,null,null,null,"Württembergische Vers. AG Servicebereich München; München",57832006]
[null,null,null,null,null,"Württembergische Vers. AG Servicebereich Stuttgart; Stuttgart",57831000]
[null,null,null,null,null,"Württembergische Versicherung AG; Stuttgart",57830000]
[null,null,null,null,null,"WWK Allgemeine Versicherung AG; München",54760000]
[null,null,null,null,null,"WWK Allgemeine Versicherung AG; München",54760007]
[null,null,null,null,null,"Zurich Connect; Frankfurt",79290003]
[null,null,null,null,null,"Zurich Insurance plc NfD Hauptniederlassung; Köln",51510000]
[null,null,null,null,null,"Zurich Insurance plc NfD Service-Center Gausmann; Düsseldorf",51510266]
[null,null,null,null,null,"Zurich Insurance plc NfD Zurich Kundenservice Köln; Köln",51510558]
[null,null,null,null,null,"Zuriche Insurance plc.; Dublin",79290000]

{"sheet":"tblKunde","index":3,"n_rows":2,"n_cols":19,"rows_kept":2,"cut":false,"hidden":true,"merged":[]}
["vnname","vnstrasse","vnplz","vnort","vnbranche","agenturnr","agenturvges","einsatzart","gefahrgut","flughafen","chemie","exponiertegelaende","bemerkung","zahlweise","lsv","blz","konto","kuendigungvorvu","UmsatzMioEUR"]
[{"$f":"VN_Name","v":0},{"$f":"VN_Strasse","v":0},{"$f":"VN_PLZ","v":0},{"$f":"VN_ORT","v":0},{"$f":"LEFT(Branche,8)","v":""},{"$f":"AGENTUR","v":0},{"$f":"VGES","v":0},{"$f":"EINSATZART","v":0},{"$f":"VLOOKUP(GEFAHRGUT,GEFAHRGUTMATRIXKEY,2,FALSE)","v":"00"},{"$f":"IF(FLUGHAFEN=\"Ja\",\"1\",IF(FLUGHAFEN=\"Nein\",\"0\",\"\"))","v":"0"},{"$f":"IF(CHEMIE=\"Ja\",\"1\",IF(CHEMIE=\"Nein\",\"0\",\"\"))","v":"0"},{"$f":"IF(EXPONIERT=\"Ja\",\"1\",IF(EXPONIERT=\"Nein\",\"0\",\"\"))","v":"0"},{"$f":"Basisdaten!B23","v":0},1,0,{"$f":"IF(O2=1,\"xxxxxx1xxxx\",\"\")","v":""},{"$f":"IF(O2=1,\"DE00000000000000000000\",\"\")","v":""},{"$f":"IF(KÜNDIGUNG=\"Ja\",\"1\",IF(KÜNDIGUNG=\"Nein\",\"0\",\"\"))","v":"0"},{"$f":"Umsatz","v":0}]

{"sheet":"tblRisiken","index":4,"n_rows":101,"n_cols":35,"rows_kept":101,"cut":false,"hidden":true,"merged":[]}
["count","produktmodell","wkz","akz1","akz2","akz3","fin","hsn","tsn","kw","elektro","gesamtgewicht","aufbau","neuwert","leasing","erstzulassung","fahrleistung","fahreralter","bedachungsart","zusldd","zusfus","zusumd","zuskhplus","zuskhRabattschutz","zusvkRabattschutz","zuswerkstatt","vorvu","vorvsnr","gefahrgut","khdeckung","khsfklasse","kfdeckung","kfsfklasse","sondereinstufung","akz"]
[{"$f":"IF(C2=\"\",\"\",CONCATENATE(\"0\",1))","v":""},{"$f":"IF(Fuhrparkliste!B11=\"\",\"\",IF(Fuhrparkliste!B11=\"112\",\"22\",\"26\"))","v":""},{"$f":"IF(Fuhrparkliste!B11=\"\",\"\",TRIM(IF(LEN(Fuhrparkliste!B11)=1,CONCATENATE(\"00\",Fuhrparkliste!B11),IF(LEN(Fuhrparkliste!B11)=2,CONCATENATE(\"0\",Fuhrparkliste!B11),CONCATENATE(Fuhrparkliste!B11,\" \")))))","v":""},{"$f":"IF(C2=\"\",\"\",IF(ISERROR(SEARCH(\"-\",AI2)),LEFT(AI2,15),LEFT(AI2,SEARCH(\"-\",AI2)-1)))","v":""},{"$f":"IF(ISERROR(MID(AI2,LEN(D2)+2,LEN(AI2)-LEN(D2)-LEN(F2)-1)),\"\",MID(AI2,LEN(D2)+2,LEN(AI2)-LEN(D2)-LEN(F2)-1))","v":""},{"$f":"RIGHT(AI2,COUNT(RIGHT(AI2,COLUMN(1:1))*1))","v":""},{"$f":"IF(Fuhrparkliste!I11=\"\",\"\",Fuhrparkliste!I11)","v":""},{"$f":"IF(Fuhrparkliste!F11=\"\",\"\",IF(LEN(Fuhrparkliste!F11)=1,CONCATENATE(\"000\",Fuhrparkliste!F11),IF(LEN(Fuhrparkliste!F11)=2,CONCATENATE(\"00\",Fuhrparkliste!F11),IF(LEN(Fuhrparkliste!F11)=3,CONCATENATE(\"0\",Fuhrparkliste!F11),LEFT(Fuhrparkliste!F11,4)))))","v":""},{"$f":"IF(Fuhrparkliste!G11=\"\",\"\",IF(LEN(Fuhrparkliste!G11)=1,CONCATENATE(\"00\",Fuhrparkliste!G11),IF(LEN(Fuhrparkliste!G11)=2,CONCATENATE(\"0\",Fuhrparkliste!G11),LEFT(Fuhrparkliste!G11,3))))","v":""},{"$f":"IF(C2=\"\",\"\",IF(OR(C2=\"581\",C2=\"541\",C2=\"542\",C2=\"591\",C2=\"714\",C2=\"719\"),\"\",IF(Fuhrparkliste!C11=\"\",\"0\",Fuhrparkliste!C11)))","v":""},{"$f":"IF(C2=\"\",\"\",IF(Fuhrparkliste!Z11=\"\",\"0\",VLOOKUP(Fuhrparkliste!Z11,ELEKTROMATRIXKEY,2,FALSE)))","v":""},{"$f":"IF(Fuhrparkliste!D11=\"\",\"\",Fuhrparkliste!D11)","v":""},{"$f":"IF(Fuhrparkliste!N11=\"\",\"\",VLOOKUP(Fuhrparkliste!N11,AUFBAUMATRIXKEY,2,FALSE))","v":""},{"$f":"IF(Fuhrparkliste!T11=\"\",\"\",Fuhrparkliste!T11)","v":""},{"$f":"IF(C2=\"\",\"\",IF(AND(Fuhrparkliste!M11=\"Ja\",C2=\"112\"),\"1\",\"0\"))","v":""},{"$f":"IF(Fuhrparkliste!H11=\"\",\"\",Fuhrparkliste!H11)","v":""},{"$f":"IF(Fuhrparkliste!J11=\"\",\"\",Fuhrparkliste!J11)","v":""},{"$f":"IF(C2<>\"112\",\"\",IF(Fuhrparkliste!K11=\"Ja\",\"1\",\"0\"))","v":""},{"$f":"IF(OR(Fuhrparkliste!L11=\"\",C2<>\"127\"),\"\",VLOOKUP(Fuhrparkliste!L11,Bedachungsart,2,FALSE))","v":""},{"$f":"IF(C2=\"\",\"\",IF(AND(Fuhrparkliste!X11=\"Ja\",C2=\"112\"),\"1\",\"0\"))","v":""},{"$f":"IF(C2=\"\",\"\",IF(AND(Fuhrparkliste!Y11=\"Ja\",OR(C2=\"112\",C2=\"251\")),\"1\",\"0\"))","v":""},{"$f":"IF(C2=\"\",\"\",\"0\")","v":""},{"$f":"IF(C2=\"\",\"\",IF(AND(Fuhrparkliste!W11=\"Ja\",C2=\"112\"),\"1\",\"0\"))","v":""},{"$f":"IF(C2=\"\",\"\",IF(AND(ISERROR(SEARCH(\"0??\",tblRisiken!C2)) =TRUE,ISERROR(SEARCH(\"1??\",tblRisiken!C2)) =TRUE),\"0\",IF(AND(Fuhrparkliste!U11=\"Ja\",VLOOKUP(Werte!P2,SFMATRIXKEY,3,FALSE)=\"Ja\"),\"1\",\"0\")))","v":""},{"$f":"IF(C2=\"\",\"\",IF(OR(AF2=\"00\",LEFT(AF2,1)=\"7\"),\"0\",IF(AND(ISERROR(SEARCH(\"0??\",C2)) =TRUE,ISERROR(SEARCH(\"1??\",C2)) =TRUE),\"0\",IF(AND(Fuhrparkliste!V11=\"Ja\",X2=\"1\",VLOOKUP(Werte!Q2,SFMATRIXKEY,3,FALSE)=\"Ja\"),\"1\",\"0\"))))","v":""},{"$f":"IF(C2=\"\",\"\",IF(AND(Fuhrparkliste!AA11=\"Ja\",C2=\"112\"),\"1\",\"0\"))","v":""},{"$f":"IF(Fuhrparkliste!AB11=\"\",\"\",VLOOKUP(Fuhrparkliste!AB11,MatrixVorVU,2,FALSE))","v":""},{"$f":"IF(Fuhrparkliste!AC11=\"\",\"\",Fuhrparkliste!AC11)","v":""},{"$f":"IF(C2=\"\",\"\",IF(Fuhrparkliste!O11=\"\",\"00\",VLOOKUP(Fuhrparkliste!O11,GEFAHRGUTMATRIXKEY,2,FALSE)))","v":""},{"$f":"IF(C2=\"\",\"\",\"11\")","v":""},{"$f":"IF(C2=\"\",\"\",IF(Werte!P2=\"\",\"F1\",VLOOKUP(Fuhrparkliste!P11,SFKOMPLETT,2,FALSE)))","v":""},{"$f":"IF(C2=\"\",\"\",IF(Fuhrparkliste!S11=\"\",\"00\",VLOOKUP(Fuhrparkliste!S11,KASKOMATRIXKEY,2,FALSE)))","v":""},{"$f":"IF(C2=\"\",\"\",IF(Werte!Q2=\"\",\"F1\",VLOOKUP(Fuhrparkliste!Q11,SFKOMPLETT,2,FALSE)))","v":""},{"$f":"IF(C2=\"\",\"\",Fuhrparkliste!R11)","v":""},{"$f":"SUBSTITUTE(Fuhrparkliste!E11,\" \",\"\")","v":""}]
[{"$f":"IF(C3=\"\",\"\",CONCATENATE(\"0\",A2+1))","v":""},{"$f":"IF(Fuhrparkliste!B12=\"\",\"\",IF(Fuhrparkliste!B12=\"112\",\"22\",\"26\"))","v":""},{"$f":"IF(Fuhrparkliste!B12=\"\",\"\",TRIM(IF(LEN(Fuhrparkliste!B12)=1,CONCATENATE(\"00\",Fuhrparkliste!B12),IF(LEN(Fuhrparkliste!B12)=2,CONCATENATE(\"0\",Fuhrparkliste!B12),CONCATENATE(Fuhrparkliste!B12,\" \")))))","v":""},{"$f":"IF(C3=\"\",\"\",IF(ISERROR(SEARCH(\"-\",AI3)),LEFT(AI3,15),LEFT(AI3,SEARCH(\"-\",AI3)-1)))","v":""},"",{"$f":"RIGHT(AI3,COUNT(RIGHT(AI3,COLUMN(2:2))*1))","v":""},{"$f":"IF(Fuhrparkliste!I12=\"\",\"\",Fuhrparkliste!I12)","v":""},{"$f":"IF(Fuhrparkliste!F12=\"\",\"\",IF(LEN(Fuhrparkliste!F12)=1,CONCATENATE(\"000\",Fuhrparkliste!F12),IF(LEN(Fuhrparkliste!F12)=2,CONCATENATE(\"00\",Fuhrparkliste!F12),IF(LEN(Fuhrparkliste!F12)=3,CONCATENATE(\"0\",Fuhrparkliste!F12),LEFT(Fuhrparkliste!F12,4)))))","v":""},{"$f":"IF(Fuhrparkliste!G12=\"\",\"\",IF(LEN(Fuhrparkliste!G12)=1,CONCATENATE(\"00\",Fuhrparkliste!G12),IF(LEN(Fuhrparkliste!G12)=2,CONCATENATE(\"0\",Fuhrparkliste!G12),LEFT(Fuhrparkliste!G12,3))))","v":""},{"$f":"IF(C3=\"\",\"\",IF(OR(C3=\"581\",C3=\"541\",C3=\"542\",C3=\"591\",C3=\"714\",C3=\"719\"),\"\",IF(Fuhrparkliste!C12=\"\",\"0\",Fuhrparkliste!C12)))","v":""},{"$f":"IF(C3=\"\",\"\",IF(Fuhrparkliste!Z12=\"\",\"0\",VLOOKUP(Fuhrparkliste!Z12,ELEKTROMATRIXKEY,2,FALSE)))","v":""},{"$f":"IF(Fuhrparkliste!D12=\"\",\"\",Fuhrparkliste!D12)","v":""},{"$f":"IF(Fuhrparkliste!N12=\"\",\"\",VLOOKUP(Fuhrparkliste!N12,AUFBAUMATRIXKEY,2,FALSE))","v":""},{"$f":"IF(Fuhrparkliste!T12=\"\",\"\",Fuhrparkliste!T12)","v":""},{"$f":"IF(C3=\"\",\"\",IF(AND(Fuhrparkliste!M12=\"Ja\",C3=\"112\"),\"1\",\"0\"))","v":""},{"$f":"IF(Fuhrparkliste!H12=\"\",\"\",Fuhrparkliste!H12)","v":""},{"$f":"IF(Fuhrparkliste!J12=\"\",\"\",Fuhrparkliste!J12)","v":""},{"$f":"IF(C3<>\"112\",\"\",IF(Fuhrparkliste!K12=\"Ja\",\"1\",\"0\"))","v":""},{"$f":"IF(OR(Fuhrparkliste!L12=\"\",C3<>\"127\"),\"\",VLOOKUP(Fuhrparkliste!L12,Bedachungsart,2,FALSE))","v":""},{"$f":"IF(C3=\"\",\"\",IF(AND(Fuhrparkliste!X12=\"Ja\",C3=\"112\"),\"1\",\"0\"))","v":""},{"$f":"IF(C3=\"\",\"\",IF(AND(Fuhrparkliste!Y12=\"Ja\",OR(C3=\"112\",C3=\"251\")),\"1\",\"0\"))","v":""},{"$f":"IF(C3=\"\",\"\",\"0\")","v":""},{"$f":"IF(C3=\"\",\"\",IF(AND(Fuhrparkliste!W12=\"Ja\",C3=\"112\"),\"1\",\"0\"))","v":""},{"$f":"IF(C3=\"\",\"\",IF(AND(ISERROR(SEARCH(\"0??\",tblRisiken!C3)) =TRUE,ISERROR(SEARCH(\"1??\",tblRisiken!C3)) =TRUE),\"0\",IF(AND(Fuhrparkliste!U12=\"Ja\",VLOOKUP(Werte!P3,SFMATRIXKEY,3,FALSE)=\"Ja\"),\"1\",\"0\")))","v":""},{"$f":"IF(C3=\"\",\"\",IF(OR(AF3=\"00\",LEFT(AF3,1)=\"7\"),\"0\",IF(AND(ISERROR(SEARCH(\"0??\",C3)) =TRUE,ISERROR(SEARCH(\"1??\",C3)) =TRUE),\"0\",IF(AND(Fuhrparkliste!V12=\"Ja\",X3=\"1\",VLOOKUP(Werte!Q3,SFMATRIXKEY,3,FALSE)=\"Ja\"),\"1\",\"0\"))))","v":""},{"$f":"IF(C3=\"\",\"\",IF(AND(Fuhrparkliste!AA12=\"Ja\",C3=\"112\"),\"1\",\"0\"))","v":""},{"$f":"IF(Fuhrparkliste!AB12=\"\",\"\",VLOOKUP(Fuhrparkliste!AB12,MatrixVorVU,2,FALSE))","v":""},{"$f":"IF(Fuhrparkliste!AC12=\"\",\"\",Fuhrparkliste!AC12)","v":""},{"$f":"IF(C3=\"\",\"\",IF(Fuhrparkliste!O12=\"\",\"00\",VLOOKUP(Fuhrparkliste!O12,GEFAHRGUTMATRIXKEY,2,FALSE)))","v":""},{"$f":"IF(C3=\"\",\"\",\"11\")","v":""},{"$f":"IF(C3=\"\",\"\",IF(Werte!P3=\"\",\"F1\",VLOOKUP(Fuhrparkliste!P12,SFKOMPLETT,2,FALSE)))","v":""},{"$f":"IF(C3=\"\",\"\",IF(Fuhrparkliste!S12=\"\",\"00\",VLOOKUP(Fuhrparkliste!S12,KASKOMATRIXKEY,2,FALSE)))","v":""},{"$f":"IF(C3=\"\",\"\",IF(Werte!Q3=\"\",\"F1\",VLOOKUP(Fuhrparkliste!Q12,SFKOMPLETT,2,FALSE)))","v":""},{"$f":"IF(C3=\"\",\"\",Fuhrparkliste!R12)","v":""},{"$f":"SUBSTITUTE(Fuhrparkliste!E12,\" \",\"\")","v":""}]
[{"$f":"IF(C4=\"\",\"\",CONCATENATE(\"0\",A3+1))","v":""},{"$f":"IF(Fuhrparkliste!B13=\"\",\"\",IF(Fuhrparkliste!B13=\"112\",\"22\",\"26\"))","v":""},{"$f":"IF(Fuhrparkliste!B13=\"\",\"\",TRIM(IF(LEN(Fuhrparkliste!B13)=1,CONCATENATE(\"00\",Fuhrparkliste!B13),IF(LEN(Fuhrparkliste!B13)=2,CONCATENATE(\"0\",Fuhrparkliste!B13),CONCATENATE(Fuhrparkliste!B13,\" \")))))","v":""},"","",{"$f":"RIGHT(AI4,COUNT(RIGHT(AI4,COLUMN(3:3))*1))","v":""},{"$f":"IF(Fuhrparkliste!I13=\"\",\"\",Fuhrparkliste!I13)","v":""},{"$f":"IF(Fuhrparkliste!F13=\"\",\"\",IF(LEN(Fuhrparkliste!F13)=1,CONCATENATE(\"000\",Fuhrparkliste!F13),IF(LEN(Fuhrparkliste!F13)=2,CONCATENATE(\"00\",Fuhrparkliste!F13),IF(LEN(Fuhrparkliste!F13)=3,CONCATENATE(\"0\",Fuhrparkliste!F13),LEFT(Fuhrparkliste!F13,4)))))","v":""},{"$f":"IF(Fuhrparkliste!G13=\"\",\"\",IF(LEN(Fuhrparkliste!G13)=1,CONCATENATE(\"00\",Fuhrparkliste!G13),IF(LEN(Fuhrparkliste!G13)=2,CONCATENATE(\"0\",Fuhrparkliste!G13),LEFT(Fuhrparkliste!G13,3))))","v":""},{"$f":"IF(C4=\"\",\"\",IF(OR(C4=\"581\",C4=\"541\",C4=\"542\",C4=\"591\",C4=\"714\",C4=\"719\"),\"\",IF(Fuhrparkliste!C13=\"\",\"0\",Fuhrparkliste!C13)))","v":""},{"$f":"IF(C4=\"\",\"\",IF(Fuhrparkliste!Z13=\"\",\"0\",VLOOKUP(Fuhrparkliste!Z13,ELEKTROMATRIXKEY,2,FALSE)))","v":""},{"$f":"IF(Fuhrparkliste!D13=\"\",\"\",Fuhrparkliste!D13)","v":""},{"$f":"IF(Fuhrparkliste!N13=\"\",\"\",VLOOKUP(Fuhrparkliste!N13,AUFBAUMATRIXKEY,2,FALSE))","v":""},{"$f":"IF(Fuhrparkliste!T13=\"\",\"\",Fuhrparkliste!T13)","v":""},{"$f":"IF(C4=\"\",\"\",IF(AND(Fuhrparkliste!M13=\"Ja\",C4=\"112\"),\"1\",\"0\"))","v":""},{"$f":"IF(Fuhrparkliste!H13=\"\",\"\",Fuhrparkliste!H13)","v":""},{"$f":"IF(Fuhrparkliste!J13=\"\",\"\",Fuhrparkliste!J13)","v":""},{"$f":"IF(C4<>\"112\",\"\",IF(Fuhrparkliste!K13=\"Ja\",\"1\",\"0\"))","v":""},{"$f":"IF(OR(Fuhrparkliste!L13=\"\",C4<>\"127\"),\"\",VLOOKUP(Fuhrparkliste!L13,Bedachungsart,2,FALSE))","v":""},{"$f":"IF(C4=\"\",\"\",IF(AND(Fuhrparkliste!X13=\"Ja\",C4=\"112\"),\"1\",\"0\"))","v":""},{"$f":"IF(C4=\"\",\"\",IF(AND(Fuhrparkliste!Y13=\"Ja\",OR(C4=\"112\",C4=\"251\")),\"1\",\"0\"))","v":""},"",{"$f":"IF(C4=\"\",\"\",IF(AND(Fuhrparkliste!W13=\"Ja\",C4=\"112\"),\"1\",\"0\"))","v":""},{"$f":"IF(C4=\"\",\"\",IF(AND(ISERROR(SEARCH(\"0??\",tblRisiken!C4)) =TRUE,ISERROR(SEARCH(\"1??\",tblRisiken!C4)) =TRUE),\"0\",IF(AND(Fuhrparkliste!U13=\"Ja\",VLOOKUP(Werte!P4,SFMATRIXKEY,3,FALSE)=\"Ja\"),\"1\",\"0\")))","v":""},{"$f":"IF(C4=\"\",\"\",IF(OR(AF4=\"00\",LEFT(AF4,1)=\"7\"),\"0\",IF(AND(ISERROR(SEARCH(\"0??\",C4)) =TRUE,ISERROR(SEARCH(\"1??\",C4)) =TRUE),\"0\",IF(AND(Fuhrparkliste!V13=\"Ja\",X4=\"1\",VLOOKUP(Werte!Q4,SFMATRIXKEY,3,FALSE)=\"Ja\"),\"1\",\"0\"))))","v":""},{"$f":"IF(C4=\"\",\"\",IF(AND(Fuhrparkliste!AA13=\"Ja\",C4=\"112\"),\"1\",\"0\"))","v":""},{"$f":"IF(Fuhrparkliste!AB13=\"\",\"\",VLOOKUP(Fuhrparkliste!AB13,MatrixVorVU,2,FALSE))","v":""},{"$f":"IF(Fuhrparkliste!AC13=\"\",\"\",Fuhrparkliste!AC13)","v":""},{"$f":"IF(C4=\"\",\"\",IF(Fuhrparkliste!O13=\"\",\"00\",VLOOKUP(Fuhrparkliste!O13,GEFAHRGUTMATRIXKEY,2,FALSE)))","v":""},"",{"$f":"IF(C4=\"\",\"\",IF(Werte!P4=\"\",\"F1\",VLOOKUP(Fuhrparkliste!P13,SFKOMPLETT,2,FALSE)))","v":""},{"$f":"IF(C4=\"\",\"\",IF(Fuhrparkliste!S13=\"\",\"00\",VLOOKUP(Fuhrparkliste!S13,KASKOMATRIXKEY,2,FALSE)))","v":""},{"$f":"IF(C4=\"\",\"\",IF(Werte!Q4=\"\",\"F1\",VLOOKUP(Fuhrparkliste!Q13,SFKOMPLETT,2,FALSE)))","v":""},{"$f":"IF(C4=\"\",\"\",Fuhrparkliste!R13)","v":""},{"$f":"SUBSTITUTE(Fuhrparkliste!E13,\" \",\"\")","v":""}]
["",{"$f":"IF(Fuhrparkliste!B14=\"\",\"\",IF(Fuhrparkliste!B14=\"112\",\"22\",\"26\"))","v":""},{"$f":"IF(Fuhrparkliste!B14=\"\",\"\",TRIM(IF(LEN(Fuhrparkliste!B14)=1,CONCATENATE(\"00\",Fuhrparkliste!B14),IF(LEN(Fuhrparkliste!B14)=2,CONCATENATE(\"0\",Fuhrparkliste!B14),CONCATENATE(Fuhrparkliste!B14,\" \")))))","v":""},"","",{"$f":"RIGHT(AI5,COUNT(RIGHT(AI5,COLUMN(4:4))*1))","v":""},{"$f":"IF(Fuhrparkliste!I14=\"\",\"\",Fuhrparkliste!I14)","v":""},{"$f":"IF(Fuhrparkliste!F14=\"\",\"\",IF(LEN(Fuhrparkliste!F14)=1,CONCATENATE(\"000\",Fuhrparkliste!F14),IF(LEN(Fuhrparkliste!F14)=2,CONCATENATE(\"00\",Fuhrparkliste!F14),IF(LEN(Fuhrparkliste!F14)=3,CONCATENATE(\"0\",Fuhrparkliste!F14),LEFT(Fuhrparkliste!F14,4)))))","v":""},{"$f":"IF(Fuhrparkliste!G14=\"\",\"\",IF(LEN(Fuhrparkliste!G14)=1,CONCATENATE(\"00\",Fuhrparkliste!G14),IF(LEN(Fuhrparkliste!G14)=2,CONCATENATE(\"0\",Fuhrparkliste!G14),LEFT(Fuhrparkliste!G14,3))))","v":""},{"$f":"IF(C5=\"\",\"\",IF(OR(C5=\"581\",C5=\"541\",C5=\"542\",C5=\"591\",C5=\"714\",C5=\"719\"),\"\",IF(Fuhrparkliste!C14=\"\",\"0\",Fuhrparkliste!C14)))","v":""},{"$f":"IF(C5=\"\",\"\",IF(Fuhrparkliste!Z14=\"\",\"0\",VLOOKUP(Fuhrparkliste!Z14,ELEKTROMATRIXKEY,2,FALSE)))","v":""},{"$f":"IF(Fuhrparkliste!D14=\"\",\"\",Fuhrparkliste!D14)","v":""},{"$f":"IF(Fuhrparkliste!N14=\"\",\"\",VLOOKUP(Fuhrparkliste!N14,AUFBAUMATRIXKEY,2,FALSE))","v":""},{"$f":"IF(Fuhrparkliste!T14=\"\",\"\",Fuhrparkliste!T14)","v":""},{"$f":"IF(C5=\"\",\"\",IF(AND(Fuhrparkliste!M14=\"Ja\",C5=\"112\"),\"1\",\"0\"))","v":""},{"$f":"IF(Fuhrparkliste!H14=\"\",\"\",Fuhrparkliste!H14)","v":""},{"$f":"IF(Fuhrparkliste!J14=\"\",\"\",Fuhrparkliste!J14)","v":""},{"$f":"IF(C5<>\"112\",\"\",IF(Fuhrparkliste!K14=\"Ja\",\"1\",\"0\"))","v":""},{"$f":"IF(OR(Fuhrparkliste!L14=\"\",C5<>\"127\"),\"\",VLOOKUP(Fuhrparkliste!L14,Bedachungsart,2,FALSE))","v":""},{"$f":"IF(C5=\"\",\"\",IF(AND(Fuhrparkliste!X14=\"Ja\",C5=\"112\"),\"1\",\"0\"))","v":""},{"$f":"IF(C5=\"\",\"\",IF(AND(Fuhrparkliste!Y14=\"Ja\",OR(C5=\"112\",C5=\"251\")),\"1\",\"0\"))","v":""},"",{"$f":"IF(C5=\"\",\"\",IF(AND(Fuhrparkliste!W14=\"Ja\",C5=\"112\"),\"1\",\"0\"))","v":""},{"$f":"IF(C5=\"\",\"\",IF(AND(ISERROR(SEARCH(\"0??\",tblRisiken!C5)) =TRUE,ISERROR(SEARCH(\"1??\",tblRisiken!C5)) =TRUE),\"0\",IF(AND(Fuhrparkliste!U14=\"Ja\",VLOOKUP(Werte!P5,SFMATRIXKEY,3,FALSE)=\"Ja\"),\"1\",\"0\")))","v":""},{"$f":"IF(C5=\"\",\"\",IF(OR(AF5=\"00\",LEFT(AF5,1)=\"7\"),\"0\",IF(AND(ISERROR(SEARCH(\"0??\",C5)) =TRUE,ISERROR(SEARCH(\"1??\",C5)) =TRUE),\"0\",IF(AND(Fuhrparkliste!V14=\"Ja\",X5=\"1\",VLOOKUP(Werte!Q5,SFMATRIXKEY,3,FALSE)=\"Ja\"),\"1\",\"0\"))))","v":""},{"$f":"IF(C5=\"\",\"\",IF(AND(Fuhrparkliste!AA14=\"Ja\",C5=\"112\"),\"1\",\"0\"))","v":""},{"$f":"IF(Fuhrparkliste!AB14=\"\",\"\",VLOOKUP(Fuhrparkliste!AB14,MatrixVorVU,2,FALSE))","v":""},{"$f":"IF(Fuhrparkliste!AC14=\"\",\"\",Fuhrparkliste!AC14)","v":""},{"$f":"IF(C5=\"\",\"\",IF(Fuhrparkliste!O14=\"\",\"00\",VLOOKUP(Fuhrparkliste!O14,GEFAHRGUTMATRIXKEY,2,FALSE)))","v":""},"",{"$f":"IF(C5=\"\",\"\",IF(Werte!P5=\"\",\"F1\",VLOOKUP(Fuhrparkliste!P14,SFKOMPLETT,2,FALSE)))","v":""},{"$f":"IF(C5=\"\",\"\",IF(Fuhrparkliste!S14=\"\",\"00\",VLOOKUP(Fuhrparkliste!S14,KASKOMATRIXKEY,2,FALSE)))","v":""},{"$f":"IF(C5=\"\",\"\",IF(Werte!Q5=\"\",\"F1\",VLOOKUP(Fuhrparkliste!Q14,SFKOMPLETT,2,FALSE)))","v":""},{"$f":"IF(C5=\"\",\"\",Fuhrparkliste!R14)","v":""},{"$f":"SUBSTITUTE(Fuhrparkliste!E14,\" \",\"\")","v":""}]
["",{"$f":"IF(Fuhrparkliste!B15=\"\",\"\",IF(Fuhrparkliste!B15=\"112\",\"22\",\"26\"))","v":""},{"$f":"IF(Fuhrparkliste!B15=\"\",\"\",TRIM(IF(LEN(Fuhrparkliste!B15)=1,CONCATENATE(\"00\",Fuhrparkliste!B15),IF(LEN(Fuhrparkliste!B15)=2,CONCATENATE(\"0\",Fuhrparkliste!B15),CONCATENATE(Fuhrparkliste!B15,\" \")))))","v":""},"","",{"$f":"RIGHT(AI6,COUNT(RIGHT(AI6,COLUMN(5:5))*1))","v":""},{"$f":"IF(Fuhrparkliste!I15=\"\",\"\",Fuhrparkliste!I15)","v":""},{"$f":"IF(Fuhrparkliste!F15=\"\",\"\",IF(LEN(Fuhrparkliste!F15)=1,CONCATENATE(\"000\",Fuhrparkliste!F15),IF(LEN(Fuhrparkliste!F15)=2,CONCATENATE(\"00\",Fuhrparkliste!F15),IF(LEN(Fuhrparkliste!F15)=3,CONCATENATE(\"0\",Fuhrparkliste!F15),LEFT(Fuhrparkliste!F15,4)))))","v":""},{"$f":"IF(Fuhrparkliste!G15=\"\",\"\",IF(LEN(Fuhrparkliste!G15)=1,CONCATENATE(\"00\",Fuhrparkliste!G15),IF(LEN(Fuhrparkliste!G15)=2,CONCATENATE(\"0\",Fuhrparkliste!G15),LEFT(Fuhrparkliste!G15,3))))","v":""},{"$f":"IF(C6=\"\",\"\",IF(OR(C6=\"581\",C6=\"541\",C6=\"542\",C6=\"591\",C6=\"714\",C6=\"719\"),\"\",IF(Fuhrparkliste!C15=\"\",\"0\",Fuhrparkliste!C15)))","v":""},{"$f":"IF(C6=\"\",\"\",IF(Fuhrparkliste!Z15=\"\",\"0\",VLOOKUP(Fuhrparkliste!Z15,ELEKTROMATRIXKEY,2,FALSE)))","v":""},{"$f":"IF(Fuhrparkliste!D15=\"\",\"\",Fuhrparkliste!D15)","v":""},{"$f":"IF(Fuhrparkliste!N15=\"\",\"\",VLOOKUP(Fuhrparkliste!N15,AUFBAUMATRIXKEY,2,FALSE))","v":""},{"$f":"IF(Fuhrparkliste!T15=\"\",\"\",Fuhrparkliste!T15)","v":""},{"$f":"IF(C6=\"\",\"\",IF(AND(Fuhrparkliste!M15=\"Ja\",C6=\"112\"),\"1\",\"0\"))","v":""},{"$f":"IF(Fuhrparkliste!H15=\"\",\"\",Fuhrparkliste!H15)","v":""},{"$f":"IF(Fuhrparkliste!J15=\"\",\"\",Fuhrparkliste!J15)","v":""},{"$f":"IF(C6<>\"112\",\"\",IF(Fuhrparkliste!K15=\"Ja\",\"1\",\"0\"))","v":""},{"$f":"IF(OR(Fuhrparkliste!L15=\"\",C6<>\"127\"),\"\",VLOOKUP(Fuhrparkliste!L15,Bedachungsart,2,FALSE))","v":""},{"$f":"IF(C6=\"\",\"\",IF(AND(Fuhrparkliste!X15=\"Ja\",C6=\"112\"),\"1\",\"0\"))","v":""},{"$f":"IF(C6=\"\",\"\",IF(AND(Fuhrparkliste!Y15=\"Ja\",OR(C6=\"112\",C6=\"251\")),\"1\",\"0\"))","v":""},"",{"$f":"IF(C6=\"\",\"\",IF(AND(Fuhrparkliste!W15=\"Ja\",C6=\"112\"),\"1\",\"0\"))","v":""},{"$f":"IF(C6=\"\",\"\",IF(AND(ISERROR(SEARCH(\"0??\",tblRisiken!C6)) =TRUE,ISERROR(SEARCH(\"1??\",tblRisiken!C6)) =TRUE),\"0\",IF(AND(Fuhrparkliste!U15=\"Ja\",VLOOKUP(Werte!P6,SFMATRIXKEY,3,FALSE)=\"Ja\"),\"1\",\"0\")))","v":""},{"$f":"IF(C6=\"\",\"\",IF(OR(AF6=\"00\",LEFT(AF6,1)=\"7\"),\"0\",IF(AND(ISERROR(SEARCH(\"0??\",C6)) =TRUE,ISERROR(SEARCH(\"1??\",C6)) =TRUE),\"0\",IF(AND(Fuhrparkliste!V15=\"Ja\",X6=\"1\",VLOOKUP(Werte!Q6,SFMATRIXKEY,3,FALSE)=\"Ja\"),\"1\",\"0\"))))","v":""},{"$f":"IF(C6=\"\",\"\",IF(AND(Fuhrparkliste!AA15=\"Ja\",C6=\"112\"),\"1\",\"0\"))","v":""},{"$f":"IF(Fuhrparkliste!AB15=\"\",\"\",VLOOKUP(Fuhrparkliste!AB15,MatrixVorVU,2,FALSE))","v":""},{"$f":"IF(Fuhrparkliste!AC15=\"\",\"\",Fuhrparkliste!AC15)","v":""},{"$f":"IF(C6=\"\",\"\",IF(Fuhrparkliste!O15=\"\",\"00\",VLOOKUP(Fuhrparkliste!O15,GEFAHRGUTMATRIXKEY,2,FALSE)))","v":""},"",{"$f":"IF(C6=\"\",\"\",IF(Werte!P6=\"\",\"F1\",VLOOKUP(Fuhrparkliste!P15,SFKOMPLETT,2,FALSE)))","v":""},{"$f":"IF(C6=\"\",\"\",IF(Fuhrparkliste!S15=\"\",\"00\",VLOOKUP(Fuhrparkliste!S15,KASKOMATRIXKEY,2,FALSE)))","v":""},{"$f":"IF(C6=\"\",\"\",IF(Werte!Q6=\"\",\"F1\",VLOOKUP(Fuhrparkliste!Q15,SFKOMPLETT,2,FALSE)))","v":""},{"$f":"IF(C6=\"\",\"\",Fuhrparkliste!R15)","v":""},{"$f":"SUBSTITUTE(Fuhrparkliste!E15,\" \",\"\")","v":""}]
["",{"$f":"IF(Fuhrparkliste!B16=\"\",\"\",IF(Fuhrparkliste!B16=\"112\",\"22\",\"26\"))","v":""},{"$f":"IF(Fuhrparkliste!B16=\"\",\"\",TRIM(IF(LEN(Fuhrparkliste!B16)=1,CONCATENATE(\"00\",Fuhrparkliste!B16),IF(LEN(Fuhrparkliste!B16)=2,CONCATENATE(\"0\",Fuhrparkliste!B16),CONCATENATE(Fuhrparkliste!B16,\" \")))))","v":""},"","",{"$f":"RIGHT(AI7,COUNT(RIGHT(AI7,COLUMN(6:6))*1))","v":""},{"$f":"IF(Fuhrparkliste!I16=\"\",\"\",Fuhrparkliste!I16)","v":""},{"$f":"IF(Fuhrparkliste!F16=\"\",\"\",IF(LEN(Fuhrparkliste!F16)=1,CONCATENATE(\"000\",Fuhrparkliste!F16),IF(LEN(Fuhrparkliste!F16)=2,CONCATENATE(\"00\",Fuhrparkliste!F16),IF(LEN(Fuhrparkliste!F16)=3,CONCATENATE(\"0\",Fuhrparkliste!F16),LEFT(Fuhrparkliste!F16,4)))))","v":""},{"$f":"IF(Fuhrparkliste!G16=\"\",\"\",IF(LEN(Fuhrparkliste!G16)=1,CONCATENATE(\"00\",Fuhrparkliste!G16),IF(LEN(Fuhrparkliste!G16)=2,CONCATENATE(\"0\",Fuhrparkliste!G16),LEFT(Fuhrparkliste!G16,3))))","v":""},{"$f":"IF(C7=\"\",\"\",IF(OR(C7=\"581\",C7=\"541\",C7=\"542\",C7=\"591\",C7=\"714\",C7=\"719\"),\"\",IF(Fuhrparkliste!C16=\"\",\"0\",Fuhrparkliste!C16)))","v":""},{"$f":"IF(C7=\"\",\"\",IF(Fuhrparkliste!Z16=\"\",\"0\",VLOOKUP(Fuhrparkliste!Z16,ELEKTROMATRIXKEY,2,FALSE)))","v":""},{"$f":"IF(Fuhrparkliste!D16=\"\",\"\",Fuhrparkliste!D16)","v":""},{"$f":"IF(Fuhrparkliste!N16=\"\",\"\",VLOOKUP(Fuhrparkliste!N16,AUFBAUMATRIXKEY,2,FALSE))","v":""},{"$f":"IF(Fuhrparkliste!T16=\"\",\"\",Fuhrparkliste!T16)","v":""},{"$f":"IF(C7=\"\",\"\",IF(AND(Fuhrparkliste!M16=\"Ja\",C7=\"112\"),\"1\",\"0\"))","v":""},{"$f":"IF(Fuhrparkliste!H16=\"\",\"\",Fuhrparkliste!H16)","v":""},{"$f":"IF(Fuhrparkliste!J16=\"\",\"\",Fuhrparkliste!J16)","v":""},{"$f":"IF(C7<>\"112\",\"\",IF(Fuhrparkliste!K16=\"Ja\",\"1\",\"0\"))","v":""},{"$f":"IF(OR(Fuhrparkliste!L16=\"\",C7<>\"127\"),\"\",VLOOKUP(Fuhrparkliste!L16,Bedachungsart,2,FALSE))","v":""},{"$f":"IF(C7=\"\",\"\",IF(AND(Fuhrparkliste!X16=\"Ja\",C7=\"112\"),\"1\",\"0\"))","v":""},{"$f":"IF(C7=\"\",\"\",IF(AND(Fuhrparkliste!Y16=\"Ja\",OR(C7=\"112\",C7=\"251\")),\"1\",\"0\"))","v":""},"",{"$f":"IF(C7=\"\",\"\",IF(AND(Fuhrparkliste!W16=\"Ja\",C7=\"112\"),\"1\",\"0\"))","v":""},{"$f":"IF(C7=\"\",\"\",IF(AND(ISERROR(SEARCH(\"0??\",tblRisiken!C7)) =TRUE,ISERROR(SEARCH(\"1??\",tblRisiken!C7)) =TRUE),\"0\",IF(AND(Fuhrparkliste!U16=\"Ja\",VLOOKUP(Werte!P7,SFMATRIXKEY,3,FALSE)=\"Ja\"),\"1\",\"0\")))","v":""},{"$f":"IF(C7=\"\",\"\",IF(OR(AF7=\"00\",LEFT(AF7,1)=\"7\"),\"0\",IF(AND(ISERROR(SEARCH(\"0??\",C7)) =TRUE,ISERROR(SEARCH(\"1??\",C7)) =TRUE),\"0\",IF(AND(Fuhrparkliste!V16=\"Ja\",X7=\"1\",VLOOKUP(Werte!Q7,SFMATRIXKEY,3,FALSE)=\"Ja\"),\"1\",\"0\"))))","v":""},{"$f":"IF(C7=\"\",\"\",IF(AND(Fuhrparkliste!AA16=\"Ja\",C7=\"112\"),\"1\",\"0\"))","v":""},{"$f":"IF(Fuhrparkliste!AB16=\"\",\"\",VLOOKUP(Fuhrparkliste!AB16,MatrixVorVU,2,FALSE))","v":""},{"$f":"IF(Fuhrparkliste!AC16=\"\",\"\",Fuhrparkliste!AC16)","v":""},{"$f":"IF(C7=\"\",\"\",IF(Fuhrparkliste!O16=\"\",\"00\",VLOOKUP(Fuhrparkliste!O16,GEFAHRGUTMATRIXKEY,2,FALSE)))","v":""},"",{"$f":"IF(C7=\"\",\"\",IF(Werte!P7=\"\",\"F1\",VLOOKUP(Fuhrparkliste!P16,SFKOMPLETT,2,FALSE)))","v":""},{"$f":"IF(C7=\"\",\"\",IF(Fuhrparkliste!S16=\"\",\"00\",VLOOKUP(Fuhrparkliste!S16,KASKOMATRIXKEY,2,FALSE)))","v":""},{"$f":"IF(C7=\"\",\"\",IF(Werte!Q7=\"\",\"F1\",VLOOKUP(Fuhrparkliste!Q16,SFKOMPLETT,2,FALSE)))","v":""},{"$f":"IF(C7=\"\",\"\",Fuhrparkliste!R16)","v":""},{"$f":"SUBSTITUTE(Fuhrparkliste!E16,\" \",\"\")","v":""}]
["",{"$f":"IF(Fuhrparkliste!B17=\"\",\"\",IF(Fuhrparkliste!B17=\"112\",\"22\",\"26\"))","v":""},{"$f":"IF(Fuhrparkliste!B17=\"\",\"\",TRIM(IF(LEN(Fuhrparkliste!B17)=1,CONCATENATE(\"00\",Fuhrparkliste!B17),IF(LEN(Fuhrparkliste!B17)=2,CONCATENATE(\"0\",Fuhrparkliste!B17),CONCATENATE(Fuhrparkliste!B17,\" \")))))","v":""},"","",{"$f":"RIGHT(AI8,COUNT(RIGHT(AI8,COLUMN(7:7))*1))","v":""},{"$f":"IF(Fuhrparkliste!I17=\"\",\"\",Fuhrparkliste!I17)","v":""},{"$f":"IF(Fuhrparkliste!F17=\"\",\"\",IF(LEN(Fuhrparkliste!F17)=1,CONCATENATE(\"000\",Fuhrparkliste!F17),IF(LEN(Fuhrparkliste!F17)=2,CONCATENATE(\"00\",Fuhrparkliste!F17),IF(LEN(Fuhrparkliste!F17)=3,CONCATENATE(\"0\",Fuhrparkliste!F17),LEFT(Fuhrparkliste!F17,4)))))","v":""},{"$f":"IF(Fuhrparkliste!G17=\"\",\"\",IF(LEN(Fuhrparkliste!G17)=1,CONCATENATE(\"00\",Fuhrparkliste!G17),IF(LEN(Fuhrparkliste!G17)=2,CONCATENATE(\"0\",Fuhrparkliste!G17),LEFT(Fuhrparkliste!G17,3))))","v":""},{"$f":"IF(C8=\"\",\"\",IF(OR(C8=\"581\",C8=\"541\",C8=\"542\",C8=\"591\",C8=\"714\",C8=\"719\"),\"\",IF(Fuhrparkliste!C17=\"\",\"0\",Fuhrparkliste!C17)))","v":""},{"$f":"IF(C8=\"\",\"\",IF(Fuhrparkliste!Z17=\"\",\"0\",VLOOKUP(Fuhrparkliste!Z17,ELEKTROMATRIXKEY,2,FALSE)))","v":""},{"$f":"IF(Fuhrparkliste!D17=\"\",\"\",Fuhrparkliste!D17)","v":""},{"$f":"IF(Fuhrparkliste!N17=\"\",\"\",VLOOKUP(Fuhrparkliste!N17,AUFBAUMATRIXKEY,2,FALSE))","v":""},{"$f":"IF(Fuhrparkliste!T17=\"\",\"\",Fuhrparkliste!T17)","v":""},{"$f":"IF(C8=\"\",\"\",IF(AND(Fuhrparkliste!M17=\"Ja\",C8=\"112\"),\"1\",\"0\"))","v":""},{"$f":"IF(Fuhrparkliste!H17=\"\",\"\",Fuhrparkliste!H17)","v":""},{"$f":"IF(Fuhrparkliste!J17=\"\",\"\",Fuhrparkliste!J17)","v":""},{"$f":"IF(C8<>\"112\",\"\",IF(Fuhrparkliste!K17=\"Ja\",\"1\",\"0\"))","v":""},{"$f":"IF(OR(Fuhrparkliste!L17=\"\",C8<>\"127\"),\"\",VLOOKUP(Fuhrparkliste!L17,Bedachungsart,2,FALSE))","v":""},{"$f":"IF(C8=\"\",\"\",IF(AND(Fuhrparkliste!X17=\"Ja\",C8=\"112\"),\"1\",\"0\"))","v":""},{"$f":"IF(C8=\"\",\"\",IF(AND(Fuhrparkliste!Y17=\"Ja\",OR(C8=\"112\",C8=\"251\")),\"1\",\"0\"))","v":""},"",{"$f":"IF(C8=\"\",\"\",IF(AND(Fuhrparkliste!W17=\"Ja\",C8=\"112\"),\"1\",\"0\"))","v":""},{"$f":"IF(C8=\"\",\"\",IF(AND(ISERROR(SEARCH(\"0??\",tblRisiken!C8)) =TRUE,ISERROR(SEARCH(\"1??\",tblRisiken!C8)) =TRUE),\"0\",IF(AND(Fuhrparkliste!U17=\"Ja\",VLOOKUP(Werte!P8,SFMATRIXKEY,3,FALSE)=\"Ja\"),\"1\",\"0\")))","v":""},{"$f":"IF(C8=\"\",\"\",IF(OR(AF8=\"00\",LEFT(AF8,1)=\"7\"),\"0\",IF(AND(ISERROR(SEARCH(\"0??\",C8)) =TRUE,ISERROR(SEARCH(\"1??\",C8)) =TRUE),\"0\",IF(AND(Fuhrparkliste!V17=\"Ja\",X8=\"1\",VLOOKUP(Werte!Q8,SFMATRIXKEY,3,FALSE)=\"Ja\"),\"1\",\"0\"))))","v":""},{"$f":"IF(C8=\"\",\"\",IF(AND(Fuhrparkliste!AA17=\"Ja\",C8=\"112\"),\"1\",\"0\"))","v":""},{"$f":"IF(Fuhrparkliste!AB17=\"\",\"\",VLOOKUP(Fuhrparkliste!AB17,MatrixVorVU,2,FALSE))","v":""},{"$f":"IF(Fuhrparkliste!AC17=\"\",\"\",Fuhrparkliste!AC17)","v":""},{"$f":"IF(C8=\"\",\"\",IF(Fuhrparkliste!O17=\"\",\"00\",VLOOKUP(Fuhrparkliste!O17,GEFAHRGUTMATRIXKEY,2,FALSE)))","v":""},"",{"$f":"IF(C8=\"\",\"\",IF(Werte!P8=\"\",\"F1\",VLOOKUP(Fuhrparkliste!P17,SFKOMPLETT,2,FALSE)))","v":""},{"$f":"IF(C8=\"\",\"\",IF(Fuhrparkliste!S17=\"\",\"00\",VLOOKUP(Fuhrparkliste!S17,KASKOMATRIXKEY,2,FALSE)))","v":""},{"$f":"IF(C8=\"\",\"\",IF(Werte!Q8=\"\",\"F1\",VLOOKUP(Fuhrparkliste!Q17,SFKOMPLETT,2,FALSE)))","v":""},{"$f":"IF(C8=\"\",\"\",Fuhrparkliste!R17)","v":""},{"$f":"SUBSTITUTE(Fuhrparkliste!E17,\" \",\"\")","v":""}]
["",{"$f":"IF(Fuhrparkliste!B18=\"\",\"\",IF(Fuhrparkliste!B18=\"112\",\"22\",\"26\"))","v":""},{"$f":"IF(Fuhrparkliste!B18=\"\",\"\",TRIM(IF(LEN(Fuhrparkliste!B18)=1,CONCATENATE(\"00\",Fuhrparkliste!B18),IF(LEN(Fuhrparkliste!B18)=2,CONCATENATE(\"0\",Fuhrparkliste!B18),CONCATENATE(Fuhrparkliste!B18,\" \")))))","v":""},"","",{"$f":"RIGHT(AI9,COUNT(RIGHT(AI9,COLUMN(8:8))*1))","v":""},{"$f":"IF(Fuhrparkliste!I18=\"\",\"\",Fuhrparkliste!I18)","v":""},{"$f":"IF(Fuhrparkliste!F18=\"\",\"\",IF(LEN(Fuhrparkliste!F18)=1,CONCATENATE(\"000\",Fuhrparkliste!F18),IF(LEN(Fuhrparkliste!F18)=2,CONCATENATE(\"00\",Fuhrparkliste!F18),IF(LEN(Fuhrparkliste!F18)=3,CONCATENATE(\"0\",Fuhrparkliste!F18),LEFT(Fuhrparkliste!F18,4)))))","v":""},{"$f":"IF(Fuhrparkliste!G18=\"\",\"\",IF(LEN(Fuhrparkliste!G18)=1,CONCATENATE(\"00\",Fuhrparkliste!G18),IF(LEN(Fuhrparkliste!G18)=2,CONCATENATE(\"0\",Fuhrparkliste!G18),LEFT(Fuhrparkliste!G18,3))))","v":""},{"$f":"IF(C9=\"\",\"\",IF(OR(C9=\"581\",C9=\"541\",C9=\"542\",C9=\"591\",C9=\"714\",C9=\"719\"),\"\",IF(Fuhrparkliste!C18=\"\",\"0\",Fuhrparkliste!C18)))","v":""},{"$f":"IF(C9=\"\",\"\",IF(Fuhrparkliste!Z18=\"\",\"0\",VLOOKUP(Fuhrparkliste!Z18,ELEKTROMATRIXKEY,2,FALSE)))","v":""},{"$f":"IF(Fuhrparkliste!D18=\"\",\"\",Fuhrparkliste!D18)","v":""},{"$f":"IF(Fuhrparkliste!N18=\"\",\"\",VLOOKUP(Fuhrparkliste!N18,AUFBAUMATRIXKEY,2,FALSE))","v":""},{"$f":"IF(Fuhrparkliste!T18=\"\",\"\",Fuhrparkliste!T18)","v":""},{"$f":"IF(C9=\"\",\"\",IF(AND(Fuhrparkliste!M18=\"Ja\",C9=\"112\"),\"1\",\"0\"))","v":""},{"$f":"IF(Fuhrparkliste!H18=\"\",\"\",Fuhrparkliste!H18)","v":""},{"$f":"IF(Fuhrparkliste!J18=\"\",\"\",Fuhrparkliste!J18)","v":""},{"$f":"IF(C9<>\"112\",\"\",IF(Fuhrparkliste!K18=\"Ja\",\"1\",\"0\"))","v":""},{"$f":"IF(OR(Fuhrparkliste!L18=\"\",C9<>\"127\"),\"\",VLOOKUP(Fuhrparkliste!L18,Bedachungsart,2,FALSE))","v":""},{"$f":"IF(C9=\"\",\"\",IF(AND(Fuhrparkliste!X18=\"Ja\",C9=\"112\"),\"1\",\"0\"))","v":""},{"$f":"IF(C9=\"\",\"\",IF(AND(Fuhrparkliste!Y18=\"Ja\",OR(C9=\"112\",C9=\"251\")),\"1\",\"0\"))","v":""},"",{"$f":"IF(C9=\"\",\"\",IF(AND(Fuhrparkliste!W18=\"Ja\",C9=\"112\"),\"1\",\"0\"))","v":""},{"$f":"IF(C9=\"\",\"\",IF(AND(ISERROR(SEARCH(\"0??\",tblRisiken!C9)) =TRUE,ISERROR(SEARCH(\"1??\",tblRisiken!C9)) =TRUE),\"0\",IF(AND(Fuhrparkliste!U18=\"Ja\",VLOOKUP(Werte!P9,SFMATRIXKEY,3,FALSE)=\"Ja\"),\"1\",\"0\")))","v":""},{"$f":"IF(C9=\"\",\"\",IF(OR(AF9=\"00\",LEFT(AF9,1)=\"7\"),\"0\",IF(AND(ISERROR(SEARCH(\"0??\",C9)) =TRUE,ISERROR(SEARCH(\"1??\",C9)) =TRUE),\"0\",IF(AND(Fuhrparkliste!V18=\"Ja\",X9=\"1\",VLOOKUP(Werte!Q9,SFMATRIXKEY,3,FALSE)=\"Ja\"),\"1\",\"0\"))))","v":""},{"$f":"IF(C9=\"\",\"\",IF(AND(Fuhrparkliste!AA18=\"Ja\",C9=\"112\"),\"1\",\"0\"))","v":""},{"$f":"IF(Fuhrparkliste!AB18=\"\",\"\",VLOOKUP(Fuhrparkliste!AB18,MatrixVorVU,2,FALSE))","v":""},{"$f":"IF(Fuhrparkliste!AC18=\"\",\"\",Fuhrparkliste!AC18)","v":""},{"$f":"IF(C9=\"\",\"\",IF(Fuhrparkliste!O18=\"\",\"00\",VLOOKUP(Fuhrparkliste!O18,GEFAHRGUTMATRIXKEY,2,FALSE)))","v":""},"",{"$f":"IF(C9=\"\",\"\",IF(Werte!P9=\"\",\"F1\",VLOOKUP(Fuhrparkliste!P18,SFKOMPLETT,2,FALSE)))","v":""},{"$f":"IF(C9=\"\",\"\",IF(Fuhrparkliste!S18=\"\",\"00\",VLOOKUP(Fuhrparkliste!S18,KASKOMATRIXKEY,2,FALSE)))","v":""},{"$f":"IF(C9=\"\",\"\",IF(Werte!Q9=\"\",\"F1\",VLOOKUP(Fuhrparkliste!Q18,SFKOMPLETT,2,FALSE)))","v":""},{"$f":"IF(C9=\"\",\"\",Fuhrparkliste!R18)","v":""},{"$f":"SUBSTITUTE(Fuhrparkliste!E18,\" \",\"\")","v":""}]
["",{"$f":"IF(Fuhrparkliste!B19=\"\",\"\",IF(Fuhrparkliste!B19=\"112\",\"22\",\"26\"))","v":""},{"$f":"IF(Fuhrparkliste!B19=\"\",\"\",TRIM(IF(LEN(Fuhrparkliste!B19)=1,CONCATENATE(\"00\",Fuhrparkliste!B19),IF(LEN(Fuhrparkliste!B19)=2,CONCATENATE(\"0\",Fuhrparkliste!B19),CONCATENATE(Fuhrparkliste!B19,\" \")))))","v":""},"","",{"$f":"RIGHT(AI10,COUNT(RIGHT(AI10,COLUMN(9:9))*1))","v":""},{"$f":"IF(Fuhrparkliste!I19=\"\",\"\",Fuhrparkliste!I19)","v":""},{"$f":"IF(Fuhrparkliste!F19=\"\",\"\",IF(LEN(Fuhrparkliste!F19)=1,CONCATENATE(\"000\",Fuhrparkliste!F19),IF(LEN(Fuhrparkliste!F19)=2,CONCATENATE(\"00\",Fuhrparkliste!F19),IF(LEN(Fuhrparkliste!F19)=3,CONCATENATE(\"0\",Fuhrparkliste!F19),LEFT(Fuhrparkliste!F19,4)))))","v":""},{"$f":"IF(Fuhrparkliste!G19=\"\",\"\",IF(LEN(Fuhrparkliste!G19)=1,CONCATENATE(\"00\",Fuhrparkliste!G19),IF(LEN(Fuhrparkliste!G19)=2,CONCATENATE(\"0\",Fuhrparkliste!G19),LEFT(Fuhrparkliste!G19,3))))","v":""},{"$f":"IF(C10=\"\",\"\",IF(OR(C10=\"581\",C10=\"541\",C10=\"542\",C10=\"591\",C10=\"714\",C10=\"719\"),\"\",IF(Fuhrparkliste!C19=\"\",\"0\",Fuhrparkliste!C19)))","v":""},{"$f":"IF(C10=\"\",\"\",IF(Fuhrparkliste!Z19=\"\",\"0\",VLOOKUP(Fuhrparkliste!Z19,ELEKTROMATRIXKEY,2,FALSE)))","v":""},{"$f":"IF(Fuhrparkliste!D19=\"\",\"\",Fuhrparkliste!D19)","v":""},{"$f":"IF(Fuhrparkliste!N19=\"\",\"\",VLOOKUP(Fuhrparkliste!N19,AUFBAUMATRIXKEY,2,FALSE))","v":""},{"$f":"IF(Fuhrparkliste!T19=\"\",\"\",Fuhrparkliste!T19)","v":""},{"$f":"IF(C10=\"\",\"\",IF(AND(Fuhrparkliste!M19=\"Ja\",C10=\"112\"),\"1\",\"0\"))","v":""},{"$f":"IF(Fuhrparkliste!H19=\"\",\"\",Fuhrparkliste!H19)","v":""},{"$f":"IF(Fuhrparkliste!J19=\"\",\"\",Fuhrparkliste!J19)","v":""},{"$f":"IF(C10<>\"112\",\"\",IF(Fuhrparkliste!K19=\"Ja\",\"1\",\"0\"))","v":""},{"$f":"IF(OR(Fuhrparkliste!L19=\"\",C10<>\"127\"),\"\",VLOOKUP(Fuhrparkliste!L19,Bedachungsart,2,FALSE))","v":""},{"$f":"IF(C10=\"\",\"\",IF(AND(Fuhrparkliste!X19=\"Ja\",C10=\"112\"),\"1\",\"0\"))","v":""},{"$f":"IF(C10=\"\",\"\",IF(AND(Fuhrparkliste!Y19=\"Ja\",OR(C10=\"112\",C10=\"251\")),\"1\",\"0\"))","v":""},"",{"$f":"IF(C10=\"\",\"\",IF(AND(Fuhrparkliste!W19=\"Ja\",C10=\"112\"),\"1\",\"0\"))","v":""},{"$f":"IF(C10=\"\",\"\",IF(AND(ISERROR(SEARCH(\"0??\",tblRisiken!C10)) =TRUE,ISERROR(SEARCH(\"1??\",tblRisiken!C10)) =TRUE),\"0\",IF(AND(Fuhrparkliste!U19=\"Ja\",VLOOKUP(Werte!P10,SFMATRIXKEY,3,FALSE)=\"Ja\"),\"1\",\"0\")))","v":""},{"$f":"IF(C10=\"\",\"\",IF(OR(AF10=\"00\",LEFT(AF10,1)=\"7\"),\"0\",IF(AND(ISERROR(SEARCH(\"0??\",C10)) =TRUE,ISERROR(SEARCH(\"1??\",C10)) =TRUE),\"0\",IF(AND(Fuhrparkliste!V19=\"Ja\",X10=\"1\",VLOOKUP(Werte!Q10,SFMATRIXKEY,3,FALSE)=\"Ja\"),\"1\",\"0\"))))","v":""},{"$f":"IF(C10=\"\",\"\",IF(AND(Fuhrparkliste!AA19=\"Ja\",C10=\"112\"),\"1\",\"0\"))","v":""},{"$f":"IF(Fuhrparkliste!AB19=\"\",\"\",VLOOKUP(Fuhrparkliste!AB19,MatrixVorVU,2,FALSE))","v":""},{"$f":"IF(Fuhrparkliste!AC19=\"\",\"\",Fuhrparkliste!AC19)","v":""},{"$f":"IF(C10=\"\",\"\",IF(Fuhrparkliste!O19=\"\",\"00\",VLOOKUP(Fuhrparkliste!O19,GEFAHRGUTMATRIXKEY,2,FALSE)))","v":""},"",{"$f":"IF(C10=\"\",\"\",IF(Werte!P10=\"\",\"F1\",VLOOKUP(Fuhrparkliste!P19,SFKOMPLETT,2,FALSE)))","v":""},{"$f":"IF(C10=\"\",\"\",IF(Fuhrparkliste!S19=\"\",\"00\",VLOOKUP(Fuhrparkliste!S19,KASKOMATRIXKEY,2,FALSE)))","v":""},{"$f":"IF(C10=\"\",\"\",IF(Werte!Q10=\"\",\"F1\",VLOOKUP(Fuhrparkliste!Q19,SFKOMPLETT,2,FALSE)))","v":""},{"$f":"IF(C10=\"\",\"\",Fuhrparkliste!R19)","v":""},{"$f":"SUBSTITUTE(Fuhrparkliste!E19,\" \",\"\")","v":""}]
[{"$f":"IF(C11=\"\",\"\",CONCATENATE(\"\",A10+1))","v":""},{"$f":"IF(Fuhrparkliste!B20=\"\",\"\",IF(Fuhrparkliste!B20=\"112\",\"22\",\"26\"))","v":""},{"$f":"IF(Fuhrparkliste!B20=\"\",\"\",TRIM(IF(LEN(Fuhrparkliste!B20)=1,CONCATENATE(\"00\",Fuhrparkliste!B20),IF(LEN(Fuhrparkliste!B20)=2,CONCATENATE(\"0\",Fuhrparkliste!B20),CONCATENATE(Fuhrparkliste!B20,\" \")))))","v":""},"","",{"$f":"RIGHT(AI11,COUNT(RIGHT(AI11,COLUMN(10:10))*1))","v":""},{"$f":"IF(Fuhrparkliste!I20=\"\",\"\",Fuhrparkliste!I20)","v":""},{"$f":"IF(Fuhrparkliste!F20=\"\",\"\",IF(LEN(Fuhrparkliste!F20)=1,CONCATENATE(\"000\",Fuhrparkliste!F20),IF(LEN(Fuhrparkliste!F20)=2,CONCATENATE(\"00\",Fuhrparkliste!F20),IF(LEN(Fuhrparkliste!F20)=3,CONCATENATE(\"0\",Fuhrparkliste!F20),LEFT(Fuhrparkliste!F20,4)))))","v":""},{"$f":"IF(Fuhrparkliste!G20=\"\",\"\",IF(LEN(Fuhrparkliste!G20)=1,CONCATENATE(\"00\",Fuhrparkliste!G20),IF(LEN(Fuhrparkliste!G20)=2,CONCATENATE(\"0\",Fuhrparkliste!G20),LEFT(Fuhrparkliste!G20,3))))","v":""},{"$f":"IF(C11=\"\",\"\",IF(OR(C11=\"581\",C11=\"541\",C11=\"542\",C11=\"591\",C11=\"714\",C11=\"719\"),\"\",IF(Fuhrparkliste!C20=\"\",\"0\",Fuhrparkliste!C20)))","v":""},{"$f":"IF(C11=\"\",\"\",IF(Fuhrparkliste!Z20=\"\",\"0\",VLOOKUP(Fuhrparkliste!Z20,ELEKTROMATRIXKEY,2,FALSE)))","v":""},{"$f":"IF(Fuhrparkliste!D20=\"\",\"\",Fuhrparkliste!D20)","v":""},{"$f":"IF(Fuhrparkliste!N20=\"\",\"\",VLOOKUP(Fuhrparkliste!N20,AUFBAUMATRIXKEY,2,FALSE))","v":""},{"$f":"IF(Fuhrparkliste!T20=\"\",\"\",Fuhrparkliste!T20)","v":""},{"$f":"IF(C11=\"\",\"\",IF(AND(Fuhrparkliste!M20=\"Ja\",C11=\"112\"),\"1\",\"0\"))","v":""},{"$f":"IF(Fuhrparkliste!H20=\"\",\"\",Fuhrparkliste!H20)","v":""},{"$f":"IF(Fuhrparkliste!J20=\"\",\"\",Fuhrparkliste!J20)","v":""},{"$f":"IF(C11<>\"112\",\"\",IF(Fuhrparkliste!K20=\"Ja\",\"1\",\"0\"))","v":""},{"$f":"IF(OR(Fuhrparkliste!L20=\"\",C11<>\"127\"),\"\",VLOOKUP(Fuhrparkliste!L20,Bedachungsart,2,FALSE))","v":""},{"$f":"IF(C11=\"\",\"\",IF(AND(Fuhrparkliste!X20=\"Ja\",C11=\"112\"),\"1\",\"0\"))","v":""},{"$f":"IF(C11=\"\",\"\",IF(AND(Fuhrparkliste!Y20=\"Ja\",OR(C11=\"112\",C11=\"251\")),\"1\",\"0\"))","v":""},"",{"$f":"IF(C11=\"\",\"\",IF(AND(Fuhrparkliste!W20=\"Ja\",C11=\"112\"),\"1\",\"0\"))","v":""},{"$f":"IF(C11=\"\",\"\",IF(AND(ISERROR(SEARCH(\"0??\",tblRisiken!C11)) =TRUE,ISERROR(SEARCH(\"1??\",tblRisiken!C11)) =TRUE),\"0\",IF(AND(Fuhrparkliste!U20=\"Ja\",VLOOKUP(Werte!P11,SFMATRIXKEY,3,FALSE)=\"Ja\"),\"1\",\"0\")))","v":""},{"$f":"IF(C11=\"\",\"\",IF(OR(AF11=\"00\",LEFT(AF11,1)=\"7\"),\"0\",IF(AND(ISERROR(SEARCH(\"0??\",C11)) =TRUE,ISERROR(SEARCH(\"1??\",C11)) =TRUE),\"0\",IF(AND(Fuhrparkliste!V20=\"Ja\",X11=\"1\",VLOOKUP(Werte!Q11,SFMATRIXKEY,3,FALSE)=\"Ja\"),\"1\",\"0\"))))","v":""},{"$f":"IF(C11=\"\",\"\",IF(AND(Fuhrparkliste!AA20=\"Ja\",C11=\"112\"),\"1\",\"0\"))","v":""},{"$f":"IF(Fuhrparkliste!AB20=\"\",\"\",VLOOKUP(Fuhrparkliste!AB20,MatrixVorVU,2,FALSE))","v":""},{"$f":"IF(Fuhrparkliste!AC20=\"\",\"\",Fuhrparkliste!AC20)","v":""},{"$f":"IF(C11=\"\",\"\",IF(Fuhrparkliste!O20=\"\",\"00\",VLOOKUP(Fuhrparkliste!O20,GEFAHRGUTMATRIXKEY,2,FALSE)))","v":""},"",{"$f":"IF(C11=\"\",\"\",IF(Werte!P11=\"\",\"F1\",VLOOKUP(Fuhrparkliste!P20,SFKOMPLETT,2,FALSE)))","v":""},{"$f":"IF(C11=\"\",\"\",IF(Fuhrparkliste!S20=\"\",\"00\",VLOOKUP(Fuhrparkliste!S20,KASKOMATRIXKEY,2,FALSE)))","v":""},{"$f":"IF(C11=\"\",\"\",IF(Werte!Q11=\"\",\"F1\",VLOOKUP(Fuhrparkliste!Q20,SFKOMPLETT,2,FALSE)))","v":""},{"$f":"IF(C11=\"\",\"\",Fuhrparkliste!R20)","v":""},{"$f":"SUBSTITUTE(Fuhrparkliste!E20,\" \",\"\")","v":""}]
[{"$f":"IF(C12=\"\",\"\",CONCATENATE(\"\",A11+1))","v":""},{"$f":"IF(Fuhrparkliste!B21=\"\",\"\",IF(Fuhrparkliste!B21=\"112\",\"22\",\"26\"))","v":""},{"$f":"IF(Fuhrparkliste!B21=\"\",\"\",TRIM(IF(LEN(Fuhrparkliste!B21)=1,CONCATENATE(\"00\",Fuhrparkliste!B21),IF(LEN(Fuhrparkliste!B21)=2,CONCATENATE(\"0\",Fuhrparkliste!B21),CONCATENATE(Fuhrparkliste!B21,\" \")))))","v":""},"","",{"$f":"RIGHT(AI12,COUNT(RIGHT(AI12,COLUMN(11:11))*1))","v":""},{"$f":"IF(Fuhrparkliste!I21=\"\",\"\",Fuhrparkliste!I21)","v":""},{"$f":"IF(Fuhrparkliste!F21=\"\",\"\",IF(LEN(Fuhrparkliste!F21)=1,CONCATENATE(\"000\",Fuhrparkliste!F21),IF(LEN(Fuhrparkliste!F21)=2,CONCATENATE(\"00\",Fuhrparkliste!F21),IF(LEN(Fuhrparkliste!F21)=3,CONCATENATE(\"0\",Fuhrparkliste!F21),LEFT(Fuhrparkliste!F21,4)))))","v":""},{"$f":"IF(Fuhrparkliste!G21=\"\",\"\",IF(LEN(Fuhrparkliste!G21)=1,CONCATENATE(\"00\",Fuhrparkliste!G21),IF(LEN(Fuhrparkliste!G21)=2,CONCATENATE(\"0\",Fuhrparkliste!G21),LEFT(Fuhrparkliste!G21,3))))","v":""},{"$f":"IF(C12=\"\",\"\",IF(OR(C12=\"581\",C12=\"541\",C12=\"542\",C12=\"591\",C12=\"714\",C12=\"719\"),\"\",IF(Fuhrparkliste!C21=\"\",\"0\",Fuhrparkliste!C21)))","v":""},{"$f":"IF(C12=\"\",\"\",IF(Fuhrparkliste!Z21=\"\",\"0\",VLOOKUP(Fuhrparkliste!Z21,ELEKTROMATRIXKEY,2,FALSE)))","v":""},{"$f":"IF(Fuhrparkliste!D21=\"\",\"\",Fuhrparkliste!D21)","v":""},{"$f":"IF(Fuhrparkliste!N21=\"\",\"\",VLOOKUP(Fuhrparkliste!N21,AUFBAUMATRIXKEY,2,FALSE))","v":""},{"$f":"IF(Fuhrparkliste!T21=\"\",\"\",Fuhrparkliste!T21)","v":""},{"$f":"IF(C12=\"\",\"\",IF(AND(Fuhrparkliste!M21=\"Ja\",C12=\"112\"),\"1\",\"0\"))","v":""},{"$f":"IF(Fuhrparkliste!H21=\"\",\"\",Fuhrparkliste!H21)","v":""},{"$f":"IF(Fuhrparkliste!J21=\"\",\"\",Fuhrparkliste!J21)","v":""},{"$f":"IF(C12<>\"112\",\"\",IF(Fuhrparkliste!K21=\"Ja\",\"1\",\"0\"))","v":""},{"$f":"IF(OR(Fuhrparkliste!L21=\"\",C12<>\"127\"),\"\",VLOOKUP(Fuhrparkliste!L21,Bedachungsart,2,FALSE))","v":""},{"$f":"IF(C12=\"\",\"\",IF(AND(Fuhrparkliste!X21=\"Ja\",C12=\"112\"),\"1\",\"0\"))","v":""},{"$f":"IF(C12=\"\",\"\",IF(AND(Fuhrparkliste!Y21=\"Ja\",OR(C12=\"112\",C12=\"251\")),\"1\",\"0\"))","v":""},"",{"$f":"IF(C12=\"\",\"\",IF(AND(Fuhrparkliste!W21=\"Ja\",C12=\"112\"),\"1\",\"0\"))","v":""},{"$f":"IF(C12=\"\",\"\",IF(AND(ISERROR(SEARCH(\"0??\",tblRisiken!C12)) =TRUE,ISERROR(SEARCH(\"1??\",tblRisiken!C12)) =TRUE),\"0\",IF(AND(Fuhrparkliste!U21=\"Ja\",VLOOKUP(Werte!P12,SFMATRIXKEY,3,FALSE)=\"Ja\"),\"1\",\"0\")))","v":""},{"$f":"IF(C12=\"\",\"\",IF(OR(AF12=\"00\",LEFT(AF12,1)=\"7\"),\"0\",IF(AND(ISERROR(SEARCH(\"0??\",C12)) =TRUE,ISERROR(SEARCH(\"1??\",C12)) =TRUE),\"0\",IF(AND(Fuhrparkliste!V21=\"Ja\",X12=\"1\",VLOOKUP(Werte!Q12,SFMATRIXKEY,3,FALSE)=\"Ja\"),\"1\",\"0\"))))","v":""},{"$f":"IF(C12=\"\",\"\",IF(AND(Fuhrparkliste!AA21=\"Ja\",C12=\"112\"),\"1\",\"0\"))","v":""},{"$f":"IF(Fuhrparkliste!AB21=\"\",\"\",VLOOKUP(Fuhrparkliste!AB21,MatrixVorVU,2,FALSE))","v":""},{"$f":"IF(Fuhrparkliste!AC21=\"\",\"\",Fuhrparkliste!AC21)","v":""},{"$f":"IF(C12=\"\",\"\",IF(Fuhrparkliste!O21=\"\",\"00\",VLOOKUP(Fuhrparkliste!O21,GEFAHRGUTMATRIXKEY,2,FALSE)))","v":""},"",{"$f":"IF(C12=\"\",\"\",IF(Werte!P12=\"\",\"F1\",VLOOKUP(Fuhrparkliste!P21,SFKOMPLETT,2,FALSE)))","v":""},{"$f":"IF(C12=\"\",\"\",IF(Fuhrparkliste!S21=\"\",\"00\",VLOOKUP(Fuhrparkliste!S21,KASKOMATRIXKEY,2,FALSE)))","v":""},{"$f":"IF(C12=\"\",\"\",IF(Werte!Q12=\"\",\"F1\",VLOOKUP(Fuhrparkliste!Q21,SFKOMPLETT,2,FALSE)))","v":""},{"$f":"IF(C12=\"\",\"\",Fuhrparkliste!R21)","v":""},{"$f":"SUBSTITUTE(Fuhrparkliste!E21,\" \",\"\")","v":""}]
["",{"$f":"IF(Fuhrparkliste!B22=\"\",\"\",IF(Fuhrparkliste!B22=\"112\",\"22\",\"26\"))","v":""},{"$f":"IF(Fuhrparkliste!B22=\"\",\"\",TRIM(IF(LEN(Fuhrparkliste!B22)=1,CONCATENATE(\"00\",Fuhrparkliste!B22),IF(LEN(Fuhrparkliste!B22)=2,CONCATENATE(\"0\",Fuhrparkliste!B22),CONCATENATE(Fuhrparkliste!B22,\" \")))))","v":""},"","",{"$f":"RIGHT(AI13,COUNT(RIGHT(AI13,COLUMN(12:12))*1))","v":""},{"$f":"IF(Fuhrparkliste!I22=\"\",\"\",Fuhrparkliste!I22)","v":""},{"$f":"IF(Fuhrparkliste!F22=\"\",\"\",IF(LEN(Fuhrparkliste!F22)=1,CONCATENATE(\"000\",Fuhrparkliste!F22),IF(LEN(Fuhrparkliste!F22)=2,CONCATENATE(\"00\",Fuhrparkliste!F22),IF(LEN(Fuhrparkliste!F22)=3,CONCATENATE(\"0\",Fuhrparkliste!F22),LEFT(Fuhrparkliste!F22,4)))))","v":""},{"$f":"IF(Fuhrparkliste!G22=\"\",\"\",IF(LEN(Fuhrparkliste!G22)=1,CONCATENATE(\"00\",Fuhrparkliste!G22),IF(LEN(Fuhrparkliste!G22)=2,CONCATENATE(\"0\",Fuhrparkliste!G22),LEFT(Fuhrparkliste!G22,3))))","v":""},{"$f":"IF(C13=\"\",\"\",IF(OR(C13=\"581\",C13=\"541\",C13=\"542\",C13=\"591\",C13=\"714\",C13=\"719\"),\"\",IF(Fuhrparkliste!C22=\"\",\"0\",Fuhrparkliste!C22)))","v":""},{"$f":"IF(C13=\"\",\"\",IF(Fuhrparkliste!Z22=\"\",\"0\",VLOOKUP(Fuhrparkliste!Z22,ELEKTROMATRIXKEY,2,FALSE)))","v":""},{"$f":"IF(Fuhrparkliste!D22=\"\",\"\",Fuhrparkliste!D22)","v":""},{"$f":"IF(Fuhrparkliste!N22=\"\",\"\",VLOOKUP(Fuhrparkliste!N22,AUFBAUMATRIXKEY,2,FALSE))","v":""},{"$f":"IF(Fuhrparkliste!T22=\"\",\"\",Fuhrparkliste!T22)","v":""},{"$f":"IF(C13=\"\",\"\",IF(AND(Fuhrparkliste!M22=\"Ja\",C13=\"112\"),\"1\",\"0\"))","v":""},{"$f":"IF(Fuhrparkliste!H22=\"\",\"\",Fuhrparkliste!H22)","v":""},{"$f":"IF(Fuhrparkliste!J22=\"\",\"\",Fuhrparkliste!J22)","v":""},{"$f":"IF(C13<>\"112\",\"\",IF(Fuhrparkliste!K22=\"Ja\",\"1\",\"0\"))","v":""},{"$f":"IF(OR(Fuhrparkliste!L22=\"\",C13<>\"127\"),\"\",VLOOKUP(Fuhrparkliste!L22,Bedachungsart,2,FALSE))","v":""},{"$f":"IF(C13=\"\",\"\",IF(AND(Fuhrparkliste!X22=\"Ja\",C13=\"112\"),\"1\",\"0\"))","v":""},{"$f":"IF(C13=\"\",\"\",IF(AND(Fuhrparkliste!Y22=\"Ja\",OR(C13=\"112\",C13=\"251\")),\"1\",\"0\"))","v":""},"",{"$f":"IF(C13=\"\",\"\",IF(AND(Fuhrparkliste!W22=\"Ja\",C13=\"112\"),\"1\",\"0\"))","v":""},{"$f":"IF(C13=\"\",\"\",IF(AND(ISERROR(SEARCH(\"0??\",tblRisiken!C13)) =TRUE,ISERROR(SEARCH(\"1??\",tblRisiken!C13)) =TRUE),\"0\",IF(AND(Fuhrparkliste!U22=\"Ja\",VLOOKUP(Werte!P13,SFMATRIXKEY,3,FALSE)=\"Ja\"),\"1\",\"0\")))","v":""},{"$f":"IF(C13=\"\",\"\",IF(OR(AF13=\"00\",LEFT(AF13,1)=\"7\"),\"0\",IF(AND(ISERROR(SEARCH(\"0??\",C13)) =TRUE,ISERROR(SEARCH(\"1??\",C13)) =TRUE),\"0\",IF(AND(Fuhrparkliste!V22=\"Ja\",X13=\"1\",VLOOKUP(Werte!Q13,SFMATRIXKEY,3,FALSE)=\"Ja\"),\"1\",\"0\"))))","v":""},{"$f":"IF(C13=\"\",\"\",IF(AND(Fuhrparkliste!AA22=\"Ja\",C13=\"112\"),\"1\",\"0\"))","v":""},{"$f":"IF(Fuhrparkliste!AB22=\"\",\"\",VLOOKUP(Fuhrparkliste!AB22,MatrixVorVU,2,FALSE))","v":""},{"$f":"IF(Fuhrparkliste!AC22=\"\",\"\",Fuhrparkliste!AC22)","v":""},{"$f":"IF(C13=\"\",\"\",IF(Fuhrparkliste!O22=\"\",\"00\",VLOOKUP(Fuhrparkliste!O22,GEFAHRGUTMATRIXKEY,2,FALSE)))","v":""},"",{"$f":"IF(C13=\"\",\"\",IF(Werte!P13=\"\",\"F1\",VLOOKUP(Fuhrparkliste!P22,SFKOMPLETT,2,FALSE)))","v":""},{"$f":"IF(C13=\"\",\"\",IF(Fuhrparkliste!S22=\"\",\"00\",VLOOKUP(Fuhrparkliste!S22,KASKOMATRIXKEY,2,FALSE)))","v":""},{"$f":"IF(C13=\"\",\"\",IF(Werte!Q13=\"\",\"F1\",VLOOKUP(Fuhrparkliste!Q22,SFKOMPLETT,2,FALSE)))","v":""},{"$f":"IF(C13=\"\",\"\",Fuhrparkliste!R22)","v":""},{"$f":"SUBSTITUTE(Fuhrparkliste!E22,\" \",\"\")","v":""}]
["",{"$f":"IF(Fuhrparkliste!B23=\"\",\"\",IF(Fuhrparkliste!B23=\"112\",\"22\",\"26\"))","v":""},{"$f":"IF(Fuhrparkliste!B23=\"\",\"\",TRIM(IF(LEN(Fuhrparkliste!B23)=1,CONCATENATE(\"00\",Fuhrparkliste!B23),IF(LEN(Fuhrparkliste!B23)=2,CONCATENATE(\"0\",Fuhrparkliste!B23),CONCATENATE(Fuhrparkliste!B23,\" \")))))","v":""},"","",{"$f":"RIGHT(AI14,COUNT(RIGHT(AI14,COLUMN(13:13))*1))","v":""},{"$f":"IF(Fuhrparkliste!I23=\"\",\"\",Fuhrparkliste!I23)","v":""},{"$f":"IF(Fuhrparkliste!F23=\"\",\"\",IF(LEN(Fuhrparkliste!F23)=1,CONCATENATE(\"000\",Fuhrparkliste!F23),IF(LEN(Fuhrparkliste!F23)=2,CONCATENATE(\"00\",Fuhrparkliste!F23),IF(LEN(Fuhrparkliste!F23)=3,CONCATENATE(\"0\",Fuhrparkliste!F23),LEFT(Fuhrparkliste!F23,4)))))","v":""},{"$f":"IF(Fuhrparkliste!G23=\"\",\"\",IF(LEN(Fuhrparkliste!G23)=1,CONCATENATE(\"00\",Fuhrparkliste!G23),IF(LEN(Fuhrparkliste!G23)=2,CONCATENATE(\"0\",Fuhrparkliste!G23),LEFT(Fuhrparkliste!G23,3))))","v":""},{"$f":"IF(C14=\"\",\"\",IF(OR(C14=\"581\",C14=\"541\",C14=\"542\",C14=\"591\",C14=\"714\",C14=\"719\"),\"\",IF(Fuhrparkliste!C23=\"\",\"0\",Fuhrparkliste!C23)))","v":""},{"$f":"IF(C14=\"\",\"\",IF(Fuhrparkliste!Z23=\"\",\"0\",VLOOKUP(Fuhrparkliste!Z23,ELEKTROMATRIXKEY,2,FALSE)))","v":""},{"$f":"IF(Fuhrparkliste!D23=\"\",\"\",Fuhrparkliste!D23)","v":""},{"$f":"IF(Fuhrparkliste!N23=\"\",\"\",VLOOKUP(Fuhrparkliste!N23,AUFBAUMATRIXKEY,2,FALSE))","v":""},{"$f":"IF(Fuhrparkliste!T23=\"\",\"\",Fuhrparkliste!T23)","v":""},{"$f":"IF(C14=\"\",\"\",IF(AND(Fuhrparkliste!M23=\"Ja\",C14=\"112\"),\"1\",\"0\"))","v":""},{"$f":"IF(Fuhrparkliste!H23=\"\",\"\",Fuhrparkliste!H23)","v":""},{"$f":"IF(Fuhrparkliste!J23=\"\",\"\",Fuhrparkliste!J23)","v":""},{"$f":"IF(C14<>\"112\",\"\",IF(Fuhrparkliste!K23=\"Ja\",\"1\",\"0\"))","v":""},{"$f":"IF(OR(Fuhrparkliste!L23=\"\",C14<>\"127\"),\"\",VLOOKUP(Fuhrparkliste!L23,Bedachungsart,2,FALSE))","v":""},{"$f":"IF(C14=\"\",\"\",IF(AND(Fuhrparkliste!X23=\"Ja\",C14=\"112\"),\"1\",\"0\"))","v":""},{"$f":"IF(C14=\"\",\"\",IF(AND(Fuhrparkliste!Y23=\"Ja\",OR(C14=\"112\",C14=\"251\")),\"1\",\"0\"))","v":""},"",{"$f":"IF(C14=\"\",\"\",IF(AND(Fuhrparkliste!W23=\"Ja\",C14=\"112\"),\"1\",\"0\"))","v":""},{"$f":"IF(C14=\"\",\"\",IF(AND(ISERROR(SEARCH(\"0??\",tblRisiken!C14)) =TRUE,ISERROR(SEARCH(\"1??\",tblRisiken!C14)) =TRUE),\"0\",IF(AND(Fuhrparkliste!U23=\"Ja\",VLOOKUP(Werte!P14,SFMATRIXKEY,3,FALSE)=\"Ja\"),\"1\",\"0\")))","v":""},{"$f":"IF(C14=\"\",\"\",IF(OR(AF14=\"00\",LEFT(AF14,1)=\"7\"),\"0\",IF(AND(ISERROR(SEARCH(\"0??\",C14)) =TRUE,ISERROR(SEARCH(\"1??\",C14)) =TRUE),\"0\",IF(AND(Fuhrparkliste!V23=\"Ja\",X14=\"1\",VLOOKUP(Werte!Q14,SFMATRIXKEY,3,FALSE)=\"Ja\"),\"1\",\"0\"))))","v":""},{"$f":"IF(C14=\"\",\"\",IF(AND(Fuhrparkliste!AA23=\"Ja\",C14=\"112\"),\"1\",\"0\"))","v":""},{"$f":"IF(Fuhrparkliste!AB23=\"\",\"\",VLOOKUP(Fuhrparkliste!AB23,MatrixVorVU,2,FALSE))","v":""},{"$f":"IF(Fuhrparkliste!AC23=\"\",\"\",Fuhrparkliste!AC23)","v":""},{"$f":"IF(C14=\"\",\"\",IF(Fuhrparkliste!O23=\"\",\"00\",VLOOKUP(Fuhrparkliste!O23,GEFAHRGUTMATRIXKEY,2,FALSE)))","v":""},"",{"$f":"IF(C14=\"\",\"\",IF(Werte!P14=\"\",\"F1\",VLOOKUP(Fuhrparkliste!P23,SFKOMPLETT,2,FALSE)))","v":""},{"$f":"IF(C14=\"\",\"\",IF(Fuhrparkliste!S23=\"\",\"00\",VLOOKUP(Fuhrparkliste!S23,KASKOMATRIXKEY,2,FALSE)))","v":""},{"$f":"IF(C14=\"\",\"\",IF(Werte!Q14=\"\",\"F1\",VLOOKUP(Fuhrparkliste!Q23,SFKOMPLETT,2,FALSE)))","v":""},{"$f":"IF(C14=\"\",\"\",Fuhrparkliste!R23)","v":""},{"$f":"SUBSTITUTE(Fuhrparkliste!E23,\" \",\"\")","v":""}]
["",{"$f":"IF(Fuhrparkliste!B24=\"\",\"\",IF(Fuhrparkliste!B24=\"112\",\"22\",\"26\"))","v":""},{"$f":"IF(Fuhrparkliste!B24=\"\",\"\",TRIM(IF(LEN(Fuhrparkliste!B24)=1,CONCATENATE(\"00\",Fuhrparkliste!B24),IF(LEN(Fuhrparkliste!B24)=2,CONCATENATE(\"0\",Fuhrparkliste!B24),CONCATENATE(Fuhrparkliste!B24,\" \")))))","v":""},"","",{"$f":"RIGHT(AI15,COUNT(RIGHT(AI15,COLUMN(14:14))*1))","v":""},{"$f":"IF(Fuhrparkliste!I24=\"\",\"\",Fuhrparkliste!I24)","v":""},{"$f":"IF(Fuhrparkliste!F24=\"\",\"\",IF(LEN(Fuhrparkliste!F24)=1,CONCATENATE(\"000\",Fuhrparkliste!F24),IF(LEN(Fuhrparkliste!F24)=2,CONCATENATE(\"00\",Fuhrparkliste!F24),IF(LEN(Fuhrparkliste!F24)=3,CONCATENATE(\"0\",Fuhrparkliste!F24),LEFT(Fuhrparkliste!F24,4)))))","v":""},{"$f":"IF(Fuhrparkliste!G24=\"\",\"\",IF(LEN(Fuhrparkliste!G24)=1,CONCATENATE(\"00\",Fuhrparkliste!G24),IF(LEN(Fuhrparkliste!G24)=2,CONCATENATE(\"0\",Fuhrparkliste!G24),LEFT(Fuhrparkliste!G24,3))))","v":""},{"$f":"IF(C15=\"\",\"\",IF(OR(C15=\"581\",C15=\"541\",C15=\"542\",C15=\"591\",C15=\"714\",C15=\"719\"),\"\",IF(Fuhrparkliste!C24=\"\",\"0\",Fuhrparkliste!C24)))","v":""},{"$f":"IF(C15=\"\",\"\",IF(Fuhrparkliste!Z24=\"\",\"0\",VLOOKUP(Fuhrparkliste!Z24,ELEKTROMATRIXKEY,2,FALSE)))","v":""},{"$f":"IF(Fuhrparkliste!D24=\"\",\"\",Fuhrparkliste!D24)","v":""},{"$f":"IF(Fuhrparkliste!N24=\"\",\"\",VLOOKUP(Fuhrparkliste!N24,AUFBAUMATRIXKEY,2,FALSE))","v":""},{"$f":"IF(Fuhrparkliste!T24=\"\",\"\",Fuhrparkliste!T24)","v":""},{"$f":"IF(C15=\"\",\"\",IF(AND(Fuhrparkliste!M24=\"Ja\",C15=\"112\"),\"1\",\"0\"))","v":""},{"$f":"IF(Fuhrparkliste!H24=\"\",\"\",Fuhrparkliste!H24)","v":""},{"$f":"IF(Fuhrparkliste!J24=\"\",\"\",Fuhrparkliste!J24)","v":""},{"$f":"IF(C15<>\"112\",\"\",IF(Fuhrparkliste!K24=\"Ja\",\"1\",\"0\"))","v":""},{"$f":"IF(OR(Fuhrparkliste!L24=\"\",C15<>\"127\"),\"\",VLOOKUP(Fuhrparkliste!L24,Bedachungsart,2,FALSE))","v":""},{"$f":"IF(C15=\"\",\"\",IF(AND(Fuhrparkliste!X24=\"Ja\",C15=\"112\"),\"1\",\"0\"))","v":""},{"$f":"IF(C15=\"\",\"\",IF(AND(Fuhrparkliste!Y24=\"Ja\",OR(C15=\"112\",C15=\"251\")),\"1\",\"0\"))","v":""},"",{"$f":"IF(C15=\"\",\"\",IF(AND(Fuhrparkliste!W24=\"Ja\",C15=\"112\"),\"1\",\"0\"))","v":""},{"$f":"IF(C15=\"\",\"\",IF(AND(ISERROR(SEARCH(\"0??\",tblRisiken!C15)) =TRUE,ISERROR(SEARCH(\"1??\",tblRisiken!C15)) =TRUE),\"0\",IF(AND(Fuhrparkliste!U24=\"Ja\",VLOOKUP(Werte!P15,SFMATRIXKEY,3,FALSE)=\"Ja\"),\"1\",\"0\")))","v":""},{"$f":"IF(C15=\"\",\"\",IF(OR(AF15=\"00\",LEFT(AF15,1)=\"7\"),\"0\",IF(AND(ISERROR(SEARCH(\"0??\",C15)) =TRUE,ISERROR(SEARCH(\"1??\",C15)) =TRUE),\"0\",IF(AND(Fuhrparkliste!V24=\"Ja\",X15=\"1\",VLOOKUP(Werte!Q15,SFMATRIXKEY,3,FALSE)=\"Ja\"),\"1\",\"0\"))))","v":""},{"$f":"IF(C15=\"\",\"\",IF(AND(Fuhrparkliste!AA24=\"Ja\",C15=\"112\"),\"1\",\"0\"))","v":""},{"$f":"IF(Fuhrparkliste!AB24=\"\",\"\",VLOOKUP(Fuhrparkliste!AB24,MatrixVorVU,2,FALSE))","v":""},{"$f":"IF(Fuhrparkliste!AC24=\"\",\"\",Fuhrparkliste!AC24)","v":""},{"$f":"IF(C15=\"\",\"\",IF(Fuhrparkliste!O24=\"\",\"00\",VLOOKUP(Fuhrparkliste!O24,GEFAHRGUTMATRIXKEY,2,FALSE)))","v":""},"",{"$f":"IF(C15=\"\",\"\",IF(Werte!P15=\"\",\"F1\",VLOOKUP(Fuhrparkliste!P24,SFKOMPLETT,2,FALSE)))","v":""},{"$f":"IF(C15=\"\",\"\",IF(Fuhrparkliste!S24=\"\",\"00\",VLOOKUP(Fuhrparkliste!S24,KASKOMATRIXKEY,2,FALSE)))","v":""},{"$f":"IF(C15=\"\",\"\",IF(Werte!Q15=\"\",\"F1\",VLOOKUP(Fuhrparkliste!Q24,SFKOMPLETT,2,FALSE)))","v":""},{"$f":"IF(C15=\"\",\"\",Fuhrparkliste!R24)","v":""},{"$f":"SUBSTITUTE(Fuhrparkliste!E24,\" \",\"\")","v":""}]
["",{"$f":"IF(Fuhrparkliste!B25=\"\",\"\",IF(Fuhrparkliste!B25=\"112\",\"22\",\"26\"))","v":""},{"$f":"IF(Fuhrparkliste!B25=\"\",\"\",TRIM(IF(LEN(Fuhrparkliste!B25)=1,CONCATENATE(\"00\",Fuhrparkliste!B25),IF(LEN(Fuhrparkliste!B25)=2,CONCATENATE(\"0\",Fuhrparkliste!B25),CONCATENATE(Fuhrparkliste!B25,\" \")))))","v":""},"","",{"$f":"RIGHT(AI16,COUNT(RIGHT(AI16,COLUMN(15:15))*1))","v":""},{"$f":"IF(Fuhrparkliste!I25=\"\",\"\",Fuhrparkliste!I25)","v":""},{"$f":"IF(Fuhrparkliste!F25=\"\",\"\",IF(LEN(Fuhrparkliste!F25)=1,CONCATENATE(\"000\",Fuhrparkliste!F25),IF(LEN(Fuhrparkliste!F25)=2,CONCATENATE(\"00\",Fuhrparkliste!F25),IF(LEN(Fuhrparkliste!F25)=3,CONCATENATE(\"0\",Fuhrparkliste!F25),LEFT(Fuhrparkliste!F25,4)))))","v":""},{"$f":"IF(Fuhrparkliste!G25=\"\",\"\",IF(LEN(Fuhrparkliste!G25)=1,CONCATENATE(\"00\",Fuhrparkliste!G25),IF(LEN(Fuhrparkliste!G25)=2,CONCATENATE(\"0\",Fuhrparkliste!G25),LEFT(Fuhrparkliste!G25,3))))","v":""},{"$f":"IF(C16=\"\",\"\",IF(OR(C16=\"581\",C16=\"541\",C16=\"542\",C16=\"591\",C16=\"714\",C16=\"719\"),\"\",IF(Fuhrparkliste!C25=\"\",\"0\",Fuhrparkliste!C25)))","v":""},{"$f":"IF(C16=\"\",\"\",IF(Fuhrparkliste!Z25=\"\",\"0\",VLOOKUP(Fuhrparkliste!Z25,ELEKTROMATRIXKEY,2,FALSE)))","v":""},{"$f":"IF(Fuhrparkliste!D25=\"\",\"\",Fuhrparkliste!D25)","v":""},{"$f":"IF(Fuhrparkliste!N25=\"\",\"\",VLOOKUP(Fuhrparkliste!N25,AUFBAUMATRIXKEY,2,FALSE))","v":""},{"$f":"IF(Fuhrparkliste!T25=\"\",\"\",Fuhrparkliste!T25)","v":""},{"$f":"IF(C16=\"\",\"\",IF(AND(Fuhrparkliste!M25=\"Ja\",C16=\"112\"),\"1\",\"0\"))","v":""},{"$f":"IF(Fuhrparkliste!H25=\"\",\"\",Fuhrparkliste!H25)","v":""},{"$f":"IF(Fuhrparkliste!J25=\"\",\"\",Fuhrparkliste!J25)","v":""},{"$f":"IF(C16<>\"112\",\"\",IF(Fuhrparkliste!K25=\"Ja\",\"1\",\"0\"))","v":""},{"$f":"IF(OR(Fuhrparkliste!L25=\"\",C16<>\"127\"),\"\",VLOOKUP(Fuhrparkliste!L25,Bedachungsart,2,FALSE))","v":""},{"$f":"IF(C16=\"\",\"\",IF(AND(Fuhrparkliste!X25=\"Ja\",C16=\"112\"),\"1\",\"0\"))","v":""},{"$f":"IF(C16=\"\",\"\",IF(AND(Fuhrparkliste!Y25=\"Ja\",OR(C16=\"112\",C16=\"251\")),\"1\",\"0\"))","v":""},"",{"$f":"IF(C16=\"\",\"\",IF(AND(Fuhrparkliste!W25=\"Ja\",C16=\"112\"),\"1\",\"0\"))","v":""},{"$f":"IF(C16=\"\",\"\",IF(AND(ISERROR(SEARCH(\"0??\",tblRisiken!C16)) =TRUE,ISERROR(SEARCH(\"1??\",tblRisiken!C16)) =TRUE),\"0\",IF(AND(Fuhrparkliste!U25=\"Ja\",VLOOKUP(Werte!P16,SFMATRIXKEY,3,FALSE)=\"Ja\"),\"1\",\"0\")))","v":""},{"$f":"IF(C16=\"\",\"\",IF(OR(AF16=\"00\",LEFT(AF16,1)=\"7\"),\"0\",IF(AND(ISERROR(SEARCH(\"0??\",C16)) =TRUE,ISERROR(SEARCH(\"1??\",C16)) =TRUE),\"0\",IF(AND(Fuhrparkliste!V25=\"Ja\",X16=\"1\",VLOOKUP(Werte!Q16,SFMATRIXKEY,3,FALSE)=\"Ja\"),\"1\",\"0\"))))","v":""},{"$f":"IF(C16=\"\",\"\",IF(AND(Fuhrparkliste!AA25=\"Ja\",C16=\"112\"),\"1\",\"0\"))","v":""},{"$f":"IF(Fuhrparkliste!AB25=\"\",\"\",VLOOKUP(Fuhrparkliste!AB25,MatrixVorVU,2,FALSE))","v":""},{"$f":"IF(Fuhrparkliste!AC25=\"\",\"\",Fuhrparkliste!AC25)","v":""},{"$f":"IF(C16=\"\",\"\",IF(Fuhrparkliste!O25=\"\",\"00\",VLOOKUP(Fuhrparkliste!O25,GEFAHRGUTMATRIXKEY,2,FALSE)))","v":""},"",{"$f":"IF(C16=\"\",\"\",IF(Werte!P16=\"\",\"F1\",VLOOKUP(Fuhrparkliste!P25,SFKOMPLETT,2,FALSE)))","v":""},{"$f":"IF(C16=\"\",\"\",IF(Fuhrparkliste!S25=\"\",\"00\",VLOOKUP(Fuhrparkliste!S25,KASKOMATRIXKEY,2,FALSE)))","v":""},{"$f":"IF(C16=\"\",\"\",IF(Werte!Q16=\"\",\"F1\",VLOOKUP(Fuhrparkliste!Q25,SFKOMPLETT,2,FALSE)))","v":""},{"$f":"IF(C16=\"\",\"\",Fuhrparkliste!R25)","v":""},{"$f":"SUBSTITUTE(Fuhrparkliste!E25,\" \",\"\")","v":""}]
["",{"$f":"IF(Fuhrparkliste!B26=\"\",\"\",IF(Fuhrparkliste!B26=\"112\",\"22\",\"26\"))","v":""},{"$f":"IF(Fuhrparkliste!B26=\"\",\"\",TRIM(IF(LEN(Fuhrparkliste!B26)=1,CONCATENATE(\"00\",Fuhrparkliste!B26),IF(LEN(Fuhrparkliste!B26)=2,CONCATENATE(\"0\",Fuhrparkliste!B26),CONCATENATE(Fuhrparkliste!B26,\" \")))))","v":""},"","",{"$f":"RIGHT(AI17,COUNT(RIGHT(AI17,COLUMN(16:16))*1))","v":""},{"$f":"IF(Fuhrparkliste!I26=\"\",\"\",Fuhrparkliste!I26)","v":""},{"$f":"IF(Fuhrparkliste!F26=\"\",\"\",IF(LEN(Fuhrparkliste!F26)=1,CONCATENATE(\"000\",Fuhrparkliste!F26),IF(LEN(Fuhrparkliste!F26)=2,CONCATENATE(\"00\",Fuhrparkliste!F26),IF(LEN(Fuhrparkliste!F26)=3,CONCATENATE(\"0\",Fuhrparkliste!F26),LEFT(Fuhrparkliste!F26,4)))))","v":""},{"$f":"IF(Fuhrparkliste!G26=\"\",\"\",IF(LEN(Fuhrparkliste!G26)=1,CONCATENATE(\"00\",Fuhrparkliste!G26),IF(LEN(Fuhrparkliste!G26)=2,CONCATENATE(\"0\",Fuhrparkliste!G26),LEFT(Fuhrparkliste!G26,3))))","v":""},{"$f":"IF(C17=\"\",\"\",IF(OR(C17=\"581\",C17=\"541\",C17=\"542\",C17=\"591\",C17=\"714\",C17=\"719\"),\"\",IF(Fuhrparkliste!C26=\"\",\"0\",Fuhrparkliste!C26)))","v":""},{"$f":"IF(C17=\"\",\"\",IF(Fuhrparkliste!Z26=\"\",\"0\",VLOOKUP(Fuhrparkliste!Z26,ELEKTROMATRIXKEY,2,FALSE)))","v":""},{"$f":"IF(Fuhrparkliste!D26=\"\",\"\",Fuhrparkliste!D26)","v":""},{"$f":"IF(Fuhrparkliste!N26=\"\",\"\",VLOOKUP(Fuhrparkliste!N26,AUFBAUMATRIXKEY,2,FALSE))","v":""},{"$f":"IF(Fuhrparkliste!T26=\"\",\"\",Fuhrparkliste!T26)","v":""},{"$f":"IF(C17=\"\",\"\",IF(AND(Fuhrparkliste!M26=\"Ja\",C17=\"112\"),\"1\",\"0\"))","v":""},{"$f":"IF(Fuhrparkliste!H26=\"\",\"\",Fuhrparkliste!H26)","v":""},{"$f":"IF(Fuhrparkliste!J26=\"\",\"\",Fuhrparkliste!J26)","v":""},{"$f":"IF(C17<>\"112\",\"\",IF(Fuhrparkliste!K26=\"Ja\",\"1\",\"0\"))","v":""},{"$f":"IF(OR(Fuhrparkliste!L26=\"\",C17<>\"127\"),\"\",VLOOKUP(Fuhrparkliste!L26,Bedachungsart,2,FALSE))","v":""},{"$f":"IF(C17=\"\",\"\",IF(AND(Fuhrparkliste!X26=\"Ja\",C17=\"112\"),\"1\",\"0\"))","v":""},{"$f":"IF(C17=\"\",\"\",IF(AND(Fuhrparkliste!Y26=\"Ja\",OR(C17=\"112\",C17=\"251\")),\"1\",\"0\"))","v":""},"",{"$f":"IF(C17=\"\",\"\",IF(AND(Fuhrparkliste!W26=\"Ja\",C17=\"112\"),\"1\",\"0\"))","v":""},{"$f":"IF(C17=\"\",\"\",IF(AND(ISERROR(SEARCH(\"0??\",tblRisiken!C17)) =TRUE,ISERROR(SEARCH(\"1??\",tblRisiken!C17)) =TRUE),\"0\",IF(AND(Fuhrparkliste!U26=\"Ja\",VLOOKUP(Werte!P17,SFMATRIXKEY,3,FALSE)=\"Ja\"),\"1\",\"0\")))","v":""},{"$f":"IF(C17=\"\",\"\",IF(OR(AF17=\"00\",LEFT(AF17,1)=\"7\"),\"0\",IF(AND(ISERROR(SEARCH(\"0??\",C17)) =TRUE,ISERROR(SEARCH(\"1??\",C17)) =TRUE),\"0\",IF(AND(Fuhrparkliste!V26=\"Ja\",X17=\"1\",VLOOKUP(Werte!Q17,SFMATRIXKEY,3,FALSE)=\"Ja\"),\"1\",\"0\"))))","v":""},{"$f":"IF(C17=\"\",\"\",IF(AND(Fuhrparkliste!AA26=\"Ja\",C17=\"112\"),\"1\",\"0\"))","v":""},{"$f":"IF(Fuhrparkliste!AB26=\"\",\"\",VLOOKUP(Fuhrparkliste!AB26,MatrixVorVU,2,FALSE))","v":""},{"$f":"IF(Fuhrparkliste!AC26=\"\",\"\",Fuhrparkliste!AC26)","v":""},{"$f":"IF(C17=\"\",\"\",IF(Fuhrparkliste!O26=\"\",\"00\",VLOOKUP(Fuhrparkliste!O26,GEFAHRGUTMATRIXKEY,2,FALSE)))","v":""},"",{"$f":"IF(C17=\"\",\"\",IF(Werte!P17=\"\",\"F1\",VLOOKUP(Fuhrparkliste!P26,SFKOMPLETT,2,FALSE)))","v":""},{"$f":"IF(C17=\"\",\"\",IF(Fuhrparkliste!S26=\"\",\"00\",VLOOKUP(Fuhrparkliste!S26,KASKOMATRIXKEY,2,FALSE)))","v":""},{"$f":"IF(C17=\"\",\"\",IF(Werte!Q17=\"\",\"F1\",VLOOKUP(Fuhrparkliste!Q26,SFKOMPLETT,2,FALSE)))","v":""},{"$f":"IF(C17=\"\",\"\",Fuhrparkliste!R26)","v":""},{"$f":"SUBSTITUTE(Fuhrparkliste!E26,\" \",\"\")","v":""}]
["",{"$f":"IF(Fuhrparkliste!B27=\"\",\"\",IF(Fuhrparkliste!B27=\"112\",\"22\",\"26\"))","v":""},{"$f":"IF(Fuhrparkliste!B27=\"\",\"\",TRIM(IF(LEN(Fuhrparkliste!B27)=1,CONCATENATE(\"00\",Fuhrparkliste!B27),IF(LEN(Fuhrparkliste!B27)=2,CONCATENATE(\"0\",Fuhrparkliste!B27),CONCATENATE(Fuhrparkliste!B27,\" \")))))","v":""},"","",{"$f":"RIGHT(AI18,COUNT(RIGHT(AI18,COLUMN(17:17))*1))","v":""},{"$f":"IF(Fuhrparkliste!I27=\"\",\"\",Fuhrparkliste!I27)","v":""},{"$f":"IF(Fuhrparkliste!F27=\"\",\"\",IF(LEN(Fuhrparkliste!F27)=1,CONCATENATE(\"000\",Fuhrparkliste!F27),IF(LEN(Fuhrparkliste!F27)=2,CONCATENATE(\"00\",Fuhrparkliste!F27),IF(LEN(Fuhrparkliste!F27)=3,CONCATENATE(\"0\",Fuhrparkliste!F27),LEFT(Fuhrparkliste!F27,4)))))","v":""},{"$f":"IF(Fuhrparkliste!G27=\"\",\"\",IF(LEN(Fuhrparkliste!G27)=1,CONCATENATE(\"00\",Fuhrparkliste!G27),IF(LEN(Fuhrparkliste!G27)=2,CONCATENATE(\"0\",Fuhrparkliste!G27),LEFT(Fuhrparkliste!G27,3))))","v":""},{"$f":"IF(C18=\"\",\"\",IF(OR(C18=\"581\",C18=\"541\",C18=\"542\",C18=\"591\",C18=\"714\",C18=\"719\"),\"\",IF(Fuhrparkliste!C27=\"\",\"0\",Fuhrparkliste!C27)))","v":""},{"$f":"IF(C18=\"\",\"\",IF(Fuhrparkliste!Z27=\"\",\"0\",VLOOKUP(Fuhrparkliste!Z27,ELEKTROMATRIXKEY,2,FALSE)))","v":""},{"$f":"IF(Fuhrparkliste!D27=\"\",\"\",Fuhrparkliste!D27)","v":""},{"$f":"IF(Fuhrparkliste!N27=\"\",\"\",VLOOKUP(Fuhrparkliste!N27,AUFBAUMATRIXKEY,2,FALSE))","v":""},{"$f":"IF(Fuhrparkliste!T27=\"\",\"\",Fuhrparkliste!T27)","v":""},{"$f":"IF(C18=\"\",\"\",IF(AND(Fuhrparkliste!M27=\"Ja\",C18=\"112\"),\"1\",\"0\"))","v":""},{"$f":"IF(Fuhrparkliste!H27=\"\",\"\",Fuhrparkliste!H27)","v":""},{"$f":"IF(Fuhrparkliste!J27=\"\",\"\",Fuhrparkliste!J27)","v":""},{"$f":"IF(C18<>\"112\",\"\",IF(Fuhrparkliste!K27=\"Ja\",\"1\",\"0\"))","v":""},{"$f":"IF(OR(Fuhrparkliste!L27=\"\",C18<>\"127\"),\"\",VLOOKUP(Fuhrparkliste!L27,Bedachungsart,2,FALSE))","v":""},{"$f":"IF(C18=\"\",\"\",IF(AND(Fuhrparkliste!X27=\"Ja\",C18=\"112\"),\"1\",\"0\"))","v":""},{"$f":"IF(C18=\"\",\"\",IF(AND(Fuhrparkliste!Y27=\"Ja\",OR(C18=\"112\",C18=\"251\")),\"1\",\"0\"))","v":""},"",{"$f":"IF(C18=\"\",\"\",IF(AND(Fuhrparkliste!W27=\"Ja\",C18=\"112\"),\"1\",\"0\"))","v":""},{"$f":"IF(C18=\"\",\"\",IF(AND(ISERROR(SEARCH(\"0??\",tblRisiken!C18)) =TRUE,ISERROR(SEARCH(\"1??\",tblRisiken!C18)) =TRUE),\"0\",IF(AND(Fuhrparkliste!U27=\"Ja\",VLOOKUP(Werte!P18,SFMATRIXKEY,3,FALSE)=\"Ja\"),\"1\",\"0\")))","v":""},{"$f":"IF(C18=\"\",\"\",IF(OR(AF18=\"00\",LEFT(AF18,1)=\"7\"),\"0\",IF(AND(ISERROR(SEARCH(\"0??\",C18)) =TRUE,ISERROR(SEARCH(\"1??\",C18)) =TRUE),\"0\",IF(AND(Fuhrparkliste!V27=\"Ja\",X18=\"1\",VLOOKUP(Werte!Q18,SFMATRIXKEY,3,FALSE)=\"Ja\"),\"1\",\"0\"))))","v":""},{"$f":"IF(C18=\"\",\"\",IF(AND(Fuhrparkliste!AA27=\"Ja\",C18=\"112\"),\"1\",\"0\"))","v":""},{"$f":"IF(Fuhrparkliste!AB27=\"\",\"\",VLOOKUP(Fuhrparkliste!AB27,MatrixVorVU,2,FALSE))","v":""},{"$f":"IF(Fuhrparkliste!AC27=\"\",\"\",Fuhrparkliste!AC27)","v":""},{"$f":"IF(C18=\"\",\"\",IF(Fuhrparkliste!O27=\"\",\"00\",VLOOKUP(Fuhrparkliste!O27,GEFAHRGUTMATRIXKEY,2,FALSE)))","v":""},"",{"$f":"IF(C18=\"\",\"\",IF(Werte!P18=\"\",\"F1\",VLOOKUP(Fuhrparkliste!P27,SFKOMPLETT,2,FALSE)))","v":""},{"$f":"IF(C18=\"\",\"\",IF(Fuhrparkliste!S27=\"\",\"00\",VLOOKUP(Fuhrparkliste!S27,KASKOMATRIXKEY,2,FALSE)))","v":""},{"$f":"IF(C18=\"\",\"\",IF(Werte!Q18=\"\",\"F1\",VLOOKUP(Fuhrparkliste!Q27,SFKOMPLETT,2,FALSE)))","v":""},{"$f":"IF(C18=\"\",\"\",Fuhrparkliste!R27)","v":""},{"$f":"SUBSTITUTE(Fuhrparkliste!E27,\" \",\"\")","v":""}]
["",{"$f":"IF(Fuhrparkliste!B28=\"\",\"\",IF(Fuhrparkliste!B28=\"112\",\"22\",\"26\"))","v":""},{"$f":"IF(Fuhrparkliste!B28=\"\",\"\",TRIM(IF(LEN(Fuhrparkliste!B28)=1,CONCATENATE(\"00\",Fuhrparkliste!B28),IF(LEN(Fuhrparkliste!B28)=2,CONCATENATE(\"0\",Fuhrparkliste!B28),CONCATENATE(Fuhrparkliste!B28,\" \")))))","v":""},"","",{"$f":"RIGHT(AI19,COUNT(RIGHT(AI19,COLUMN(18:18))*1))","v":""},{"$f":"IF(Fuhrparkliste!I28=\"\",\"\",Fuhrparkliste!I28)","v":""},{"$f":"IF(Fuhrparkliste!F28=\"\",\"\",IF(LEN(Fuhrparkliste!F28)=1,CONCATENATE(\"000\",Fuhrparkliste!F28),IF(LEN(Fuhrparkliste!F28)=2,CONCATENATE(\"00\",Fuhrparkliste!F28),IF(LEN(Fuhrparkliste!F28)=3,CONCATENATE(\"0\",Fuhrparkliste!F28),LEFT(Fuhrparkliste!F28,4)))))","v":""},{"$f":"IF(Fuhrparkliste!G28=\"\",\"\",IF(LEN(Fuhrparkliste!G28)=1,CONCATENATE(\"00\",Fuhrparkliste!G28),IF(LEN(Fuhrparkliste!G28)=2,CONCATENATE(\"0\",Fuhrparkliste!G28),LEFT(Fuhrparkliste!G28,3))))","v":""},{"$f":"IF(C19=\"\",\"\",IF(OR(C19=\"581\",C19=\"541\",C19=\"542\",C19=\"591\",C19=\"714\",C19=\"719\"),\"\",IF(Fuhrparkliste!C28=\"\",\"0\",Fuhrparkliste!C28)))","v":""},{"$f":"IF(C19=\"\",\"\",IF(Fuhrparkliste!Z28=\"\",\"0\",VLOOKUP(Fuhrparkliste!Z28,ELEKTROMATRIXKEY,2,FALSE)))","v":""},{"$f":"IF(Fuhrparkliste!D28=\"\",\"\",Fuhrparkliste!D28)","v":""},{"$f":"IF(Fuhrparkliste!N28=\"\",\"\",VLOOKUP(Fuhrparkliste!N28,AUFBAUMATRIXKEY,2,FALSE))","v":""},{"$f":"IF(Fuhrparkliste!T28=\"\",\"\",Fuhrparkliste!T28)","v":""},{"$f":"IF(C19=\"\",\"\",IF(AND(Fuhrparkliste!M28=\"Ja\",C19=\"112\"),\"1\",\"0\"))","v":""},{"$f":"IF(Fuhrparkliste!H28=\"\",\"\",Fuhrparkliste!H28)","v":""},{"$f":"IF(Fuhrparkliste!J28=\"\",\"\",Fuhrparkliste!J28)","v":""},{"$f":"IF(C19<>\"112\",\"\",IF(Fuhrparkliste!K28=\"Ja\",\"1\",\"0\"))","v":""},{"$f":"IF(OR(Fuhrparkliste!L28=\"\",C19<>\"127\"),\"\",VLOOKUP(Fuhrparkliste!L28,Bedachungsart,2,FALSE))","v":""},{"$f":"IF(C19=\"\",\"\",IF(AND(Fuhrparkliste!X28=\"Ja\",C19=\"112\"),\"1\",\"0\"))","v":""},{"$f":"IF(C19=\"\",\"\",IF(AND(Fuhrparkliste!Y28=\"Ja\",OR(C19=\"112\",C19=\"251\")),\"1\",\"0\"))","v":""},"",{"$f":"IF(C19=\"\",\"\",IF(AND(Fuhrparkliste!W28=\"Ja\",C19=\"112\"),\"1\",\"0\"))","v":""},{"$f":"IF(C19=\"\",\"\",IF(AND(ISERROR(SEARCH(\"0??\",tblRisiken!C19)) =TRUE,ISERROR(SEARCH(\"1??\",tblRisiken!C19)) =TRUE),\"0\",IF(AND(Fuhrparkliste!U28=\"Ja\",VLOOKUP(Werte!P19,SFMATRIXKEY,3,FALSE)=\"Ja\"),\"1\",\"0\")))","v":""},{"$f":"IF(C19=\"\",\"\",IF(OR(AF19=\"00\",LEFT(AF19,1)=\"7\"),\"0\",IF(AND(ISERROR(SEARCH(\"0??\",C19)) =TRUE,ISERROR(SEARCH(\"1??\",C19)) =TRUE),\"0\",IF(AND(Fuhrparkliste!V28=\"Ja\",X19=\"1\",VLOOKUP(Werte!Q19,SFMATRIXKEY,3,FALSE)=\"Ja\"),\"1\",\"0\"))))","v":""},{"$f":"IF(C19=\"\",\"\",IF(AND(Fuhrparkliste!AA28=\"Ja\",C19=\"112\"),\"1\",\"0\"))","v":""},{"$f":"IF(Fuhrparkliste!AB28=\"\",\"\",VLOOKUP(Fuhrparkliste!AB28,MatrixVorVU,2,FALSE))","v":""},{"$f":"IF(Fuhrparkliste!AC28=\"\",\"\",Fuhrparkliste!AC28)","v":""},{"$f":"IF(C19=\"\",\"\",IF(Fuhrparkliste!O28=\"\",\"00\",VLOOKUP(Fuhrparkliste!O28,GEFAHRGUTMATRIXKEY,2,FALSE)))","v":""},"",{"$f":"IF(C19=\"\",\"\",IF(Werte!P19=\"\",\"F1\",VLOOKUP(Fuhrparkliste!P28,SFKOMPLETT,2,FALSE)))","v":""},{"$f":"IF(C19=\"\",\"\",IF(Fuhrparkliste!S28=\"\",\"00\",VLOOKUP(Fuhrparkliste!S28,KASKOMATRIXKEY,2,FALSE)))","v":""},{"$f":"IF(C19=\"\",\"\",IF(Werte!Q19=\"\",\"F1\",VLOOKUP(Fuhrparkliste!Q28,SFKOMPLETT,2,FALSE)))","v":""},{"$f":"IF(C19=\"\",\"\",Fuhrparkliste!R28)","v":""},{"$f":"SUBSTITUTE(Fuhrparkliste!E28,\" \",\"\")","v":""}]
["",{"$f":"IF(Fuhrparkliste!B29=\"\",\"\",IF(Fuhrparkliste!B29=\"112\",\"22\",\"26\"))","v":""},{"$f":"IF(Fuhrparkliste!B29=\"\",\"\",TRIM(IF(LEN(Fuhrparkliste!B29)=1,CONCATENATE(\"00\",Fuhrparkliste!B29),IF(LEN(Fuhrparkliste!B29)=2,CONCATENATE(\"0\",Fuhrparkliste!B29),CONCATENATE(Fuhrparkliste!B29,\" \")))))","v":""},"","",{"$f":"RIGHT(AI20,COUNT(RIGHT(AI20,COLUMN(19:19))*1))","v":""},{"$f":"IF(Fuhrparkliste!I29=\"\",\"\",Fuhrparkliste!I29)","v":""},{"$f":"IF(Fuhrparkliste!F29=\"\",\"\",IF(LEN(Fuhrparkliste!F29)=1,CONCATENATE(\"000\",Fuhrparkliste!F29),IF(LEN(Fuhrparkliste!F29)=2,CONCATENATE(\"00\",Fuhrparkliste!F29),IF(LEN(Fuhrparkliste!F29)=3,CONCATENATE(\"0\",Fuhrparkliste!F29),LEFT(Fuhrparkliste!F29,4)))))","v":""},{"$f":"IF(Fuhrparkliste!G29=\"\",\"\",IF(LEN(Fuhrparkliste!G29)=1,CONCATENATE(\"00\",Fuhrparkliste!G29),IF(LEN(Fuhrparkliste!G29)=2,CONCATENATE(\"0\",Fuhrparkliste!G29),LEFT(Fuhrparkliste!G29,3))))","v":""},{"$f":"IF(C20=\"\",\"\",IF(OR(C20=\"581\",C20=\"541\",C20=\"542\",C20=\"591\",C20=\"714\",C20=\"719\"),\"\",IF(Fuhrparkliste!C29=\"\",\"0\",Fuhrparkliste!C29)))","v":""},{"$f":"IF(C20=\"\",\"\",IF(Fuhrparkliste!Z29=\"\",\"0\",VLOOKUP(Fuhrparkliste!Z29,ELEKTROMATRIXKEY,2,FALSE)))","v":""},{"$f":"IF(Fuhrparkliste!D29=\"\",\"\",Fuhrparkliste!D29)","v":""},{"$f":"IF(Fuhrparkliste!N29=\"\",\"\",VLOOKUP(Fuhrparkliste!N29,AUFBAUMATRIXKEY,2,FALSE))","v":""},{"$f":"IF(Fuhrparkliste!T29=\"\",\"\",Fuhrparkliste!T29)","v":""},{"$f":"IF(C20=\"\",\"\",IF(AND(Fuhrparkliste!M29=\"Ja\",C20=\"112\"),\"1\",\"0\"))","v":""},{"$f":"IF(Fuhrparkliste!H29=\"\",\"\",Fuhrparkliste!H29)","v":""},{"$f":"IF(Fuhrparkliste!J29=\"\",\"\",Fuhrparkliste!J29)","v":""},{"$f":"IF(C20<>\"112\",\"\",IF(Fuhrparkliste!K29=\"Ja\",\"1\",\"0\"))","v":""},{"$f":"IF(OR(Fuhrparkliste!L29=\"\",C20<>\"127\"),\"\",VLOOKUP(Fuhrparkliste!L29,Bedachungsart,2,FALSE))","v":""},{"$f":"IF(C20=\"\",\"\",IF(AND(Fuhrparkliste!X29=\"Ja\",C20=\"112\"),\"1\",\"0\"))","v":""},{"$f":"IF(C20=\"\",\"\",IF(AND(Fuhrparkliste!Y29=\"Ja\",OR(C20=\"112\",C20=\"251\")),\"1\",\"0\"))","v":""},"",{"$f":"IF(C20=\"\",\"\",IF(AND(Fuhrparkliste!W29=\"Ja\",C20=\"112\"),\"1\",\"0\"))","v":""},{"$f":"IF(C20=\"\",\"\",IF(AND(ISERROR(SEARCH(\"0??\",tblRisiken!C20)) =TRUE,ISERROR(SEARCH(\"1??\",tblRisiken!C20)) =TRUE),\"0\",IF(AND(Fuhrparkliste!U29=\"Ja\",VLOOKUP(Werte!P20,SFMATRIXKEY,3,FALSE)=\"Ja\"),\"1\",\"0\")))","v":""},{"$f":"IF(C20=\"\",\"\",IF(OR(AF20=\"00\",LEFT(AF20,1)=\"7\"),\"0\",IF(AND(ISERROR(SEARCH(\"0??\",C20)) =TRUE,ISERROR(SEARCH(\"1??\",C20)) =TRUE),\"0\",IF(AND(Fuhrparkliste!V29=\"Ja\",X20=\"1\",VLOOKUP(Werte!Q20,SFMATRIXKEY,3,FALSE)=\"Ja\"),\"1\",\"0\"))))","v":""},{"$f":"IF(C20=\"\",\"\",IF(AND(Fuhrparkliste!AA29=\"Ja\",C20=\"112\"),\"1\",\"0\"))","v":""},{"$f":"IF(Fuhrparkliste!AB29=\"\",\"\",VLOOKUP(Fuhrparkliste!AB29,MatrixVorVU,2,FALSE))","v":""},{"$f":"IF(Fuhrparkliste!AC29=\"\",\"\",Fuhrparkliste!AC29)","v":""},{"$f":"IF(C20=\"\",\"\",IF(Fuhrparkliste!O29=\"\",\"00\",VLOOKUP(Fuhrparkliste!O29,GEFAHRGUTMATRIXKEY,2,FALSE)))","v":""},"",{"$f":"IF(C20=\"\",\"\",IF(Werte!P20=\"\",\"F1\",VLOOKUP(Fuhrparkliste!P29,SFKOMPLETT,2,FALSE)))","v":""},{"$f":"IF(C20=\"\",\"\",IF(Fuhrparkliste!S29=\"\",\"00\",VLOOKUP(Fuhrparkliste!S29,KASKOMATRIXKEY,2,FALSE)))","v":""},{"$f":"IF(C20=\"\",\"\",IF(Werte!Q20=\"\",\"F1\",VLOOKUP(Fuhrparkliste!Q29,SFKOMPLETT,2,FALSE)))","v":""},{"$f":"IF(C20=\"\",\"\",Fuhrparkliste!R29)","v":""},{"$f":"SUBSTITUTE(Fuhrparkliste!E29,\" \",\"\")","v":""}]
["",{"$f":"IF(Fuhrparkliste!B30=\"\",\"\",IF(Fuhrparkliste!B30=\"112\",\"22\",\"26\"))","v":""},{"$f":"IF(Fuhrparkliste!B30=\"\",\"\",TRIM(IF(LEN(Fuhrparkliste!B30)=1,CONCATENATE(\"00\",Fuhrparkliste!B30),IF(LEN(Fuhrparkliste!B30)=2,CONCATENATE(\"0\",Fuhrparkliste!B30),CONCATENATE(Fuhrparkliste!B30,\" \")))))","v":""},"","",{"$f":"RIGHT(AI21,COUNT(RIGHT(AI21,COLUMN(20:20))*1))","v":""},{"$f":"IF(Fuhrparkliste!I30=\"\",\"\",Fuhrparkliste!I30)","v":""},{"$f":"IF(Fuhrparkliste!F30=\"\",\"\",IF(LEN(Fuhrparkliste!F30)=1,CONCATENATE(\"000\",Fuhrparkliste!F30),IF(LEN(Fuhrparkliste!F30)=2,CONCATENATE(\"00\",Fuhrparkliste!F30),IF(LEN(Fuhrparkliste!F30)=3,CONCATENATE(\"0\",Fuhrparkliste!F30),LEFT(Fuhrparkliste!F30,4)))))","v":""},{"$f":"IF(Fuhrparkliste!G30=\"\",\"\",IF(LEN(Fuhrparkliste!G30)=1,CONCATENATE(\"00\",Fuhrparkliste!G30),IF(LEN(Fuhrparkliste!G30)=2,CONCATENATE(\"0\",Fuhrparkliste!G30),LEFT(Fuhrparkliste!G30,3))))","v":""},{"$f":"IF(C21=\"\",\"\",IF(OR(C21=\"581\",C21=\"541\",C21=\"542\",C21=\"591\",C21=\"714\",C21=\"719\"),\"\",IF(Fuhrparkliste!C30=\"\",\"0\",Fuhrparkliste!C30)))","v":""},{"$f":"IF(C21=\"\",\"\",IF(Fuhrparkliste!Z30=\"\",\"0\",VLOOKUP(Fuhrparkliste!Z30,ELEKTROMATRIXKEY,2,FALSE)))","v":""},{"$f":"IF(Fuhrparkliste!D30=\"\",\"\",Fuhrparkliste!D30)","v":""},{"$f":"IF(Fuhrparkliste!N30=\"\",\"\",VLOOKUP(Fuhrparkliste!N30,AUFBAUMATRIXKEY,2,FALSE))","v":""},{"$f":"IF(Fuhrparkliste!T30=\"\",\"\",Fuhrparkliste!T30)","v":""},{"$f":"IF(C21=\"\",\"\",IF(AND(Fuhrparkliste!M30=\"Ja\",C21=\"112\"),\"1\",\"0\"))","v":""},{"$f":"IF(Fuhrparkliste!H30=\"\",\"\",Fuhrparkliste!H30)","v":""},{"$f":"IF(Fuhrparkliste!J30=\"\",\"\",Fuhrparkliste!J30)","v":""},{"$f":"IF(C21<>\"112\",\"\",IF(Fuhrparkliste!K30=\"Ja\",\"1\",\"0\"))","v":""},{"$f":"IF(OR(Fuhrparkliste!L30=\"\",C21<>\"127\"),\"\",VLOOKUP(Fuhrparkliste!L30,Bedachungsart,2,FALSE))","v":""},{"$f":"IF(C21=\"\",\"\",IF(AND(Fuhrparkliste!X30=\"Ja\",C21=\"112\"),\"1\",\"0\"))","v":""},{"$f":"IF(C21=\"\",\"\",IF(AND(Fuhrparkliste!Y30=\"Ja\",OR(C21=\"112\",C21=\"251\")),\"1\",\"0\"))","v":""},"",{"$f":"IF(C21=\"\",\"\",IF(AND(Fuhrparkliste!W30=\"Ja\",C21=\"112\"),\"1\",\"0\"))","v":""},{"$f":"IF(C21=\"\",\"\",IF(AND(ISERROR(SEARCH(\"0??\",tblRisiken!C21)) =TRUE,ISERROR(SEARCH(\"1??\",tblRisiken!C21)) =TRUE),\"0\",IF(AND(Fuhrparkliste!U30=\"Ja\",VLOOKUP(Werte!P21,SFMATRIXKEY,3,FALSE)=\"Ja\"),\"1\",\"0\")))","v":""},{"$f":"IF(C21=\"\",\"\",IF(OR(AF21=\"00\",LEFT(AF21,1)=\"7\"),\"0\",IF(AND(ISERROR(SEARCH(\"0??\",C21)) =TRUE,ISERROR(SEARCH(\"1??\",C21)) =TRUE),\"0\",IF(AND(Fuhrparkliste!V30=\"Ja\",X21=\"1\",VLOOKUP(Werte!Q21,SFMATRIXKEY,3,FALSE)=\"Ja\"),\"1\",\"0\"))))","v":""},{"$f":"IF(C21=\"\",\"\",IF(AND(Fuhrparkliste!AA30=\"Ja\",C21=\"112\"),\"1\",\"0\"))","v":""},{"$f":"IF(Fuhrparkliste!AB30=\"\",\"\",VLOOKUP(Fuhrparkliste!AB30,MatrixVorVU,2,FALSE))","v":""},{"$f":"IF(Fuhrparkliste!AC30=\"\",\"\",Fuhrparkliste!AC30)","v":""},{"$f":"IF(C21=\"\",\"\",IF(Fuhrparkliste!O30=\"\",\"00\",VLOOKUP(Fuhrparkliste!O30,GEFAHRGUTMATRIXKEY,2,FALSE)))","v":""},"",{"$f":"IF(C21=\"\",\"\",IF(Werte!P21=\"\",\"F1\",VLOOKUP(Fuhrparkliste!P30,SFKOMPLETT,2,FALSE)))","v":""},{"$f":"IF(C21=\"\",\"\",IF(Fuhrparkliste!S30=\"\",\"00\",VLOOKUP(Fuhrparkliste!S30,KASKOMATRIXKEY,2,FALSE)))","v":""},{"$f":"IF(C21=\"\",\"\",IF(Werte!Q21=\"\",\"F1\",VLOOKUP(Fuhrparkliste!Q30,SFKOMPLETT,2,FALSE)))","v":""},{"$f":"IF(C21=\"\",\"\",Fuhrparkliste!R30)","v":""},{"$f":"SUBSTITUTE(Fuhrparkliste!E30,\" \",\"\")","v":""}]
["",{"$f":"IF(Fuhrparkliste!B31=\"\",\"\",IF(Fuhrparkliste!B31=\"112\",\"22\",\"26\"))","v":""},{"$f":"IF(Fuhrparkliste!B31=\"\",\"\",TRIM(IF(LEN(Fuhrparkliste!B31)=1,CONCATENATE(\"00\",Fuhrparkliste!B31),IF(LEN(Fuhrparkliste!B31)=2,CONCATENATE(\"0\",Fuhrparkliste!B31),CONCATENATE(Fuhrparkliste!B31,\" \")))))","v":""},"","",{"$f":"RIGHT(AI22,COUNT(RIGHT(AI22,COLUMN(21:21))*1))","v":""},{"$f":"IF(Fuhrparkliste!I31=\"\",\"\",Fuhrparkliste!I31)","v":""},{"$f":"IF(Fuhrparkliste!F31=\"\",\"\",IF(LEN(Fuhrparkliste!F31)=1,CONCATENATE(\"000\",Fuhrparkliste!F31),IF(LEN(Fuhrparkliste!F31)=2,CONCATENATE(\"00\",Fuhrparkliste!F31),IF(LEN(Fuhrparkliste!F31)=3,CONCATENATE(\"0\",Fuhrparkliste!F31),LEFT(Fuhrparkliste!F31,4)))))","v":""},{"$f":"IF(Fuhrparkliste!G31=\"\",\"\",IF(LEN(Fuhrparkliste!G31)=1,CONCATENATE(\"00\",Fuhrparkliste!G31),IF(LEN(Fuhrparkliste!G31)=2,CONCATENATE(\"0\",Fuhrparkliste!G31),LEFT(Fuhrparkliste!G31,3))))","v":""},{"$f":"IF(C22=\"\",\"\",IF(OR(C22=\"581\",C22=\"541\",C22=\"542\",C22=\"591\",C22=\"714\",C22=\"719\"),\"\",IF(Fuhrparkliste!C31=\"\",\"0\",Fuhrparkliste!C31)))","v":""},{"$f":"IF(C22=\"\",\"\",IF(Fuhrparkliste!Z31=\"\",\"0\",VLOOKUP(Fuhrparkliste!Z31,ELEKTROMATRIXKEY,2,FALSE)))","v":""},{"$f":"IF(Fuhrparkliste!D31=\"\",\"\",Fuhrparkliste!D31)","v":""},{"$f":"IF(Fuhrparkliste!N31=\"\",\"\",VLOOKUP(Fuhrparkliste!N31,AUFBAUMATRIXKEY,2,FALSE))","v":""},{"$f":"IF(Fuhrparkliste!T31=\"\",\"\",Fuhrparkliste!T31)","v":""},{"$f":"IF(C22=\"\",\"\",IF(AND(Fuhrparkliste!M31=\"Ja\",C22=\"112\"),\"1\",\"0\"))","v":""},{"$f":"IF(Fuhrparkliste!H31=\"\",\"\",Fuhrparkliste!H31)","v":""},{"$f":"IF(Fuhrparkliste!J31=\"\",\"\",Fuhrparkliste!J31)","v":""},{"$f":"IF(C22<>\"112\",\"\",IF(Fuhrparkliste!K31=\"Ja\",\"1\",\"0\"))","v":""},{"$f":"IF(OR(Fuhrparkliste!L31=\"\",C22<>\"127\"),\"\",VLOOKUP(Fuhrparkliste!L31,Bedachungsart,2,FALSE))","v":""},{"$f":"IF(C22=\"\",\"\",IF(AND(Fuhrparkliste!X31=\"Ja\",C22=\"112\"),\"1\",\"0\"))","v":""},{"$f":"IF(C22=\"\",\"\",IF(AND(Fuhrparkliste!Y31=\"Ja\",OR(C22=\"112\",C22=\"251\")),\"1\",\"0\"))","v":""},"",{"$f":"IF(C22=\"\",\"\",IF(AND(Fuhrparkliste!W31=\"Ja\",C22=\"112\"),\"1\",\"0\"))","v":""},{"$f":"IF(C22=\"\",\"\",IF(AND(ISERROR(SEARCH(\"0??\",tblRisiken!C22)) =TRUE,ISERROR(SEARCH(\"1??\",tblRisiken!C22)) =TRUE),\"0\",IF(AND(Fuhrparkliste!U31=\"Ja\",VLOOKUP(Werte!P22,SFMATRIXKEY,3,FALSE)=\"Ja\"),\"1\",\"0\")))","v":""},{"$f":"IF(C22=\"\",\"\",IF(OR(AF22=\"00\",LEFT(AF22,1)=\"7\"),\"0\",IF(AND(ISERROR(SEARCH(\"0??\",C22)) =TRUE,ISERROR(SEARCH(\"1??\",C22)) =TRUE),\"0\",IF(AND(Fuhrparkliste!V31=\"Ja\",X22=\"1\",VLOOKUP(Werte!Q22,SFMATRIXKEY,3,FALSE)=\"Ja\"),\"1\",\"0\"))))","v":""},{"$f":"IF(C22=\"\",\"\",IF(AND(Fuhrparkliste!AA31=\"Ja\",C22=\"112\"),\"1\",\"0\"))","v":""},{"$f":"IF(Fuhrparkliste!AB31=\"\",\"\",VLOOKUP(Fuhrparkliste!AB31,MatrixVorVU,2,FALSE))","v":""},{"$f":"IF(Fuhrparkliste!AC31=\"\",\"\",Fuhrparkliste!AC31)","v":""},{"$f":"IF(C22=\"\",\"\",IF(Fuhrparkliste!O31=\"\",\"00\",VLOOKUP(Fuhrparkliste!O31,GEFAHRGUTMATRIXKEY,2,FALSE)))","v":""},"",{"$f":"IF(C22=\"\",\"\",IF(Werte!P22=\"\",\"F1\",VLOOKUP(Fuhrparkliste!P31,SFKOMPLETT,2,FALSE)))","v":""},{"$f":"IF(C22=\"\",\"\",IF(Fuhrparkliste!S31=\"\",\"00\",VLOOKUP(Fuhrparkliste!S31,KASKOMATRIXKEY,2,FALSE)))","v":""},{"$f":"IF(C22=\"\",\"\",IF(Werte!Q22=\"\",\"F1\",VLOOKUP(Fuhrparkliste!Q31,SFKOMPLETT,2,FALSE)))","v":""},{"$f":"IF(C22=\"\",\"\",Fuhrparkliste!R31)","v":""},{"$f":"SUBSTITUTE(Fuhrparkliste!E31,\" \",\"\")","v":""}]
["",{"$f":"IF(Fuhrparkliste!B32=\"\",\"\",IF(Fuhrparkliste!B32=\"112\",\"22\",\"26\"))","v":""},{"$f":"IF(Fuhrparkliste!B32=\"\",\"\",TRIM(IF(LEN(Fuhrparkliste!B32)=1,CONCATENATE(\"00\",Fuhrparkliste!B32),IF(LEN(Fuhrparkliste!B32)=2,CONCATENATE(\"0\",Fuhrparkliste!B32),CONCATENATE(Fuhrparkliste!B32,\" \")))))","v":""},"","",{"$f":"RIGHT(AI23,COUNT(RIGHT(AI23,COLUMN(22:22))*1))","v":""},{"$f":"IF(Fuhrparkliste!I32=\"\",\"\",Fuhrparkliste!I32)","v":""},{"$f":"IF(Fuhrparkliste!F32=\"\",\"\",IF(LEN(Fuhrparkliste!F32)=1,CONCATENATE(\"000\",Fuhrparkliste!F32),IF(LEN(Fuhrparkliste!F32)=2,CONCATENATE(\"00\",Fuhrparkliste!F32),IF(LEN(Fuhrparkliste!F32)=3,CONCATENATE(\"0\",Fuhrparkliste!F32),LEFT(Fuhrparkliste!F32,4)))))","v":""},{"$f":"IF(Fuhrparkliste!G32=\"\",\"\",IF(LEN(Fuhrparkliste!G32)=1,CONCATENATE(\"00\",Fuhrparkliste!G32),IF(LEN(Fuhrparkliste!G32)=2,CONCATENATE(\"0\",Fuhrparkliste!G32),LEFT(Fuhrparkliste!G32,3))))","v":""},{"$f":"IF(C23=\"\",\"\",IF(OR(C23=\"581\",C23=\"541\",C23=\"542\",C23=\"591\",C23=\"714\",C23=\"719\"),\"\",IF(Fuhrparkliste!C32=\"\",\"0\",Fuhrparkliste!C32)))","v":""},{"$f":"IF(C23=\"\",\"\",IF(Fuhrparkliste!Z32=\"\",\"0\",VLOOKUP(Fuhrparkliste!Z32,ELEKTROMATRIXKEY,2,FALSE)))","v":""},{"$f":"IF(Fuhrparkliste!D32=\"\",\"\",Fuhrparkliste!D32)","v":""},{"$f":"IF(Fuhrparkliste!N32=\"\",\"\",VLOOKUP(Fuhrparkliste!N32,AUFBAUMATRIXKEY,2,FALSE))","v":""},{"$f":"IF(Fuhrparkliste!T32=\"\",\"\",Fuhrparkliste!T32)","v":""},{"$f":"IF(C23=\"\",\"\",IF(AND(Fuhrparkliste!M32=\"Ja\",C23=\"112\"),\"1\",\"0\"))","v":""},{"$f":"IF(Fuhrparkliste!H32=\"\",\"\",Fuhrparkliste!H32)","v":""},{"$f":"IF(Fuhrparkliste!J32=\"\",\"\",Fuhrparkliste!J32)","v":""},{"$f":"IF(C23<>\"112\",\"\",IF(Fuhrparkliste!K32=\"Ja\",\"1\",\"0\"))","v":""},{"$f":"IF(OR(Fuhrparkliste!L32=\"\",C23<>\"127\"),\"\",VLOOKUP(Fuhrparkliste!L32,Bedachungsart,2,FALSE))","v":""},{"$f":"IF(C23=\"\",\"\",IF(AND(Fuhrparkliste!X32=\"Ja\",C23=\"112\"),\"1\",\"0\"))","v":""},{"$f":"IF(C23=\"\",\"\",IF(AND(Fuhrparkliste!Y32=\"Ja\",OR(C23=\"112\",C23=\"251\")),\"1\",\"0\"))","v":""},"",{"$f":"IF(C23=\"\",\"\",IF(AND(Fuhrparkliste!W32=\"Ja\",C23=\"112\"),\"1\",\"0\"))","v":""},{"$f":"IF(C23=\"\",\"\",IF(AND(ISERROR(SEARCH(\"0??\",tblRisiken!C23)) =TRUE,ISERROR(SEARCH(\"1??\",tblRisiken!C23)) =TRUE),\"0\",IF(AND(Fuhrparkliste!U32=\"Ja\",VLOOKUP(Werte!P23,SFMATRIXKEY,3,FALSE)=\"Ja\"),\"1\",\"0\")))","v":""},{"$f":"IF(C23=\"\",\"\",IF(OR(AF23=\"00\",LEFT(AF23,1)=\"7\"),\"0\",IF(AND(ISERROR(SEARCH(\"0??\",C23)) =TRUE,ISERROR(SEARCH(\"1??\",C23)) =TRUE),\"0\",IF(AND(Fuhrparkliste!V32=\"Ja\",X23=\"1\",VLOOKUP(Werte!Q23,SFMATRIXKEY,3,FALSE)=\"Ja\"),\"1\",\"0\"))))","v":""},{"$f":"IF(C23=\"\",\"\",IF(AND(Fuhrparkliste!AA32=\"Ja\",C23=\"112\"),\"1\",\"0\"))","v":""},{"$f":"IF(Fuhrparkliste!AB32=\"\",\"\",VLOOKUP(Fuhrparkliste!AB32,MatrixVorVU,2,FALSE))","v":""},{"$f":"IF(Fuhrparkliste!AC32=\"\",\"\",Fuhrparkliste!AC32)","v":""},{"$f":"IF(C23=\"\",\"\",IF(Fuhrparkliste!O32=\"\",\"00\",VLOOKUP(Fuhrparkliste!O32,GEFAHRGUTMATRIXKEY,2,FALSE)))","v":""},"",{"$f":"IF(C23=\"\",\"\",IF(Werte!P23=\"\",\"F1\",VLOOKUP(Fuhrparkliste!P32,SFKOMPLETT,2,FALSE)))","v":""},{"$f":"IF(C23=\"\",\"\",IF(Fuhrparkliste!S32=\"\",\"00\",VLOOKUP(Fuhrparkliste!S32,KASKOMATRIXKEY,2,FALSE)))","v":""},{"$f":"IF(C23=\"\",\"\",IF(Werte!Q23=\"\",\"F1\",VLOOKUP(Fuhrparkliste!Q32,SFKOMPLETT,2,FALSE)))","v":""},{"$f":"IF(C23=\"\",\"\",Fuhrparkliste!R32)","v":""},{"$f":"SUBSTITUTE(Fuhrparkliste!E32,\" \",\"\")","v":""}]
["",{"$f":"IF(Fuhrparkliste!B33=\"\",\"\",IF(Fuhrparkliste!B33=\"112\",\"22\",\"26\"))","v":""},{"$f":"IF(Fuhrparkliste!B33=\"\",\"\",TRIM(IF(LEN(Fuhrparkliste!B33)=1,CONCATENATE(\"00\",Fuhrparkliste!B33),IF(LEN(Fuhrparkliste!B33)=2,CONCATENATE(\"0\",Fuhrparkliste!B33),CONCATENATE(Fuhrparkliste!B33,\" \")))))","v":""},"","",{"$f":"RIGHT(AI24,COUNT(RIGHT(AI24,COLUMN(23:23))*1))","v":""},{"$f":"IF(Fuhrparkliste!I33=\"\",\"\",Fuhrparkliste!I33)","v":""},{"$f":"IF(Fuhrparkliste!F33=\"\",\"\",IF(LEN(Fuhrparkliste!F33)=1,CONCATENATE(\"000\",Fuhrparkliste!F33),IF(LEN(Fuhrparkliste!F33)=2,CONCATENATE(\"00\",Fuhrparkliste!F33),IF(LEN(Fuhrparkliste!F33)=3,CONCATENATE(\"0\",Fuhrparkliste!F33),LEFT(Fuhrparkliste!F33,4)))))","v":""},{"$f":"IF(Fuhrparkliste!G33=\"\",\"\",IF(LEN(Fuhrparkliste!G33)=1,CONCATENATE(\"00\",Fuhrparkliste!G33),IF(LEN(Fuhrparkliste!G33)=2,CONCATENATE(\"0\",Fuhrparkliste!G33),LEFT(Fuhrparkliste!G33,3))))","v":""},{"$f":"IF(C24=\"\",\"\",IF(OR(C24=\"581\",C24=\"541\",C24=\"542\",C24=\"591\",C24=\"714\",C24=\"719\"),\"\",IF(Fuhrparkliste!C33=\"\",\"0\",Fuhrparkliste!C33)))","v":""},{"$f":"IF(C24=\"\",\"\",IF(Fuhrparkliste!Z33=\"\",\"0\",VLOOKUP(Fuhrparkliste!Z33,ELEKTROMATRIXKEY,2,FALSE)))","v":""},{"$f":"IF(Fuhrparkliste!D33=\"\",\"\",Fuhrparkliste!D33)","v":""},{"$f":"IF(Fuhrparkliste!N33=\"\",\"\",VLOOKUP(Fuhrparkliste!N33,AUFBAUMATRIXKEY,2,FALSE))","v":""},{"$f":"IF(Fuhrparkliste!T33=\"\",\"\",Fuhrparkliste!T33)","v":""},{"$f":"IF(C24=\"\",\"\",IF(AND(Fuhrparkliste!M33=\"Ja\",C24=\"112\"),\"1\",\"0\"))","v":""},{"$f":"IF(Fuhrparkliste!H33=\"\",\"\",Fuhrparkliste!H33)","v":""},{"$f":"IF(Fuhrparkliste!J33=\"\",\"\",Fuhrparkliste!J33)","v":""},{"$f":"IF(C24<>\"112\",\"\",IF(Fuhrparkliste!K33=\"Ja\",\"1\",\"0\"))","v":""},{"$f":"IF(OR(Fuhrparkliste!L33=\"\",C24<>\"127\"),\"\",VLOOKUP(Fuhrparkliste!L33,Bedachungsart,2,FALSE))","v":""},{"$f":"IF(C24=\"\",\"\",IF(AND(Fuhrparkliste!X33=\"Ja\",C24=\"112\"),\"1\",\"0\"))","v":""},{"$f":"IF(C24=\"\",\"\",IF(AND(Fuhrparkliste!Y33=\"Ja\",OR(C24=\"112\",C24=\"251\")),\"1\",\"0\"))","v":""},"",{"$f":"IF(C24=\"\",\"\",IF(AND(Fuhrparkliste!W33=\"Ja\",C24=\"112\"),\"1\",\"0\"))","v":""},{"$f":"IF(C24=\"\",\"\",IF(AND(ISERROR(SEARCH(\"0??\",tblRisiken!C24)) =TRUE,ISERROR(SEARCH(\"1??\",tblRisiken!C24)) =TRUE),\"0\",IF(AND(Fuhrparkliste!U33=\"Ja\",VLOOKUP(Werte!P24,SFMATRIXKEY,3,FALSE)=\"Ja\"),\"1\",\"0\")))","v":""},{"$f":"IF(C24=\"\",\"\",IF(OR(AF24=\"00\",LEFT(AF24,1)=\"7\"),\"0\",IF(AND(ISERROR(SEARCH(\"0??\",C24)) =TRUE,ISERROR(SEARCH(\"1??\",C24)) =TRUE),\"0\",IF(AND(Fuhrparkliste!V33=\"Ja\",X24=\"1\",VLOOKUP(Werte!Q24,SFMATRIXKEY,3,FALSE)=\"Ja\"),\"1\",\"0\"))))","v":""},{"$f":"IF(C24=\"\",\"\",IF(AND(Fuhrparkliste!AA33=\"Ja\",C24=\"112\"),\"1\",\"0\"))","v":""},{"$f":"IF(Fuhrparkliste!AB33=\"\",\"\",VLOOKUP(Fuhrparkliste!AB33,MatrixVorVU,2,FALSE))","v":""},{"$f":"IF(Fuhrparkliste!AC33=\"\",\"\",Fuhrparkliste!AC33)","v":""},{"$f":"IF(C24=\"\",\"\",IF(Fuhrparkliste!O33=\"\",\"00\",VLOOKUP(Fuhrparkliste!O33,GEFAHRGUTMATRIXKEY,2,FALSE)))","v":""},"",{"$f":"IF(C24=\"\",\"\",IF(Werte!P24=\"\",\"F1\",VLOOKUP(Fuhrparkliste!P33,SFKOMPLETT,2,FALSE)))","v":""},{"$f":"IF(C24=\"\",\"\",IF(Fuhrparkliste!S33=\"\",\"00\",VLOOKUP(Fuhrparkliste!S33,KASKOMATRIXKEY,2,FALSE)))","v":""},{"$f":"IF(C24=\"\",\"\",IF(Werte!Q24=\"\",\"F1\",VLOOKUP(Fuhrparkliste!Q33,SFKOMPLETT,2,FALSE)))","v":""},{"$f":"IF(C24=\"\",\"\",Fuhrparkliste!R33)","v":""},{"$f":"SUBSTITUTE(Fuhrparkliste!E33,\" \",\"\")","v":""}]
["",{"$f":"IF(Fuhrparkliste!B34=\"\",\"\",IF(Fuhrparkliste!B34=\"112\",\"22\",\"26\"))","v":""},{"$f":"IF(Fuhrparkliste!B34=\"\",\"\",TRIM(IF(LEN(Fuhrparkliste!B34)=1,CONCATENATE(\"00\",Fuhrparkliste!B34),IF(LEN(Fuhrparkliste!B34)=2,CONCATENATE(\"0\",Fuhrparkliste!B34),CONCATENATE(Fuhrparkliste!B34,\" \")))))","v":""},"","",{"$f":"RIGHT(AI25,COUNT(RIGHT(AI25,COLUMN(24:24))*1))","v":""},{"$f":"IF(Fuhrparkliste!I34=\"\",\"\",Fuhrparkliste!I34)","v":""},{"$f":"IF(Fuhrparkliste!F34=\"\",\"\",IF(LEN(Fuhrparkliste!F34)=1,CONCATENATE(\"000\",Fuhrparkliste!F34),IF(LEN(Fuhrparkliste!F34)=2,CONCATENATE(\"00\",Fuhrparkliste!F34),IF(LEN(Fuhrparkliste!F34)=3,CONCATENATE(\"0\",Fuhrparkliste!F34),LEFT(Fuhrparkliste!F34,4)))))","v":""},{"$f":"IF(Fuhrparkliste!G34=\"\",\"\",IF(LEN(Fuhrparkliste!G34)=1,CONCATENATE(\"00\",Fuhrparkliste!G34),IF(LEN(Fuhrparkliste!G34)=2,CONCATENATE(\"0\",Fuhrparkliste!G34),LEFT(Fuhrparkliste!G34,3))))","v":""},{"$f":"IF(C25=\"\",\"\",IF(OR(C25=\"581\",C25=\"541\",C25=\"542\",C25=\"591\",C25=\"714\",C25=\"719\"),\"\",IF(Fuhrparkliste!C34=\"\",\"0\",Fuhrparkliste!C34)))","v":""},{"$f":"IF(C25=\"\",\"\",IF(Fuhrparkliste!Z34=\"\",\"0\",VLOOKUP(Fuhrparkliste!Z34,ELEKTROMATRIXKEY,2,FALSE)))","v":""},{"$f":"IF(Fuhrparkliste!D34=\"\",\"\",Fuhrparkliste!D34)","v":""},{"$f":"IF(Fuhrparkliste!N34=\"\",\"\",VLOOKUP(Fuhrparkliste!N34,AUFBAUMATRIXKEY,2,FALSE))","v":""},{"$f":"IF(Fuhrparkliste!T34=\"\",\"\",Fuhrparkliste!T34)","v":""},{"$f":"IF(C25=\"\",\"\",IF(AND(Fuhrparkliste!M34=\"Ja\",C25=\"112\"),\"1\",\"0\"))","v":""},{"$f":"IF(Fuhrparkliste!H34=\"\",\"\",Fuhrparkliste!H34)","v":""},{"$f":"IF(Fuhrparkliste!J34=\"\",\"\",Fuhrparkliste!J34)","v":""},{"$f":"IF(C25<>\"112\",\"\",IF(Fuhrparkliste!K34=\"Ja\",\"1\",\"0\"))","v":""},{"$f":"IF(OR(Fuhrparkliste!L34=\"\",C25<>\"127\"),\"\",VLOOKUP(Fuhrparkliste!L34,Bedachungsart,2,FALSE))","v":""},{"$f":"IF(C25=\"\",\"\",IF(AND(Fuhrparkliste!X34=\"Ja\",C25=\"112\"),\"1\",\"0\"))","v":""},{"$f":"IF(C25=\"\",\"\",IF(AND(Fuhrparkliste!Y34=\"Ja\",OR(C25=\"112\",C25=\"251\")),\"1\",\"0\"))","v":""},"",{"$f":"IF(C25=\"\",\"\",IF(AND(Fuhrparkliste!W34=\"Ja\",C25=\"112\"),\"1\",\"0\"))","v":""},{"$f":"IF(C25=\"\",\"\",IF(AND(ISERROR(SEARCH(\"0??\",tblRisiken!C25)) =TRUE,ISERROR(SEARCH(\"1??\",tblRisiken!C25)) =TRUE),\"0\",IF(AND(Fuhrparkliste!U34=\"Ja\",VLOOKUP(Werte!P25,SFMATRIXKEY,3,FALSE)=\"Ja\"),\"1\",\"0\")))","v":""},{"$f":"IF(C25=\"\",\"\",IF(OR(AF25=\"00\",LEFT(AF25,1)=\"7\"),\"0\",IF(AND(ISERROR(SEARCH(\"0??\",C25)) =TRUE,ISERROR(SEARCH(\"1??\",C25)) =TRUE),\"0\",IF(AND(Fuhrparkliste!V34=\"Ja\",X25=\"1\",VLOOKUP(Werte!Q25,SFMATRIXKEY,3,FALSE)=\"Ja\"),\"1\",\"0\"))))","v":""},{"$f":"IF(C25=\"\",\"\",IF(AND(Fuhrparkliste!AA34=\"Ja\",C25=\"112\"),\"1\",\"0\"))","v":""},{"$f":"IF(Fuhrparkliste!AB34=\"\",\"\",VLOOKUP(Fuhrparkliste!AB34,MatrixVorVU,2,FALSE))","v":""},{"$f":"IF(Fuhrparkliste!AC34=\"\",\"\",Fuhrparkliste!AC34)","v":""},{"$f":"IF(C25=\"\",\"\",IF(Fuhrparkliste!O34=\"\",\"00\",VLOOKUP(Fuhrparkliste!O34,GEFAHRGUTMATRIXKEY,2,FALSE)))","v":""},"",{"$f":"IF(C25=\"\",\"\",IF(Werte!P25=\"\",\"F1\",VLOOKUP(Fuhrparkliste!P34,SFKOMPLETT,2,FALSE)))","v":""},{"$f":"IF(C25=\"\",\"\",IF(Fuhrparkliste!S34=\"\",\"00\",VLOOKUP(Fuhrparkliste!S34,KASKOMATRIXKEY,2,FALSE)))","v":""},{"$f":"IF(C25=\"\",\"\",IF(Werte!Q25=\"\",\"F1\",VLOOKUP(Fuhrparkliste!Q34,SFKOMPLETT,2,FALSE)))","v":""},{"$f":"IF(C25=\"\",\"\",Fuhrparkliste!R34)","v":""},{"$f":"SUBSTITUTE(Fuhrparkliste!E34,\" \",\"\")","v":""}]
[{"$f":"IF(C26=\"\",\"\",CONCATENATE(\"\",A25+1))","v":""},{"$f":"IF(Fuhrparkliste!B35=\"\",\"\",IF(Fuhrparkliste!B35=\"112\",\"22\",\"26\"))","v":""},{"$f":"IF(Fuhrparkliste!B35=\"\",\"\",TRIM(IF(LEN(Fuhrparkliste!B35)=1,CONCATENATE(\"00\",Fuhrparkliste!B35),IF(LEN(Fuhrparkliste!B35)=2,CONCATENATE(\"0\",Fuhrparkliste!B35),CONCATENATE(Fuhrparkliste!B35,\" \")))))","v":""},"","",{"$f":"RIGHT(AI26,COUNT(RIGHT(AI26,COLUMN(25:25))*1))","v":""},{"$f":"IF(Fuhrparkliste!I35=\"\",\"\",Fuhrparkliste!I35)","v":""},{"$f":"IF(Fuhrparkliste!F35=\"\",\"\",IF(LEN(Fuhrparkliste!F35)=1,CONCATENATE(\"000\",Fuhrparkliste!F35),IF(LEN(Fuhrparkliste!F35)=2,CONCATENATE(\"00\",Fuhrparkliste!F35),IF(LEN(Fuhrparkliste!F35)=3,CONCATENATE(\"0\",Fuhrparkliste!F35),LEFT(Fuhrparkliste!F35,4)))))","v":""},{"$f":"IF(Fuhrparkliste!G35=\"\",\"\",IF(LEN(Fuhrparkliste!G35)=1,CONCATENATE(\"00\",Fuhrparkliste!G35),IF(LEN(Fuhrparkliste!G35)=2,CONCATENATE(\"0\",Fuhrparkliste!G35),LEFT(Fuhrparkliste!G35,3))))","v":""},{"$f":"IF(C26=\"\",\"\",IF(OR(C26=\"581\",C26=\"541\",C26=\"542\",C26=\"591\",C26=\"714\",C26=\"719\"),\"\",IF(Fuhrparkliste!C35=\"\",\"0\",Fuhrparkliste!C35)))","v":""},{"$f":"IF(C26=\"\",\"\",IF(Fuhrparkliste!Z35=\"\",\"0\",VLOOKUP(Fuhrparkliste!Z35,ELEKTROMATRIXKEY,2,FALSE)))","v":""},{"$f":"IF(Fuhrparkliste!D35=\"\",\"\",Fuhrparkliste!D35)","v":""},{"$f":"IF(Fuhrparkliste!N35=\"\",\"\",VLOOKUP(Fuhrparkliste!N35,AUFBAUMATRIXKEY,2,FALSE))","v":""},{"$f":"IF(Fuhrparkliste!T35=\"\",\"\",Fuhrparkliste!T35)","v":""},{"$f":"IF(C26=\"\",\"\",IF(AND(Fuhrparkliste!M35=\"Ja\",C26=\"112\"),\"1\",\"0\"))","v":""},{"$f":"IF(Fuhrparkliste!H35=\"\",\"\",Fuhrparkliste!H35)","v":""},{"$f":"IF(Fuhrparkliste!J35=\"\",\"\",Fuhrparkliste!J35)","v":""},{"$f":"IF(C26<>\"112\",\"\",IF(Fuhrparkliste!K35=\"Ja\",\"1\",\"0\"))","v":""},{"$f":"IF(OR(Fuhrparkliste!L35=\"\",C26<>\"127\"),\"\",VLOOKUP(Fuhrparkliste!L35,Bedachungsart,2,FALSE))","v":""},{"$f":"IF(C26=\"\",\"\",IF(AND(Fuhrparkliste!X35=\"Ja\",C26=\"112\"),\"1\",\"0\"))","v":""},{"$f":"IF(C26=\"\",\"\",IF(AND(Fuhrparkliste!Y35=\"Ja\",OR(C26=\"112\",C26=\"251\")),\"1\",\"0\"))","v":""},"",{"$f":"IF(C26=\"\",\"\",IF(AND(Fuhrparkliste!W35=\"Ja\",C26=\"112\"),\"1\",\"0\"))","v":""},{"$f":"IF(C26=\"\",\"\",IF(AND(ISERROR(SEARCH(\"0??\",tblRisiken!C26)) =TRUE,ISERROR(SEARCH(\"1??\",tblRisiken!C26)) =TRUE),\"0\",IF(AND(Fuhrparkliste!U35=\"Ja\",VLOOKUP(Werte!P26,SFMATRIXKEY,3,FALSE)=\"Ja\"),\"1\",\"0\")))","v":""},{"$f":"IF(C26=\"\",\"\",IF(OR(AF26=\"00\",LEFT(AF26,1)=\"7\"),\"0\",IF(AND(ISERROR(SEARCH(\"0??\",C26)) =TRUE,ISERROR(SEARCH(\"1??\",C26)) =TRUE),\"0\",IF(AND(Fuhrparkliste!V35=\"Ja\",X26=\"1\",VLOOKUP(Werte!Q26,SFMATRIXKEY,3,FALSE)=\"Ja\"),\"1\",\"0\"))))","v":""},{"$f":"IF(C26=\"\",\"\",IF(AND(Fuhrparkliste!AA35=\"Ja\",C26=\"112\"),\"1\",\"0\"))","v":""},{"$f":"IF(Fuhrparkliste!AB35=\"\",\"\",VLOOKUP(Fuhrparkliste!AB35,MatrixVorVU,2,FALSE))","v":""},{"$f":"IF(Fuhrparkliste!AC35=\"\",\"\",Fuhrparkliste!AC35)","v":""},{"$f":"IF(C26=\"\",\"\",IF(Fuhrparkliste!O35=\"\",\"00\",VLOOKUP(Fuhrparkliste!O35,GEFAHRGUTMATRIXKEY,2,FALSE)))","v":""},{"$f":"IF(C26=\"\",\"\",\"11\")","v":""},{"$f":"IF(C26=\"\",\"\",IF(Werte!P26=\"\",\"F1\",VLOOKUP(Fuhrparkliste!P35,SFKOMPLETT,2,FALSE)))","v":""},{"$f":"IF(C26=\"\",\"\",IF(Fuhrparkliste!S35=\"\",\"00\",VLOOKUP(Fuhrparkliste!S35,KASKOMATRIXKEY,2,FALSE)))","v":""},{"$f":"IF(C26=\"\",\"\",IF(Werte!Q26=\"\",\"F1\",VLOOKUP(Fuhrparkliste!Q35,SFKOMPLETT,2,FALSE)))","v":""},{"$f":"IF(C26=\"\",\"\",Fuhrparkliste!R35)","v":""},{"$f":"SUBSTITUTE(Fuhrparkliste!E35,\" \",\"\")","v":""}]
["",{"$f":"IF(Fuhrparkliste!B36=\"\",\"\",IF(Fuhrparkliste!B36=\"112\",\"22\",\"26\"))","v":""},{"$f":"IF(Fuhrparkliste!B36=\"\",\"\",TRIM(IF(LEN(Fuhrparkliste!B36)=1,CONCATENATE(\"00\",Fuhrparkliste!B36),IF(LEN(Fuhrparkliste!B36)=2,CONCATENATE(\"0\",Fuhrparkliste!B36),CONCATENATE(Fuhrparkliste!B36,\" \")))))","v":""},"","",{"$f":"RIGHT(AI27,COUNT(RIGHT(AI27,COLUMN(26:26))*1))","v":""},{"$f":"IF(Fuhrparkliste!I36=\"\",\"\",Fuhrparkliste!I36)","v":""},{"$f":"IF(Fuhrparkliste!F36=\"\",\"\",IF(LEN(Fuhrparkliste!F36)=1,CONCATENATE(\"000\",Fuhrparkliste!F36),IF(LEN(Fuhrparkliste!F36)=2,CONCATENATE(\"00\",Fuhrparkliste!F36),IF(LEN(Fuhrparkliste!F36)=3,CONCATENATE(\"0\",Fuhrparkliste!F36),LEFT(Fuhrparkliste!F36,4)))))","v":""},{"$f":"IF(Fuhrparkliste!G36=\"\",\"\",IF(LEN(Fuhrparkliste!G36)=1,CONCATENATE(\"00\",Fuhrparkliste!G36),IF(LEN(Fuhrparkliste!G36)=2,CONCATENATE(\"0\",Fuhrparkliste!G36),LEFT(Fuhrparkliste!G36,3))))","v":""},{"$f":"IF(C27=\"\",\"\",IF(OR(C27=\"581\",C27=\"541\",C27=\"542\",C27=\"591\",C27=\"714\",C27=\"719\"),\"\",IF(Fuhrparkliste!C36=\"\",\"0\",Fuhrparkliste!C36)))","v":""},{"$f":"IF(C27=\"\",\"\",IF(Fuhrparkliste!Z36=\"\",\"0\",VLOOKUP(Fuhrparkliste!Z36,ELEKTROMATRIXKEY,2,FALSE)))","v":""},{"$f":"IF(Fuhrparkliste!D36=\"\",\"\",Fuhrparkliste!D36)","v":""},{"$f":"IF(Fuhrparkliste!N36=\"\",\"\",VLOOKUP(Fuhrparkliste!N36,AUFBAUMATRIXKEY,2,FALSE))","v":""},{"$f":"IF(Fuhrparkliste!T36=\"\",\"\",Fuhrparkliste!T36)","v":""},{"$f":"IF(C27=\"\",\"\",IF(AND(Fuhrparkliste!M36=\"Ja\",C27=\"112\"),\"1\",\"0\"))","v":""},{"$f":"IF(Fuhrparkliste!H36=\"\",\"\",Fuhrparkliste!H36)","v":""},{"$f":"IF(Fuhrparkliste!J36=\"\",\"\",Fuhrparkliste!J36)","v":""},{"$f":"IF(C27<>\"112\",\"\",IF(Fuhrparkliste!K36=\"Ja\",\"1\",\"0\"))","v":""},{"$f":"IF(OR(Fuhrparkliste!L36=\"\",C27<>\"127\"),\"\",VLOOKUP(Fuhrparkliste!L36,Bedachungsart,2,FALSE))","v":""},{"$f":"IF(C27=\"\",\"\",IF(AND(Fuhrparkliste!X36=\"Ja\",C27=\"112\"),\"1\",\"0\"))","v":""},{"$f":"IF(C27=\"\",\"\",IF(AND(Fuhrparkliste!Y36=\"Ja\",OR(C27=\"112\",C27=\"251\")),\"1\",\"0\"))","v":""},"",{"$f":"IF(C27=\"\",\"\",IF(AND(Fuhrparkliste!W36=\"Ja\",C27=\"112\"),\"1\",\"0\"))","v":""},{"$f":"IF(C27=\"\",\"\",IF(AND(ISERROR(SEARCH(\"0??\",tblRisiken!C27)) =TRUE,ISERROR(SEARCH(\"1??\",tblRisiken!C27)) =TRUE),\"0\",IF(AND(Fuhrparkliste!U36=\"Ja\",VLOOKUP(Werte!P27,SFMATRIXKEY,3,FALSE)=\"Ja\"),\"1\",\"0\")))","v":""},{"$f":"IF(C27=\"\",\"\",IF(OR(AF27=\"00\",LEFT(AF27,1)=\"7\"),\"0\",IF(AND(ISERROR(SEARCH(\"0??\",C27)) =TRUE,ISERROR(SEARCH(\"1??\",C27)) =TRUE),\"0\",IF(AND(Fuhrparkliste!V36=\"Ja\",X27=\"1\",VLOOKUP(Werte!Q27,SFMATRIXKEY,3,FALSE)=\"Ja\"),\"1\",\"0\"))))","v":""},{"$f":"IF(C27=\"\",\"\",IF(AND(Fuhrparkliste!AA36=\"Ja\",C27=\"112\"),\"1\",\"0\"))","v":""},{"$f":"IF(Fuhrparkliste!AB36=\"\",\"\",VLOOKUP(Fuhrparkliste!AB36,MatrixVorVU,2,FALSE))","v":""},{"$f":"IF(Fuhrparkliste!AC36=\"\",\"\",Fuhrparkliste!AC36)","v":""},{"$f":"IF(C27=\"\",\"\",IF(Fuhrparkliste!O36=\"\",\"00\",VLOOKUP(Fuhrparkliste!O36,GEFAHRGUTMATRIXKEY,2,FALSE)))","v":""},"",{"$f":"IF(C27=\"\",\"\",IF(Werte!P27=\"\",\"F1\",VLOOKUP(Fuhrparkliste!P36,SFKOMPLETT,2,FALSE)))","v":""},{"$f":"IF(C27=\"\",\"\",IF(Fuhrparkliste!S36=\"\",\"00\",VLOOKUP(Fuhrparkliste!S36,KASKOMATRIXKEY,2,FALSE)))","v":""},{"$f":"IF(C27=\"\",\"\",IF(Werte!Q27=\"\",\"F1\",VLOOKUP(Fuhrparkliste!Q36,SFKOMPLETT,2,FALSE)))","v":""},{"$f":"IF(C27=\"\",\"\",Fuhrparkliste!R36)","v":""},{"$f":"SUBSTITUTE(Fuhrparkliste!E36,\" \",\"\")","v":""}]
["",{"$f":"IF(Fuhrparkliste!B37=\"\",\"\",IF(Fuhrparkliste!B37=\"112\",\"22\",\"26\"))","v":""},{"$f":"IF(Fuhrparkliste!B37=\"\",\"\",TRIM(IF(LEN(Fuhrparkliste!B37)=1,CONCATENATE(\"00\",Fuhrparkliste!B37),IF(LEN(Fuhrparkliste!B37)=2,CONCATENATE(\"0\",Fuhrparkliste!B37),CONCATENATE(Fuhrparkliste!B37,\" \")))))","v":""},"","",{"$f":"RIGHT(AI28,COUNT(RIGHT(AI28,COLUMN(27:27))*1))","v":""},{"$f":"IF(Fuhrparkliste!I37=\"\",\"\",Fuhrparkliste!I37)","v":""},{"$f":"IF(Fuhrparkliste!F37=\"\",\"\",IF(LEN(Fuhrparkliste!F37)=1,CONCATENATE(\"000\",Fuhrparkliste!F37),IF(LEN(Fuhrparkliste!F37)=2,CONCATENATE(\"00\",Fuhrparkliste!F37),IF(LEN(Fuhrparkliste!F37)=3,CONCATENATE(\"0\",Fuhrparkliste!F37),LEFT(Fuhrparkliste!F37,4)))))","v":""},{"$f":"IF(Fuhrparkliste!G37=\"\",\"\",IF(LEN(Fuhrparkliste!G37)=1,CONCATENATE(\"00\",Fuhrparkliste!G37),IF(LEN(Fuhrparkliste!G37)=2,CONCATENATE(\"0\",Fuhrparkliste!G37),LEFT(Fuhrparkliste!G37,3))))","v":""},{"$f":"IF(C28=\"\",\"\",IF(OR(C28=\"581\",C28=\"541\",C28=\"542\",C28=\"591\",C28=\"714\",C28=\"719\"),\"\",IF(Fuhrparkliste!C37=\"\",\"0\",Fuhrparkliste!C37)))","v":""},{"$f":"IF(C28=\"\",\"\",IF(Fuhrparkliste!Z37=\"\",\"0\",VLOOKUP(Fuhrparkliste!Z37,ELEKTROMATRIXKEY,2,FALSE)))","v":""},{"$f":"IF(Fuhrparkliste!D37=\"\",\"\",Fuhrparkliste!D37)","v":""},{"$f":"IF(Fuhrparkliste!N37=\"\",\"\",VLOOKUP(Fuhrparkliste!N37,AUFBAUMATRIXKEY,2,FALSE))","v":""},{"$f":"IF(Fuhrparkliste!T37=\"\",\"\",Fuhrparkliste!T37)","v":""},{"$f":"IF(C28=\"\",\"\",IF(AND(Fuhrparkliste!M37=\"Ja\",C28=\"112\"),\"1\",\"0\"))","v":""},{"$f":"IF(Fuhrparkliste!H37=\"\",\"\",Fuhrparkliste!H37)","v":""},{"$f":"IF(Fuhrparkliste!J37=\"\",\"\",Fuhrparkliste!J37)","v":""},{"$f":"IF(C28<>\"112\",\"\",IF(Fuhrparkliste!K37=\"Ja\",\"1\",\"0\"))","v":""},{"$f":"IF(OR(Fuhrparkliste!L37=\"\",C28<>\"127\"),\"\",VLOOKUP(Fuhrparkliste!L37,Bedachungsart,2,FALSE))","v":""},{"$f":"IF(C28=\"\",\"\",IF(AND(Fuhrparkliste!X37=\"Ja\",C28=\"112\"),\"1\",\"0\"))","v":""},{"$f":"IF(C28=\"\",\"\",IF(AND(Fuhrparkliste!Y37=\"Ja\",OR(C28=\"112\",C28=\"251\")),\"1\",\"0\"))","v":""},"",{"$f":"IF(C28=\"\",\"\",IF(AND(Fuhrparkliste!W37=\"Ja\",C28=\"112\"),\"1\",\"0\"))","v":""},{"$f":"IF(C28=\"\",\"\",IF(AND(ISERROR(SEARCH(\"0??\",tblRisiken!C28)) =TRUE,ISERROR(SEARCH(\"1??\",tblRisiken!C28)) =TRUE),\"0\",IF(AND(Fuhrparkliste!U37=\"Ja\",VLOOKUP(Werte!P28,SFMATRIXKEY,3,FALSE)=\"Ja\"),\"1\",\"0\")))","v":""},{"$f":"IF(C28=\"\",\"\",IF(OR(AF28=\"00\",LEFT(AF28,1)=\"7\"),\"0\",IF(AND(ISERROR(SEARCH(\"0??\",C28)) =TRUE,ISERROR(SEARCH(\"1??\",C28)) =TRUE),\"0\",IF(AND(Fuhrparkliste!V37=\"Ja\",X28=\"1\",VLOOKUP(Werte!Q28,SFMATRIXKEY,3,FALSE)=\"Ja\"),\"1\",\"0\"))))","v":""},{"$f":"IF(C28=\"\",\"\",IF(AND(Fuhrparkliste!AA37=\"Ja\",C28=\"112\"),\"1\",\"0\"))","v":""},{"$f":"IF(Fuhrparkliste!AB37=\"\",\"\",VLOOKUP(Fuhrparkliste!AB37,MatrixVorVU,2,FALSE))","v":""},{"$f":"IF(Fuhrparkliste!AC37=\"\",\"\",Fuhrparkliste!AC37)","v":""},{"$f":"IF(C28=\"\",\"\",IF(Fuhrparkliste!O37=\"\",\"00\",VLOOKUP(Fuhrparkliste!O37,GEFAHRGUTMATRIXKEY,2,FALSE)))","v":""},"",{"$f":"IF(C28=\"\",\"\",IF(Werte!P28=\"\",\"F1\",VLOOKUP(Fuhrparkliste!P37,SFKOMPLETT,2,FALSE)))","v":""},{"$f":"IF(C28=\"\",\"\",IF(Fuhrparkliste!S37=\"\",\"00\",VLOOKUP(Fuhrparkliste!S37,KASKOMATRIXKEY,2,FALSE)))","v":""},{"$f":"IF(C28=\"\",\"\",IF(Werte!Q28=\"\",\"F1\",VLOOKUP(Fuhrparkliste!Q37,SFKOMPLETT,2,FALSE)))","v":""},{"$f":"IF(C28=\"\",\"\",Fuhrparkliste!R37)","v":""},{"$f":"SUBSTITUTE(Fuhrparkliste!E37,\" \",\"\")","v":""}]
["",{"$f":"IF(Fuhrparkliste!B38=\"\",\"\",IF(Fuhrparkliste!B38=\"112\",\"22\",\"26\"))","v":""},{"$f":"IF(Fuhrparkliste!B38=\"\",\"\",TRIM(IF(LEN(Fuhrparkliste!B38)=1,CONCATENATE(\"00\",Fuhrparkliste!B38),IF(LEN(Fuhrparkliste!B38)=2,CONCATENATE(\"0\",Fuhrparkliste!B38),CONCATENATE(Fuhrparkliste!B38,\" \")))))","v":""},"","",{"$f":"RIGHT(AI29,COUNT(RIGHT(AI29,COLUMN(28:28))*1))","v":""},{"$f":"IF(Fuhrparkliste!I38=\"\",\"\",Fuhrparkliste!I38)","v":""},{"$f":"IF(Fuhrparkliste!F38=\"\",\"\",IF(LEN(Fuhrparkliste!F38)=1,CONCATENATE(\"000\",Fuhrparkliste!F38),IF(LEN(Fuhrparkliste!F38)=2,CONCATENATE(\"00\",Fuhrparkliste!F38),IF(LEN(Fuhrparkliste!F38)=3,CONCATENATE(\"0\",Fuhrparkliste!F38),LEFT(Fuhrparkliste!F38,4)))))","v":""},{"$f":"IF(Fuhrparkliste!G38=\"\",\"\",IF(LEN(Fuhrparkliste!G38)=1,CONCATENATE(\"00\",Fuhrparkliste!G38),IF(LEN(Fuhrparkliste!G38)=2,CONCATENATE(\"0\",Fuhrparkliste!G38),LEFT(Fuhrparkliste!G38,3))))","v":""},{"$f":"IF(C29=\"\",\"\",IF(OR(C29=\"581\",C29=\"541\",C29=\"542\",C29=\"591\",C29=\"714\",C29=\"719\"),\"\",IF(Fuhrparkliste!C38=\"\",\"0\",Fuhrparkliste!C38)))","v":""},{"$f":"IF(C29=\"\",\"\",IF(Fuhrparkliste!Z38=\"\",\"0\",VLOOKUP(Fuhrparkliste!Z38,ELEKTROMATRIXKEY,2,FALSE)))","v":""},{"$f":"IF(Fuhrparkliste!D38=\"\",\"\",Fuhrparkliste!D38)","v":""},{"$f":"IF(Fuhrparkliste!N38=\"\",\"\",VLOOKUP(Fuhrparkliste!N38,AUFBAUMATRIXKEY,2,FALSE))","v":""},{"$f":"IF(Fuhrparkliste!T38=\"\",\"\",Fuhrparkliste!T38)","v":""},{"$f":"IF(C29=\"\",\"\",IF(AND(Fuhrparkliste!M38=\"Ja\",C29=\"112\"),\"1\",\"0\"))","v":""},{"$f":"IF(Fuhrparkliste!H38=\"\",\"\",Fuhrparkliste!H38)","v":""},{"$f":"IF(Fuhrparkliste!J38=\"\",\"\",Fuhrparkliste!J38)","v":""},{"$f":"IF(C29<>\"112\",\"\",IF(Fuhrparkliste!K38=\"Ja\",\"1\",\"0\"))","v":""},{"$f":"IF(OR(Fuhrparkliste!L38=\"\",C29<>\"127\"),\"\",VLOOKUP(Fuhrparkliste!L38,Bedachungsart,2,FALSE))","v":""},{"$f":"IF(C29=\"\",\"\",IF(AND(Fuhrparkliste!X38=\"Ja\",C29=\"112\"),\"1\",\"0\"))","v":""},{"$f":"IF(C29=\"\",\"\",IF(AND(Fuhrparkliste!Y38=\"Ja\",OR(C29=\"112\",C29=\"251\")),\"1\",\"0\"))","v":""},"",{"$f":"IF(C29=\"\",\"\",IF(AND(Fuhrparkliste!W38=\"Ja\",C29=\"112\"),\"1\",\"0\"))","v":""},{"$f":"IF(C29=\"\",\"\",IF(AND(ISERROR(SEARCH(\"0??\",tblRisiken!C29)) =TRUE,ISERROR(SEARCH(\"1??\",tblRisiken!C29)) =TRUE),\"0\",IF(AND(Fuhrparkliste!U38=\"Ja\",VLOOKUP(Werte!P29,SFMATRIXKEY,3,FALSE)=\"Ja\"),\"1\",\"0\")))","v":""},{"$f":"IF(C29=\"\",\"\",IF(OR(AF29=\"00\",LEFT(AF29,1)=\"7\"),\"0\",IF(AND(ISERROR(SEARCH(\"0??\",C29)) =TRUE,ISERROR(SEARCH(\"1??\",C29)) =TRUE),\"0\",IF(AND(Fuhrparkliste!V38=\"Ja\",X29=\"1\",VLOOKUP(Werte!Q29,SFMATRIXKEY,3,FALSE)=\"Ja\"),\"1\",\"0\"))))","v":""},{"$f":"IF(C29=\"\",\"\",IF(AND(Fuhrparkliste!AA38=\"Ja\",C29=\"112\"),\"1\",\"0\"))","v":""},{"$f":"IF(Fuhrparkliste!AB38=\"\",\"\",VLOOKUP(Fuhrparkliste!AB38,MatrixVorVU,2,FALSE))","v":""},{"$f":"IF(Fuhrparkliste!AC38=\"\",\"\",Fuhrparkliste!AC38)","v":""},{"$f":"IF(C29=\"\",\"\",IF(Fuhrparkliste!O38=\"\",\"00\",VLOOKUP(Fuhrparkliste!O38,GEFAHRGUTMATRIXKEY,2,FALSE)))","v":""},"",{"$f":"IF(C29=\"\",\"\",IF(Werte!P29=\"\",\"F1\",VLOOKUP(Fuhrparkliste!P38,SFKOMPLETT,2,FALSE)))","v":""},{"$f":"IF(C29=\"\",\"\",IF(Fuhrparkliste!S38=\"\",\"00\",VLOOKUP(Fuhrparkliste!S38,KASKOMATRIXKEY,2,FALSE)))","v":""},{"$f":"IF(C29=\"\",\"\",IF(Werte!Q29=\"\",\"F1\",VLOOKUP(Fuhrparkliste!Q38,SFKOMPLETT,2,FALSE)))","v":""},{"$f":"IF(C29=\"\",\"\",Fuhrparkliste!R38)","v":""},{"$f":"SUBSTITUTE(Fuhrparkliste!E38,\" \",\"\")","v":""}]
["",{"$f":"IF(Fuhrparkliste!B39=\"\",\"\",IF(Fuhrparkliste!B39=\"112\",\"22\",\"26\"))","v":""},{"$f":"IF(Fuhrparkliste!B39=\"\",\"\",TRIM(IF(LEN(Fuhrparkliste!B39)=1,CONCATENATE(\"00\",Fuhrparkliste!B39),IF(LEN(Fuhrparkliste!B39)=2,CONCATENATE(\"0\",Fuhrparkliste!B39),CONCATENATE(Fuhrparkliste!B39,\" \")))))","v":""},"","",{"$f":"RIGHT(AI30,COUNT(RIGHT(AI30,COLUMN(29:29))*1))","v":""},{"$f":"IF(Fuhrparkliste!I39=\"\",\"\",Fuhrparkliste!I39)","v":""},{"$f":"IF(Fuhrparkliste!F39=\"\",\"\",IF(LEN(Fuhrparkliste!F39)=1,CONCATENATE(\"000\",Fuhrparkliste!F39),IF(LEN(Fuhrparkliste!F39)=2,CONCATENATE(\"00\",Fuhrparkliste!F39),IF(LEN(Fuhrparkliste!F39)=3,CONCATENATE(\"0\",Fuhrparkliste!F39),LEFT(Fuhrparkliste!F39,4)))))","v":""},{"$f":"IF(Fuhrparkliste!G39=\"\",\"\",IF(LEN(Fuhrparkliste!G39)=1,CONCATENATE(\"00\",Fuhrparkliste!G39),IF(LEN(Fuhrparkliste!G39)=2,CONCATENATE(\"0\",Fuhrparkliste!G39),LEFT(Fuhrparkliste!G39,3))))","v":""},{"$f":"IF(C30=\"\",\"\",IF(OR(C30=\"581\",C30=\"541\",C30=\"542\",C30=\"591\",C30=\"714\",C30=\"719\"),\"\",IF(Fuhrparkliste!C39=\"\",\"0\",Fuhrparkliste!C39)))","v":""},{"$f":"IF(C30=\"\",\"\",IF(Fuhrparkliste!Z39=\"\",\"0\",VLOOKUP(Fuhrparkliste!Z39,ELEKTROMATRIXKEY,2,FALSE)))","v":""},{"$f":"IF(Fuhrparkliste!D39=\"\",\"\",Fuhrparkliste!D39)","v":""},{"$f":"IF(Fuhrparkliste!N39=\"\",\"\",VLOOKUP(Fuhrparkliste!N39,AUFBAUMATRIXKEY,2,FALSE))","v":""},{"$f":"IF(Fuhrparkliste!T39=\"\",\"\",Fuhrparkliste!T39)","v":""},{"$f":"IF(C30=\"\",\"\",IF(AND(Fuhrparkliste!M39=\"Ja\",C30=\"112\"),\"1\",\"0\"))","v":""},{"$f":"IF(Fuhrparkliste!H39=\"\",\"\",Fuhrparkliste!H39)","v":""},{"$f":"IF(Fuhrparkliste!J39=\"\",\"\",Fuhrparkliste!J39)","v":""},{"$f":"IF(C30<>\"112\",\"\",IF(Fuhrparkliste!K39=\"Ja\",\"1\",\"0\"))","v":""},{"$f":"IF(OR(Fuhrparkliste!L39=\"\",C30<>\"127\"),\"\",VLOOKUP(Fuhrparkliste!L39,Bedachungsart,2,FALSE))","v":""},{"$f":"IF(C30=\"\",\"\",IF(AND(Fuhrparkliste!X39=\"Ja\",C30=\"112\"),\"1\",\"0\"))","v":""},{"$f":"IF(C30=\"\",\"\",IF(AND(Fuhrparkliste!Y39=\"Ja\",OR(C30=\"112\",C30=\"251\")),\"1\",\"0\"))","v":""},"",{"$f":"IF(C30=\"\",\"\",IF(AND(Fuhrparkliste!W39=\"Ja\",C30=\"112\"),\"1\",\"0\"))","v":""},{"$f":"IF(C30=\"\",\"\",IF(AND(ISERROR(SEARCH(\"0??\",tblRisiken!C30)) =TRUE,ISERROR(SEARCH(\"1??\",tblRisiken!C30)) =TRUE),\"0\",IF(AND(Fuhrparkliste!U39=\"Ja\",VLOOKUP(Werte!P30,SFMATRIXKEY,3,FALSE)=\"Ja\"),\"1\",\"0\")))","v":""},{"$f":"IF(C30=\"\",\"\",IF(OR(AF30=\"00\",LEFT(AF30,1)=\"7\"),\"0\",IF(AND(ISERROR(SEARCH(\"0??\",C30)) =TRUE,ISERROR(SEARCH(\"1??\",C30)) =TRUE),\"0\",IF(AND(Fuhrparkliste!V39=\"Ja\",X30=\"1\",VLOOKUP(Werte!Q30,SFMATRIXKEY,3,FALSE)=\"Ja\"),\"1\",\"0\"))))","v":""},{"$f":"IF(C30=\"\",\"\",IF(AND(Fuhrparkliste!AA39=\"Ja\",C30=\"112\"),\"1\",\"0\"))","v":""},{"$f":"IF(Fuhrparkliste!AB39=\"\",\"\",VLOOKUP(Fuhrparkliste!AB39,MatrixVorVU,2,FALSE))","v":""},{"$f":"IF(Fuhrparkliste!AC39=\"\",\"\",Fuhrparkliste!AC39)","v":""},{"$f":"IF(C30=\"\",\"\",IF(Fuhrparkliste!O39=\"\",\"00\",VLOOKUP(Fuhrparkliste!O39,GEFAHRGUTMATRIXKEY,2,FALSE)))","v":""},"",{"$f":"IF(C30=\"\",\"\",IF(Werte!P30=\"\",\"F1\",VLOOKUP(Fuhrparkliste!P39,SFKOMPLETT,2,FALSE)))","v":""},{"$f":"IF(C30=\"\",\"\",IF(Fuhrparkliste!S39=\"\",\"00\",VLOOKUP(Fuhrparkliste!S39,KASKOMATRIXKEY,2,FALSE)))","v":""},{"$f":"IF(C30=\"\",\"\",IF(Werte!Q30=\"\",\"F1\",VLOOKUP(Fuhrparkliste!Q39,SFKOMPLETT,2,FALSE)))","v":""},{"$f":"IF(C30=\"\",\"\",Fuhrparkliste!R39)","v":""},{"$f":"SUBSTITUTE(Fuhrparkliste!E39,\" \",\"\")","v":""}]
["",{"$f":"IF(Fuhrparkliste!B40=\"\",\"\",IF(Fuhrparkliste!B40=\"112\",\"22\",\"26\"))","v":""},{"$f":"IF(Fuhrparkliste!B40=\"\",\"\",TRIM(IF(LEN(Fuhrparkliste!B40)=1,CONCATENATE(\"00\",Fuhrparkliste!B40),IF(LEN(Fuhrparkliste!B40)=2,CONCATENATE(\"0\",Fuhrparkliste!B40),CONCATENATE(Fuhrparkliste!B40,\" \")))))","v":""},"","",{"$f":"RIGHT(AI31,COUNT(RIGHT(AI31,COLUMN(30:30))*1))","v":""},{"$f":"IF(Fuhrparkliste!I40=\"\",\"\",Fuhrparkliste!I40)","v":""},{"$f":"IF(Fuhrparkliste!F40=\"\",\"\",IF(LEN(Fuhrparkliste!F40)=1,CONCATENATE(\"000\",Fuhrparkliste!F40),IF(LEN(Fuhrparkliste!F40)=2,CONCATENATE(\"00\",Fuhrparkliste!F40),IF(LEN(Fuhrparkliste!F40)=3,CONCATENATE(\"0\",Fuhrparkliste!F40),LEFT(Fuhrparkliste!F40,4)))))","v":""},{"$f":"IF(Fuhrparkliste!G40=\"\",\"\",IF(LEN(Fuhrparkliste!G40)=1,CONCATENATE(\"00\",Fuhrparkliste!G40),IF(LEN(Fuhrparkliste!G40)=2,CONCATENATE(\"0\",Fuhrparkliste!G40),LEFT(Fuhrparkliste!G40,3))))","v":""},{"$f":"IF(C31=\"\",\"\",IF(OR(C31=\"581\",C31=\"541\",C31=\"542\",C31=\"591\",C31=\"714\",C31=\"719\"),\"\",IF(Fuhrparkliste!C40=\"\",\"0\",Fuhrparkliste!C40)))","v":""},{"$f":"IF(C31=\"\",\"\",IF(Fuhrparkliste!Z40=\"\",\"0\",VLOOKUP(Fuhrparkliste!Z40,ELEKTROMATRIXKEY,2,FALSE)))","v":""},{"$f":"IF(Fuhrparkliste!D40=\"\",\"\",Fuhrparkliste!D40)","v":""},{"$f":"IF(Fuhrparkliste!N40=\"\",\"\",VLOOKUP(Fuhrparkliste!N40,AUFBAUMATRIXKEY,2,FALSE))","v":""},{"$f":"IF(Fuhrparkliste!T40=\"\",\"\",Fuhrparkliste!T40)","v":""},{"$f":"IF(C31=\"\",\"\",IF(AND(Fuhrparkliste!M40=\"Ja\",C31=\"112\"),\"1\",\"0\"))","v":""},{"$f":"IF(Fuhrparkliste!H40=\"\",\"\",Fuhrparkliste!H40)","v":""},{"$f":"IF(Fuhrparkliste!J40=\"\",\"\",Fuhrparkliste!J40)","v":""},{"$f":"IF(C31<>\"112\",\"\",IF(Fuhrparkliste!K40=\"Ja\",\"1\",\"0\"))","v":""},{"$f":"IF(OR(Fuhrparkliste!L40=\"\",C31<>\"127\"),\"\",VLOOKUP(Fuhrparkliste!L40,Bedachungsart,2,FALSE))","v":""},{"$f":"IF(C31=\"\",\"\",IF(AND(Fuhrparkliste!X40=\"Ja\",C31=\"112\"),\"1\",\"0\"))","v":""},{"$f":"IF(C31=\"\",\"\",IF(AND(Fuhrparkliste!Y40=\"Ja\",OR(C31=\"112\",C31=\"251\")),\"1\",\"0\"))","v":""},"",{"$f":"IF(C31=\"\",\"\",IF(AND(Fuhrparkliste!W40=\"Ja\",C31=\"112\"),\"1\",\"0\"))","v":""},{"$f":"IF(C31=\"\",\"\",IF(AND(ISERROR(SEARCH(\"0??\",tblRisiken!C31)) =TRUE,ISERROR(SEARCH(\"1??\",tblRisiken!C31)) =TRUE),\"0\",IF(AND(Fuhrparkliste!U40=\"Ja\",VLOOKUP(Werte!P31,SFMATRIXKEY,3,FALSE)=\"Ja\"),\"1\",\"0\")))","v":""},{"$f":"IF(C31=\"\",\"\",IF(OR(AF31=\"00\",LEFT(AF31,1)=\"7\"),\"0\",IF(AND(ISERROR(SEARCH(\"0??\",C31)) =TRUE,ISERROR(SEARCH(\"1??\",C31)) =TRUE),\"0\",IF(AND(Fuhrparkliste!V40=\"Ja\",X31=\"1\",VLOOKUP(Werte!Q31,SFMATRIXKEY,3,FALSE)=\"Ja\"),\"1\",\"0\"))))","v":""},{"$f":"IF(C31=\"\",\"\",IF(AND(Fuhrparkliste!AA40=\"Ja\",C31=\"112\"),\"1\",\"0\"))","v":""},{"$f":"IF(Fuhrparkliste!AB40=\"\",\"\",VLOOKUP(Fuhrparkliste!AB40,MatrixVorVU,2,FALSE))","v":""},{"$f":"IF(Fuhrparkliste!AC40=\"\",\"\",Fuhrparkliste!AC40)","v":""},{"$f":"IF(C31=\"\",\"\",IF(Fuhrparkliste!O40=\"\",\"00\",VLOOKUP(Fuhrparkliste!O40,GEFAHRGUTMATRIXKEY,2,FALSE)))","v":""},"",{"$f":"IF(C31=\"\",\"\",IF(Werte!P31=\"\",\"F1\",VLOOKUP(Fuhrparkliste!P40,SFKOMPLETT,2,FALSE)))","v":""},{"$f":"IF(C31=\"\",\"\",IF(Fuhrparkliste!S40=\"\",\"00\",VLOOKUP(Fuhrparkliste!S40,KASKOMATRIXKEY,2,FALSE)))","v":""},{"$f":"IF(C31=\"\",\"\",IF(Werte!Q31=\"\",\"F1\",VLOOKUP(Fuhrparkliste!Q40,SFKOMPLETT,2,FALSE)))","v":""},{"$f":"IF(C31=\"\",\"\",Fuhrparkliste!R40)","v":""},{"$f":"SUBSTITUTE(Fuhrparkliste!E40,\" \",\"\")","v":""}]
["",{"$f":"IF(Fuhrparkliste!B41=\"\",\"\",IF(Fuhrparkliste!B41=\"112\",\"22\",\"26\"))","v":""},{"$f":"IF(Fuhrparkliste!B41=\"\",\"\",TRIM(IF(LEN(Fuhrparkliste!B41)=1,CONCATENATE(\"00\",Fuhrparkliste!B41),IF(LEN(Fuhrparkliste!B41)=2,CONCATENATE(\"0\",Fuhrparkliste!B41),CONCATENATE(Fuhrparkliste!B41,\" \")))))","v":""},"","",{"$f":"RIGHT(AI32,COUNT(RIGHT(AI32,COLUMN(31:31))*1))","v":""},{"$f":"IF(Fuhrparkliste!I41=\"\",\"\",Fuhrparkliste!I41)","v":""},{"$f":"IF(Fuhrparkliste!F41=\"\",\"\",IF(LEN(Fuhrparkliste!F41)=1,CONCATENATE(\"000\",Fuhrparkliste!F41),IF(LEN(Fuhrparkliste!F41)=2,CONCATENATE(\"00\",Fuhrparkliste!F41),IF(LEN(Fuhrparkliste!F41)=3,CONCATENATE(\"0\",Fuhrparkliste!F41),LEFT(Fuhrparkliste!F41,4)))))","v":""},{"$f":"IF(Fuhrparkliste!G41=\"\",\"\",IF(LEN(Fuhrparkliste!G41)=1,CONCATENATE(\"00\",Fuhrparkliste!G41),IF(LEN(Fuhrparkliste!G41)=2,CONCATENATE(\"0\",Fuhrparkliste!G41),LEFT(Fuhrparkliste!G41,3))))","v":""},{"$f":"IF(C32=\"\",\"\",IF(OR(C32=\"581\",C32=\"541\",C32=\"542\",C32=\"591\",C32=\"714\",C32=\"719\"),\"\",IF(Fuhrparkliste!C41=\"\",\"0\",Fuhrparkliste!C41)))","v":""},{"$f":"IF(C32=\"\",\"\",IF(Fuhrparkliste!Z41=\"\",\"0\",VLOOKUP(Fuhrparkliste!Z41,ELEKTROMATRIXKEY,2,FALSE)))","v":""},{"$f":"IF(Fuhrparkliste!D41=\"\",\"\",Fuhrparkliste!D41)","v":""},{"$f":"IF(Fuhrparkliste!N41=\"\",\"\",VLOOKUP(Fuhrparkliste!N41,AUFBAUMATRIXKEY,2,FALSE))","v":""},{"$f":"IF(Fuhrparkliste!T41=\"\",\"\",Fuhrparkliste!T41)","v":""},{"$f":"IF(C32=\"\",\"\",IF(AND(Fuhrparkliste!M41=\"Ja\",C32=\"112\"),\"1\",\"0\"))","v":""},{"$f":"IF(Fuhrparkliste!H41=\"\",\"\",Fuhrparkliste!H41)","v":""},{"$f":"IF(Fuhrparkliste!J41=\"\",\"\",Fuhrparkliste!J41)","v":""},{"$f":"IF(C32<>\"112\",\"\",IF(Fuhrparkliste!K41=\"Ja\",\"1\",\"0\"))","v":""},{"$f":"IF(OR(Fuhrparkliste!L41=\"\",C32<>\"127\"),\"\",VLOOKUP(Fuhrparkliste!L41,Bedachungsart,2,FALSE))","v":""},{"$f":"IF(C32=\"\",\"\",IF(AND(Fuhrparkliste!X41=\"Ja\",C32=\"112\"),\"1\",\"0\"))","v":""},{"$f":"IF(C32=\"\",\"\",IF(AND(Fuhrparkliste!Y41=\"Ja\",OR(C32=\"112\",C32=\"251\")),\"1\",\"0\"))","v":""},"",{"$f":"IF(C32=\"\",\"\",IF(AND(Fuhrparkliste!W41=\"Ja\",C32=\"112\"),\"1\",\"0\"))","v":""},{"$f":"IF(C32=\"\",\"\",IF(AND(ISERROR(SEARCH(\"0??\",tblRisiken!C32)) =TRUE,ISERROR(SEARCH(\"1??\",tblRisiken!C32)) =TRUE),\"0\",IF(AND(Fuhrparkliste!U41=\"Ja\",VLOOKUP(Werte!P32,SFMATRIXKEY,3,FALSE)=\"Ja\"),\"1\",\"0\")))","v":""},{"$f":"IF(C32=\"\",\"\",IF(OR(AF32=\"00\",LEFT(AF32,1)=\"7\"),\"0\",IF(AND(ISERROR(SEARCH(\"0??\",C32)) =TRUE,ISERROR(SEARCH(\"1??\",C32)) =TRUE),\"0\",IF(AND(Fuhrparkliste!V41=\"Ja\",X32=\"1\",VLOOKUP(Werte!Q32,SFMATRIXKEY,3,FALSE)=\"Ja\"),\"1\",\"0\"))))","v":""},{"$f":"IF(C32=\"\",\"\",IF(AND(Fuhrparkliste!AA41=\"Ja\",C32=\"112\"),\"1\",\"0\"))","v":""},{"$f":"IF(Fuhrparkliste!AB41=\"\",\"\",VLOOKUP(Fuhrparkliste!AB41,MatrixVorVU,2,FALSE))","v":""},{"$f":"IF(Fuhrparkliste!AC41=\"\",\"\",Fuhrparkliste!AC41)","v":""},{"$f":"IF(C32=\"\",\"\",IF(Fuhrparkliste!O41=\"\",\"00\",VLOOKUP(Fuhrparkliste!O41,GEFAHRGUTMATRIXKEY,2,FALSE)))","v":""},"",{"$f":"IF(C32=\"\",\"\",IF(Werte!P32=\"\",\"F1\",VLOOKUP(Fuhrparkliste!P41,SFKOMPLETT,2,FALSE)))","v":""},{"$f":"IF(C32=\"\",\"\",IF(Fuhrparkliste!S41=\"\",\"00\",VLOOKUP(Fuhrparkliste!S41,KASKOMATRIXKEY,2,FALSE)))","v":""},{"$f":"IF(C32=\"\",\"\",IF(Werte!Q32=\"\",\"F1\",VLOOKUP(Fuhrparkliste!Q41,SFKOMPLETT,2,FALSE)))","v":""},{"$f":"IF(C32=\"\",\"\",Fuhrparkliste!R41)","v":""},{"$f":"SUBSTITUTE(Fuhrparkliste!E41,\" \",\"\")","v":""}]
["",{"$f":"IF(Fuhrparkliste!B42=\"\",\"\",IF(Fuhrparkliste!B42=\"112\",\"22\",\"26\"))","v":""},{"$f":"IF(Fuhrparkliste!B42=\"\",\"\",TRIM(IF(LEN(Fuhrparkliste!B42)=1,CONCATENATE(\"00\",Fuhrparkliste!B42),IF(LEN(Fuhrparkliste!B42)=2,CONCATENATE(\"0\",Fuhrparkliste!B42),CONCATENATE(Fuhrparkliste!B42,\" \")))))","v":""},"","",{"$f":"RIGHT(AI33,COUNT(RIGHT(AI33,COLUMN(32:32))*1))","v":""},{"$f":"IF(Fuhrparkliste!I42=\"\",\"\",Fuhrparkliste!I42)","v":""},{"$f":"IF(Fuhrparkliste!F42=\"\",\"\",IF(LEN(Fuhrparkliste!F42)=1,CONCATENATE(\"000\",Fuhrparkliste!F42),IF(LEN(Fuhrparkliste!F42)=2,CONCATENATE(\"00\",Fuhrparkliste!F42),IF(LEN(Fuhrparkliste!F42)=3,CONCATENATE(\"0\",Fuhrparkliste!F42),LEFT(Fuhrparkliste!F42,4)))))","v":""},{"$f":"IF(Fuhrparkliste!G42=\"\",\"\",IF(LEN(Fuhrparkliste!G42)=1,CONCATENATE(\"00\",Fuhrparkliste!G42),IF(LEN(Fuhrparkliste!G42)=2,CONCATENATE(\"0\",Fuhrparkliste!G42),LEFT(Fuhrparkliste!G42,3))))","v":""},{"$f":"IF(C33=\"\",\"\",IF(OR(C33=\"581\",C33=\"541\",C33=\"542\",C33=\"591\",C33=\"714\",C33=\"719\"),\"\",IF(Fuhrparkliste!C42=\"\",\"0\",Fuhrparkliste!C42)))","v":""},{"$f":"IF(C33=\"\",\"\",IF(Fuhrparkliste!Z42=\"\",\"0\",VLOOKUP(Fuhrparkliste!Z42,ELEKTROMATRIXKEY,2,FALSE)))","v":""},{"$f":"IF(Fuhrparkliste!D42=\"\",\"\",Fuhrparkliste!D42)","v":""},{"$f":"IF(Fuhrparkliste!N42=\"\",\"\",VLOOKUP(Fuhrparkliste!N42,AUFBAUMATRIXKEY,2,FALSE))","v":""},{"$f":"IF(Fuhrparkliste!T42=\"\",\"\",Fuhrparkliste!T42)","v":""},{"$f":"IF(C33=\"\",\"\",IF(AND(Fuhrparkliste!M42=\"Ja\",C33=\"112\"),\"1\",\"0\"))","v":""},{"$f":"IF(Fuhrparkliste!H42=\"\",\"\",Fuhrparkliste!H42)","v":""},{"$f":"IF(Fuhrparkliste!J42=\"\",\"\",Fuhrparkliste!J42)","v":""},{"$f":"IF(C33<>\"112\",\"\",IF(Fuhrparkliste!K42=\"Ja\",\"1\",\"0\"))","v":""},{"$f":"IF(OR(Fuhrparkliste!L42=\"\",C33<>\"127\"),\"\",VLOOKUP(Fuhrparkliste!L42,Bedachungsart,2,FALSE))","v":""},{"$f":"IF(C33=\"\",\"\",IF(AND(Fuhrparkliste!X42=\"Ja\",C33=\"112\"),\"1\",\"0\"))","v":""},{"$f":"IF(C33=\"\",\"\",IF(AND(Fuhrparkliste!Y42=\"Ja\",OR(C33=\"112\",C33=\"251\")),\"1\",\"0\"))","v":""},"",{"$f":"IF(C33=\"\",\"\",IF(AND(Fuhrparkliste!W42=\"Ja\",C33=\"112\"),\"1\",\"0\"))","v":""},{"$f":"IF(C33=\"\",\"\",IF(AND(ISERROR(SEARCH(\"0??\",tblRisiken!C33)) =TRUE,ISERROR(SEARCH(\"1??\",tblRisiken!C33)) =TRUE),\"0\",IF(AND(Fuhrparkliste!U42=\"Ja\",VLOOKUP(Werte!P33,SFMATRIXKEY,3,FALSE)=\"Ja\"),\"1\",\"0\")))","v":""},{"$f":"IF(C33=\"\",\"\",IF(OR(AF33=\"00\",LEFT(AF33,1)=\"7\"),\"0\",IF(AND(ISERROR(SEARCH(\"0??\",C33)) =TRUE,ISERROR(SEARCH(\"1??\",C33)) =TRUE),\"0\",IF(AND(Fuhrparkliste!V42=\"Ja\",X33=\"1\",VLOOKUP(Werte!Q33,SFMATRIXKEY,3,FALSE)=\"Ja\"),\"1\",\"0\"))))","v":""},{"$f":"IF(C33=\"\",\"\",IF(AND(Fuhrparkliste!AA42=\"Ja\",C33=\"112\"),\"1\",\"0\"))","v":""},{"$f":"IF(Fuhrparkliste!AB42=\"\",\"\",VLOOKUP(Fuhrparkliste!AB42,MatrixVorVU,2,FALSE))","v":""},{"$f":"IF(Fuhrparkliste!AC42=\"\",\"\",Fuhrparkliste!AC42)","v":""},{"$f":"IF(C33=\"\",\"\",IF(Fuhrparkliste!O42=\"\",\"00\",VLOOKUP(Fuhrparkliste!O42,GEFAHRGUTMATRIXKEY,2,FALSE)))","v":""},"",{"$f":"IF(C33=\"\",\"\",IF(Werte!P33=\"\",\"F1\",VLOOKUP(Fuhrparkliste!P42,SFKOMPLETT,2,FALSE)))","v":""},{"$f":"IF(C33=\"\",\"\",IF(Fuhrparkliste!S42=\"\",\"00\",VLOOKUP(Fuhrparkliste!S42,KASKOMATRIXKEY,2,FALSE)))","v":""},{"$f":"IF(C33=\"\",\"\",IF(Werte!Q33=\"\",\"F1\",VLOOKUP(Fuhrparkliste!Q42,SFKOMPLETT,2,FALSE)))","v":""},{"$f":"IF(C33=\"\",\"\",Fuhrparkliste!R42)","v":""},{"$f":"SUBSTITUTE(Fuhrparkliste!E42,\" \",\"\")","v":""}]
["",{"$f":"IF(Fuhrparkliste!B43=\"\",\"\",IF(Fuhrparkliste!B43=\"112\",\"22\",\"26\"))","v":""},{"$f":"IF(Fuhrparkliste!B43=\"\",\"\",TRIM(IF(LEN(Fuhrparkliste!B43)=1,CONCATENATE(\"00\",Fuhrparkliste!B43),IF(LEN(Fuhrparkliste!B43)=2,CONCATENATE(\"0\",Fuhrparkliste!B43),CONCATENATE(Fuhrparkliste!B43,\" \")))))","v":""},"","",{"$f":"RIGHT(AI34,COUNT(RIGHT(AI34,COLUMN(33:33))*1))","v":""},{"$f":"IF(Fuhrparkliste!I43=\"\",\"\",Fuhrparkliste!I43)","v":""},{"$f":"IF(Fuhrparkliste!F43=\"\",\"\",IF(LEN(Fuhrparkliste!F43)=1,CONCATENATE(\"000\",Fuhrparkliste!F43),IF(LEN(Fuhrparkliste!F43)=2,CONCATENATE(\"00\",Fuhrparkliste!F43),IF(LEN(Fuhrparkliste!F43)=3,CONCATENATE(\"0\",Fuhrparkliste!F43),LEFT(Fuhrparkliste!F43,4)))))","v":""},{"$f":"IF(Fuhrparkliste!G43=\"\",\"\",IF(LEN(Fuhrparkliste!G43)=1,CONCATENATE(\"00\",Fuhrparkliste!G43),IF(LEN(Fuhrparkliste!G43)=2,CONCATENATE(\"0\",Fuhrparkliste!G43),LEFT(Fuhrparkliste!G43,3))))","v":""},{"$f":"IF(C34=\"\",\"\",IF(OR(C34=\"581\",C34=\"541\",C34=\"542\",C34=\"591\",C34=\"714\",C34=\"719\"),\"\",IF(Fuhrparkliste!C43=\"\",\"0\",Fuhrparkliste!C43)))","v":""},{"$f":"IF(C34=\"\",\"\",IF(Fuhrparkliste!Z43=\"\",\"0\",VLOOKUP(Fuhrparkliste!Z43,ELEKTROMATRIXKEY,2,FALSE)))","v":""},{"$f":"IF(Fuhrparkliste!D43=\"\",\"\",Fuhrparkliste!D43)","v":""},{"$f":"IF(Fuhrparkliste!N43=\"\",\"\",VLOOKUP(Fuhrparkliste!N43,AUFBAUMATRIXKEY,2,FALSE))","v":""},{"$f":"IF(Fuhrparkliste!T43=\"\",\"\",Fuhrparkliste!T43)","v":""},{"$f":"IF(C34=\"\",\"\",IF(AND(Fuhrparkliste!M43=\"Ja\",C34=\"112\"),\"1\",\"0\"))","v":""},{"$f":"IF(Fuhrparkliste!H43=\"\",\"\",Fuhrparkliste!H43)","v":""},{"$f":"IF(Fuhrparkliste!J43=\"\",\"\",Fuhrparkliste!J43)","v":""},{"$f":"IF(C34<>\"112\",\"\",IF(Fuhrparkliste!K43=\"Ja\",\"1\",\"0\"))","v":""},{"$f":"IF(OR(Fuhrparkliste!L43=\"\",C34<>\"127\"),\"\",VLOOKUP(Fuhrparkliste!L43,Bedachungsart,2,FALSE))","v":""},{"$f":"IF(C34=\"\",\"\",IF(AND(Fuhrparkliste!X43=\"Ja\",C34=\"112\"),\"1\",\"0\"))","v":""},{"$f":"IF(C34=\"\",\"\",IF(AND(Fuhrparkliste!Y43=\"Ja\",OR(C34=\"112\",C34=\"251\")),\"1\",\"0\"))","v":""},"",{"$f":"IF(C34=\"\",\"\",IF(AND(Fuhrparkliste!W43=\"Ja\",C34=\"112\"),\"1\",\"0\"))","v":""},{"$f":"IF(C34=\"\",\"\",IF(AND(ISERROR(SEARCH(\"0??\",tblRisiken!C34)) =TRUE,ISERROR(SEARCH(\"1??\",tblRisiken!C34)) =TRUE),\"0\",IF(AND(Fuhrparkliste!U43=\"Ja\",VLOOKUP(Werte!P34,SFMATRIXKEY,3,FALSE)=\"Ja\"),\"1\",\"0\")))","v":""},{"$f":"IF(C34=\"\",\"\",IF(OR(AF34=\"00\",LEFT(AF34,1)=\"7\"),\"0\",IF(AND(ISERROR(SEARCH(\"0??\",C34)) =TRUE,ISERROR(SEARCH(\"1??\",C34)) =TRUE),\"0\",IF(AND(Fuhrparkliste!V43=\"Ja\",X34=\"1\",VLOOKUP(Werte!Q34,SFMATRIXKEY,3,FALSE)=\"Ja\"),\"1\",\"0\"))))","v":""},{"$f":"IF(C34=\"\",\"\",IF(AND(Fuhrparkliste!AA43=\"Ja\",C34=\"112\"),\"1\",\"0\"))","v":""},{"$f":"IF(Fuhrparkliste!AB43=\"\",\"\",VLOOKUP(Fuhrparkliste!AB43,MatrixVorVU,2,FALSE))","v":""},{"$f":"IF(Fuhrparkliste!AC43=\"\",\"\",Fuhrparkliste!AC43)","v":""},{"$f":"IF(C34=\"\",\"\",IF(Fuhrparkliste!O43=\"\",\"00\",VLOOKUP(Fuhrparkliste!O43,GEFAHRGUTMATRIXKEY,2,FALSE)))","v":""},"",{"$f":"IF(C34=\"\",\"\",IF(Werte!P34=\"\",\"F1\",VLOOKUP(Fuhrparkliste!P43,SFKOMPLETT,2,FALSE)))","v":""},{"$f":"IF(C34=\"\",\"\",IF(Fuhrparkliste!S43=\"\",\"00\",VLOOKUP(Fuhrparkliste!S43,KASKOMATRIXKEY,2,FALSE)))","v":""},{"$f":"IF(C34=\"\",\"\",IF(Werte!Q34=\"\",\"F1\",VLOOKUP(Fuhrparkliste!Q43,SFKOMPLETT,2,FALSE)))","v":""},{"$f":"IF(C34=\"\",\"\",Fuhrparkliste!R43)","v":""},{"$f":"SUBSTITUTE(Fuhrparkliste!E43,\" \",\"\")","v":""}]
["",{"$f":"IF(Fuhrparkliste!B44=\"\",\"\",IF(Fuhrparkliste!B44=\"112\",\"22\",\"26\"))","v":""},{"$f":"IF(Fuhrparkliste!B44=\"\",\"\",TRIM(IF(LEN(Fuhrparkliste!B44)=1,CONCATENATE(\"00\",Fuhrparkliste!B44),IF(LEN(Fuhrparkliste!B44)=2,CONCATENATE(\"0\",Fuhrparkliste!B44),CONCATENATE(Fuhrparkliste!B44,\" \")))))","v":""},"","",{"$f":"RIGHT(AI35,COUNT(RIGHT(AI35,COLUMN(34:34))*1))","v":""},{"$f":"IF(Fuhrparkliste!I44=\"\",\"\",Fuhrparkliste!I44)","v":""},{"$f":"IF(Fuhrparkliste!F44=\"\",\"\",IF(LEN(Fuhrparkliste!F44)=1,CONCATENATE(\"000\",Fuhrparkliste!F44),IF(LEN(Fuhrparkliste!F44)=2,CONCATENATE(\"00\",Fuhrparkliste!F44),IF(LEN(Fuhrparkliste!F44)=3,CONCATENATE(\"0\",Fuhrparkliste!F44),LEFT(Fuhrparkliste!F44,4)))))","v":""},{"$f":"IF(Fuhrparkliste!G44=\"\",\"\",IF(LEN(Fuhrparkliste!G44)=1,CONCATENATE(\"00\",Fuhrparkliste!G44),IF(LEN(Fuhrparkliste!G44)=2,CONCATENATE(\"0\",Fuhrparkliste!G44),LEFT(Fuhrparkliste!G44,3))))","v":""},{"$f":"IF(C35=\"\",\"\",IF(OR(C35=\"581\",C35=\"541\",C35=\"542\",C35=\"591\",C35=\"714\",C35=\"719\"),\"\",IF(Fuhrparkliste!C44=\"\",\"0\",Fuhrparkliste!C44)))","v":""},{"$f":"IF(C35=\"\",\"\",IF(Fuhrparkliste!Z44=\"\",\"0\",VLOOKUP(Fuhrparkliste!Z44,ELEKTROMATRIXKEY,2,FALSE)))","v":""},{"$f":"IF(Fuhrparkliste!D44=\"\",\"\",Fuhrparkliste!D44)","v":""},{"$f":"IF(Fuhrparkliste!N44=\"\",\"\",VLOOKUP(Fuhrparkliste!N44,AUFBAUMATRIXKEY,2,FALSE))","v":""},{"$f":"IF(Fuhrparkliste!T44=\"\",\"\",Fuhrparkliste!T44)","v":""},{"$f":"IF(C35=\"\",\"\",IF(AND(Fuhrparkliste!M44=\"Ja\",C35=\"112\"),\"1\",\"0\"))","v":""},{"$f":"IF(Fuhrparkliste!H44=\"\",\"\",Fuhrparkliste!H44)","v":""},{"$f":"IF(Fuhrparkliste!J44=\"\",\"\",Fuhrparkliste!J44)","v":""},{"$f":"IF(C35<>\"112\",\"\",IF(Fuhrparkliste!K44=\"Ja\",\"1\",\"0\"))","v":""},{"$f":"IF(OR(Fuhrparkliste!L44=\"\",C35<>\"127\"),\"\",VLOOKUP(Fuhrparkliste!L44,Bedachungsart,2,FALSE))","v":""},{"$f":"IF(C35=\"\",\"\",IF(AND(Fuhrparkliste!X44=\"Ja\",C35=\"112\"),\"1\",\"0\"))","v":""},{"$f":"IF(C35=\"\",\"\",IF(AND(Fuhrparkliste!Y44=\"Ja\",OR(C35=\"112\",C35=\"251\")),\"1\",\"0\"))","v":""},"",{"$f":"IF(C35=\"\",\"\",IF(AND(Fuhrparkliste!W44=\"Ja\",C35=\"112\"),\"1\",\"0\"))","v":""},{"$f":"IF(C35=\"\",\"\",IF(AND(ISERROR(SEARCH(\"0??\",tblRisiken!C35)) =TRUE,ISERROR(SEARCH(\"1??\",tblRisiken!C35)) =TRUE),\"0\",IF(AND(Fuhrparkliste!U44=\"Ja\",VLOOKUP(Werte!P35,SFMATRIXKEY,3,FALSE)=\"Ja\"),\"1\",\"0\")))","v":""},{"$f":"IF(C35=\"\",\"\",IF(OR(AF35=\"00\",LEFT(AF35,1)=\"7\"),\"0\",IF(AND(ISERROR(SEARCH(\"0??\",C35)) =TRUE,ISERROR(SEARCH(\"1??\",C35)) =TRUE),\"0\",IF(AND(Fuhrparkliste!V44=\"Ja\",X35=\"1\",VLOOKUP(Werte!Q35,SFMATRIXKEY,3,FALSE)=\"Ja\"),\"1\",\"0\"))))","v":""},{"$f":"IF(C35=\"\",\"\",IF(AND(Fuhrparkliste!AA44=\"Ja\",C35=\"112\"),\"1\",\"0\"))","v":""},{"$f":"IF(Fuhrparkliste!AB44=\"\",\"\",VLOOKUP(Fuhrparkliste!AB44,MatrixVorVU,2,FALSE))","v":""},{"$f":"IF(Fuhrparkliste!AC44=\"\",\"\",Fuhrparkliste!AC44)","v":""},{"$f":"IF(C35=\"\",\"\",IF(Fuhrparkliste!O44=\"\",\"00\",VLOOKUP(Fuhrparkliste!O44,GEFAHRGUTMATRIXKEY,2,FALSE)))","v":""},"",{"$f":"IF(C35=\"\",\"\",IF(Werte!P35=\"\",\"F1\",VLOOKUP(Fuhrparkliste!P44,SFKOMPLETT,2,FALSE)))","v":""},{"$f":"IF(C35=\"\",\"\",IF(Fuhrparkliste!S44=\"\",\"00\",VLOOKUP(Fuhrparkliste!S44,KASKOMATRIXKEY,2,FALSE)))","v":""},{"$f":"IF(C35=\"\",\"\",IF(Werte!Q35=\"\",\"F1\",VLOOKUP(Fuhrparkliste!Q44,SFKOMPLETT,2,FALSE)))","v":""},{"$f":"IF(C35=\"\",\"\",Fuhrparkliste!R44)","v":""},{"$f":"SUBSTITUTE(Fuhrparkliste!E44,\" \",\"\")","v":""}]
["",{"$f":"IF(Fuhrparkliste!B45=\"\",\"\",IF(Fuhrparkliste!B45=\"112\",\"22\",\"26\"))","v":""},{"$f":"IF(Fuhrparkliste!B45=\"\",\"\",TRIM(IF(LEN(Fuhrparkliste!B45)=1,CONCATENATE(\"00\",Fuhrparkliste!B45),IF(LEN(Fuhrparkliste!B45)=2,CONCATENATE(\"0\",Fuhrparkliste!B45),CONCATENATE(Fuhrparkliste!B45,\" \")))))","v":""},"","",{"$f":"RIGHT(AI36,COUNT(RIGHT(AI36,COLUMN(35:35))*1))","v":""},{"$f":"IF(Fuhrparkliste!I45=\"\",\"\",Fuhrparkliste!I45)","v":""},{"$f":"IF(Fuhrparkliste!F45=\"\",\"\",IF(LEN(Fuhrparkliste!F45)=1,CONCATENATE(\"000\",Fuhrparkliste!F45),IF(LEN(Fuhrparkliste!F45)=2,CONCATENATE(\"00\",Fuhrparkliste!F45),IF(LEN(Fuhrparkliste!F45)=3,CONCATENATE(\"0\",Fuhrparkliste!F45),LEFT(Fuhrparkliste!F45,4)))))","v":""},{"$f":"IF(Fuhrparkliste!G45=\"\",\"\",IF(LEN(Fuhrparkliste!G45)=1,CONCATENATE(\"00\",Fuhrparkliste!G45),IF(LEN(Fuhrparkliste!G45)=2,CONCATENATE(\"0\",Fuhrparkliste!G45),LEFT(Fuhrparkliste!G45,3))))","v":""},{"$f":"IF(C36=\"\",\"\",IF(OR(C36=\"581\",C36=\"541\",C36=\"542\",C36=\"591\",C36=\"714\",C36=\"719\"),\"\",IF(Fuhrparkliste!C45=\"\",\"0\",Fuhrparkliste!C45)))","v":""},{"$f":"IF(C36=\"\",\"\",IF(Fuhrparkliste!Z45=\"\",\"0\",VLOOKUP(Fuhrparkliste!Z45,ELEKTROMATRIXKEY,2,FALSE)))","v":""},{"$f":"IF(Fuhrparkliste!D45=\"\",\"\",Fuhrparkliste!D45)","v":""},{"$f":"IF(Fuhrparkliste!N45=\"\",\"\",VLOOKUP(Fuhrparkliste!N45,AUFBAUMATRIXKEY,2,FALSE))","v":""},{"$f":"IF(Fuhrparkliste!T45=\"\",\"\",Fuhrparkliste!T45)","v":""},{"$f":"IF(C36=\"\",\"\",IF(AND(Fuhrparkliste!M45=\"Ja\",C36=\"112\"),\"1\",\"0\"))","v":""},{"$f":"IF(Fuhrparkliste!H45=\"\",\"\",Fuhrparkliste!H45)","v":""},{"$f":"IF(Fuhrparkliste!J45=\"\",\"\",Fuhrparkliste!J45)","v":""},{"$f":"IF(C36<>\"112\",\"\",IF(Fuhrparkliste!K45=\"Ja\",\"1\",\"0\"))","v":""},{"$f":"IF(OR(Fuhrparkliste!L45=\"\",C36<>\"127\"),\"\",VLOOKUP(Fuhrparkliste!L45,Bedachungsart,2,FALSE))","v":""},{"$f":"IF(C36=\"\",\"\",IF(AND(Fuhrparkliste!X45=\"Ja\",C36=\"112\"),\"1\",\"0\"))","v":""},{"$f":"IF(C36=\"\",\"\",IF(AND(Fuhrparkliste!Y45=\"Ja\",OR(C36=\"112\",C36=\"251\")),\"1\",\"0\"))","v":""},"",{"$f":"IF(C36=\"\",\"\",IF(AND(Fuhrparkliste!W45=\"Ja\",C36=\"112\"),\"1\",\"0\"))","v":""},{"$f":"IF(C36=\"\",\"\",IF(AND(ISERROR(SEARCH(\"0??\",tblRisiken!C36)) =TRUE,ISERROR(SEARCH(\"1??\",tblRisiken!C36)) =TRUE),\"0\",IF(AND(Fuhrparkliste!U45=\"Ja\",VLOOKUP(Werte!P36,SFMATRIXKEY,3,FALSE)=\"Ja\"),\"1\",\"0\")))","v":""},{"$f":"IF(C36=\"\",\"\",IF(OR(AF36=\"00\",LEFT(AF36,1)=\"7\"),\"0\",IF(AND(ISERROR(SEARCH(\"0??\",C36)) =TRUE,ISERROR(SEARCH(\"1??\",C36)) =TRUE),\"0\",IF(AND(Fuhrparkliste!V45=\"Ja\",X36=\"1\",VLOOKUP(Werte!Q36,SFMATRIXKEY,3,FALSE)=\"Ja\"),\"1\",\"0\"))))","v":""},{"$f":"IF(C36=\"\",\"\",IF(AND(Fuhrparkliste!AA45=\"Ja\",C36=\"112\"),\"1\",\"0\"))","v":""},{"$f":"IF(Fuhrparkliste!AB45=\"\",\"\",VLOOKUP(Fuhrparkliste!AB45,MatrixVorVU,2,FALSE))","v":""},{"$f":"IF(Fuhrparkliste!AC45=\"\",\"\",Fuhrparkliste!AC45)","v":""},{"$f":"IF(C36=\"\",\"\",IF(Fuhrparkliste!O45=\"\",\"00\",VLOOKUP(Fuhrparkliste!O45,GEFAHRGUTMATRIXKEY,2,FALSE)))","v":""},"",{"$f":"IF(C36=\"\",\"\",IF(Werte!P36=\"\",\"F1\",VLOOKUP(Fuhrparkliste!P45,SFKOMPLETT,2,FALSE)))","v":""},{"$f":"IF(C36=\"\",\"\",IF(Fuhrparkliste!S45=\"\",\"00\",VLOOKUP(Fuhrparkliste!S45,KASKOMATRIXKEY,2,FALSE)))","v":""},{"$f":"IF(C36=\"\",\"\",IF(Werte!Q36=\"\",\"F1\",VLOOKUP(Fuhrparkliste!Q45,SFKOMPLETT,2,FALSE)))","v":""},{"$f":"IF(C36=\"\",\"\",Fuhrparkliste!R45)","v":""},{"$f":"SUBSTITUTE(Fuhrparkliste!E45,\" \",\"\")","v":""}]
["",{"$f":"IF(Fuhrparkliste!B46=\"\",\"\",IF(Fuhrparkliste!B46=\"112\",\"22\",\"26\"))","v":""},{"$f":"IF(Fuhrparkliste!B46=\"\",\"\",TRIM(IF(LEN(Fuhrparkliste!B46)=1,CONCATENATE(\"00\",Fuhrparkliste!B46),IF(LEN(Fuhrparkliste!B46)=2,CONCATENATE(\"0\",Fuhrparkliste!B46),CONCATENATE(Fuhrparkliste!B46,\" \")))))","v":""},"","",{"$f":"RIGHT(AI37,COUNT(RIGHT(AI37,COLUMN(36:36))*1))","v":""},{"$f":"IF(Fuhrparkliste!I46=\"\",\"\",Fuhrparkliste!I46)","v":""},{"$f":"IF(Fuhrparkliste!F46=\"\",\"\",IF(LEN(Fuhrparkliste!F46)=1,CONCATENATE(\"000\",Fuhrparkliste!F46),IF(LEN(Fuhrparkliste!F46)=2,CONCATENATE(\"00\",Fuhrparkliste!F46),IF(LEN(Fuhrparkliste!F46)=3,CONCATENATE(\"0\",Fuhrparkliste!F46),LEFT(Fuhrparkliste!F46,4)))))","v":""},{"$f":"IF(Fuhrparkliste!G46=\"\",\"\",IF(LEN(Fuhrparkliste!G46)=1,CONCATENATE(\"00\",Fuhrparkliste!G46),IF(LEN(Fuhrparkliste!G46)=2,CONCATENATE(\"0\",Fuhrparkliste!G46),LEFT(Fuhrparkliste!G46,3))))","v":""},{"$f":"IF(C37=\"\",\"\",IF(OR(C37=\"581\",C37=\"541\",C37=\"542\",C37=\"591\",C37=\"714\",C37=\"719\"),\"\",IF(Fuhrparkliste!C46=\"\",\"0\",Fuhrparkliste!C46)))","v":""},{"$f":"IF(C37=\"\",\"\",IF(Fuhrparkliste!Z46=\"\",\"0\",VLOOKUP(Fuhrparkliste!Z46,ELEKTROMATRIXKEY,2,FALSE)))","v":""},{"$f":"IF(Fuhrparkliste!D46=\"\",\"\",Fuhrparkliste!D46)","v":""},{"$f":"IF(Fuhrparkliste!N46=\"\",\"\",VLOOKUP(Fuhrparkliste!N46,AUFBAUMATRIXKEY,2,FALSE))","v":""},{"$f":"IF(Fuhrparkliste!T46=\"\",\"\",Fuhrparkliste!T46)","v":""},{"$f":"IF(C37=\"\",\"\",IF(AND(Fuhrparkliste!M46=\"Ja\",C37=\"112\"),\"1\",\"0\"))","v":""},{"$f":"IF(Fuhrparkliste!H46=\"\",\"\",Fuhrparkliste!H46)","v":""},{"$f":"IF(Fuhrparkliste!J46=\"\",\"\",Fuhrparkliste!J46)","v":""},{"$f":"IF(C37<>\"112\",\"\",IF(Fuhrparkliste!K46=\"Ja\",\"1\",\"0\"))","v":""},{"$f":"IF(OR(Fuhrparkliste!L46=\"\",C37<>\"127\"),\"\",VLOOKUP(Fuhrparkliste!L46,Bedachungsart,2,FALSE))","v":""},{"$f":"IF(C37=\"\",\"\",IF(AND(Fuhrparkliste!X46=\"Ja\",C37=\"112\"),\"1\",\"0\"))","v":""},{"$f":"IF(C37=\"\",\"\",IF(AND(Fuhrparkliste!Y46=\"Ja\",OR(C37=\"112\",C37=\"251\")),\"1\",\"0\"))","v":""},"",{"$f":"IF(C37=\"\",\"\",IF(AND(Fuhrparkliste!W46=\"Ja\",C37=\"112\"),\"1\",\"0\"))","v":""},{"$f":"IF(C37=\"\",\"\",IF(AND(ISERROR(SEARCH(\"0??\",tblRisiken!C37)) =TRUE,ISERROR(SEARCH(\"1??\",tblRisiken!C37)) =TRUE),\"0\",IF(AND(Fuhrparkliste!U46=\"Ja\",VLOOKUP(Werte!P37,SFMATRIXKEY,3,FALSE)=\"Ja\"),\"1\",\"0\")))","v":""},{"$f":"IF(C37=\"\",\"\",IF(OR(AF37=\"00\",LEFT(AF37,1)=\"7\"),\"0\",IF(AND(ISERROR(SEARCH(\"0??\",C37)) =TRUE,ISERROR(SEARCH(\"1??\",C37)) =TRUE),\"0\",IF(AND(Fuhrparkliste!V46=\"Ja\",X37=\"1\",VLOOKUP(Werte!Q37,SFMATRIXKEY,3,FALSE)=\"Ja\"),\"1\",\"0\"))))","v":""},{"$f":"IF(C37=\"\",\"\",IF(AND(Fuhrparkliste!AA46=\"Ja\",C37=\"112\"),\"1\",\"0\"))","v":""},{"$f":"IF(Fuhrparkliste!AB46=\"\",\"\",VLOOKUP(Fuhrparkliste!AB46,MatrixVorVU,2,FALSE))","v":""},{"$f":"IF(Fuhrparkliste!AC46=\"\",\"\",Fuhrparkliste!AC46)","v":""},{"$f":"IF(C37=\"\",\"\",IF(Fuhrparkliste!O46=\"\",\"00\",VLOOKUP(Fuhrparkliste!O46,GEFAHRGUTMATRIXKEY,2,FALSE)))","v":""},"",{"$f":"IF(C37=\"\",\"\",IF(Werte!P37=\"\",\"F1\",VLOOKUP(Fuhrparkliste!P46,SFKOMPLETT,2,FALSE)))","v":""},{"$f":"IF(C37=\"\",\"\",IF(Fuhrparkliste!S46=\"\",\"00\",VLOOKUP(Fuhrparkliste!S46,KASKOMATRIXKEY,2,FALSE)))","v":""},{"$f":"IF(C37=\"\",\"\",IF(Werte!Q37=\"\",\"F1\",VLOOKUP(Fuhrparkliste!Q46,SFKOMPLETT,2,FALSE)))","v":""},{"$f":"IF(C37=\"\",\"\",Fuhrparkliste!R46)","v":""},{"$f":"SUBSTITUTE(Fuhrparkliste!E46,\" \",\"\")","v":""}]
["",{"$f":"IF(Fuhrparkliste!B47=\"\",\"\",IF(Fuhrparkliste!B47=\"112\",\"22\",\"26\"))","v":""},{"$f":"IF(Fuhrparkliste!B47=\"\",\"\",TRIM(IF(LEN(Fuhrparkliste!B47)=1,CONCATENATE(\"00\",Fuhrparkliste!B47),IF(LEN(Fuhrparkliste!B47)=2,CONCATENATE(\"0\",Fuhrparkliste!B47),CONCATENATE(Fuhrparkliste!B47,\" \")))))","v":""},"","",{"$f":"RIGHT(AI38,COUNT(RIGHT(AI38,COLUMN(37:37))*1))","v":""},{"$f":"IF(Fuhrparkliste!I47=\"\",\"\",Fuhrparkliste!I47)","v":""},{"$f":"IF(Fuhrparkliste!F47=\"\",\"\",IF(LEN(Fuhrparkliste!F47)=1,CONCATENATE(\"000\",Fuhrparkliste!F47),IF(LEN(Fuhrparkliste!F47)=2,CONCATENATE(\"00\",Fuhrparkliste!F47),IF(LEN(Fuhrparkliste!F47)=3,CONCATENATE(\"0\",Fuhrparkliste!F47),LEFT(Fuhrparkliste!F47,4)))))","v":""},{"$f":"IF(Fuhrparkliste!G47=\"\",\"\",IF(LEN(Fuhrparkliste!G47)=1,CONCATENATE(\"00\",Fuhrparkliste!G47),IF(LEN(Fuhrparkliste!G47)=2,CONCATENATE(\"0\",Fuhrparkliste!G47),LEFT(Fuhrparkliste!G47,3))))","v":""},{"$f":"IF(C38=\"\",\"\",IF(OR(C38=\"581\",C38=\"541\",C38=\"542\",C38=\"591\",C38=\"714\",C38=\"719\"),\"\",IF(Fuhrparkliste!C47=\"\",\"0\",Fuhrparkliste!C47)))","v":""},{"$f":"IF(C38=\"\",\"\",IF(Fuhrparkliste!Z47=\"\",\"0\",VLOOKUP(Fuhrparkliste!Z47,ELEKTROMATRIXKEY,2,FALSE)))","v":""},{"$f":"IF(Fuhrparkliste!D47=\"\",\"\",Fuhrparkliste!D47)","v":""},{"$f":"IF(Fuhrparkliste!N47=\"\",\"\",VLOOKUP(Fuhrparkliste!N47,AUFBAUMATRIXKEY,2,FALSE))","v":""},{"$f":"IF(Fuhrparkliste!T47=\"\",\"\",Fuhrparkliste!T47)","v":""},{"$f":"IF(C38=\"\",\"\",IF(AND(Fuhrparkliste!M47=\"Ja\",C38=\"112\"),\"1\",\"0\"))","v":""},{"$f":"IF(Fuhrparkliste!H47=\"\",\"\",Fuhrparkliste!H47)","v":""},{"$f":"IF(Fuhrparkliste!J47=\"\",\"\",Fuhrparkliste!J47)","v":""},{"$f":"IF(C38<>\"112\",\"\",IF(Fuhrparkliste!K47=\"Ja\",\"1\",\"0\"))","v":""},{"$f":"IF(OR(Fuhrparkliste!L47=\"\",C38<>\"127\"),\"\",VLOOKUP(Fuhrparkliste!L47,Bedachungsart,2,FALSE))","v":""},{"$f":"IF(C38=\"\",\"\",IF(AND(Fuhrparkliste!X47=\"Ja\",C38=\"112\"),\"1\",\"0\"))","v":""},{"$f":"IF(C38=\"\",\"\",IF(AND(Fuhrparkliste!Y47=\"Ja\",OR(C38=\"112\",C38=\"251\")),\"1\",\"0\"))","v":""},"",{"$f":"IF(C38=\"\",\"\",IF(AND(Fuhrparkliste!W47=\"Ja\",C38=\"112\"),\"1\",\"0\"))","v":""},{"$f":"IF(C38=\"\",\"\",IF(AND(ISERROR(SEARCH(\"0??\",tblRisiken!C38)) =TRUE,ISERROR(SEARCH(\"1??\",tblRisiken!C38)) =TRUE),\"0\",IF(AND(Fuhrparkliste!U47=\"Ja\",VLOOKUP(Werte!P38,SFMATRIXKEY,3,FALSE)=\"Ja\"),\"1\",\"0\")))","v":""},{"$f":"IF(C38=\"\",\"\",IF(OR(AF38=\"00\",LEFT(AF38,1)=\"7\"),\"0\",IF(AND(ISERROR(SEARCH(\"0??\",C38)) =TRUE,ISERROR(SEARCH(\"1??\",C38)) =TRUE),\"0\",IF(AND(Fuhrparkliste!V47=\"Ja\",X38=\"1\",VLOOKUP(Werte!Q38,SFMATRIXKEY,3,FALSE)=\"Ja\"),\"1\",\"0\"))))","v":""},{"$f":"IF(C38=\"\",\"\",IF(AND(Fuhrparkliste!AA47=\"Ja\",C38=\"112\"),\"1\",\"0\"))","v":""},{"$f":"IF(Fuhrparkliste!AB47=\"\",\"\",VLOOKUP(Fuhrparkliste!AB47,MatrixVorVU,2,FALSE))","v":""},{"$f":"IF(Fuhrparkliste!AC47=\"\",\"\",Fuhrparkliste!AC47)","v":""},{"$f":"IF(C38=\"\",\"\",IF(Fuhrparkliste!O47=\"\",\"00\",VLOOKUP(Fuhrparkliste!O47,GEFAHRGUTMATRIXKEY,2,FALSE)))","v":""},"",{"$f":"IF(C38=\"\",\"\",IF(Werte!P38=\"\",\"F1\",VLOOKUP(Fuhrparkliste!P47,SFKOMPLETT,2,FALSE)))","v":""},{"$f":"IF(C38=\"\",\"\",IF(Fuhrparkliste!S47=\"\",\"00\",VLOOKUP(Fuhrparkliste!S47,KASKOMATRIXKEY,2,FALSE)))","v":""},{"$f":"IF(C38=\"\",\"\",IF(Werte!Q38=\"\",\"F1\",VLOOKUP(Fuhrparkliste!Q47,SFKOMPLETT,2,FALSE)))","v":""},{"$f":"IF(C38=\"\",\"\",Fuhrparkliste!R47)","v":""},{"$f":"SUBSTITUTE(Fuhrparkliste!E47,\" \",\"\")","v":""}]
["",{"$f":"IF(Fuhrparkliste!B48=\"\",\"\",IF(Fuhrparkliste!B48=\"112\",\"22\",\"26\"))","v":""},{"$f":"IF(Fuhrparkliste!B48=\"\",\"\",TRIM(IF(LEN(Fuhrparkliste!B48)=1,CONCATENATE(\"00\",Fuhrparkliste!B48),IF(LEN(Fuhrparkliste!B48)=2,CONCATENATE(\"0\",Fuhrparkliste!B48),CONCATENATE(Fuhrparkliste!B48,\" \")))))","v":""},"","",{"$f":"RIGHT(AI39,COUNT(RIGHT(AI39,COLUMN(38:38))*1))","v":""},{"$f":"IF(Fuhrparkliste!I48=\"\",\"\",Fuhrparkliste!I48)","v":""},{"$f":"IF(Fuhrparkliste!F48=\"\",\"\",IF(LEN(Fuhrparkliste!F48)=1,CONCATENATE(\"000\",Fuhrparkliste!F48),IF(LEN(Fuhrparkliste!F48)=2,CONCATENATE(\"00\",Fuhrparkliste!F48),IF(LEN(Fuhrparkliste!F48)=3,CONCATENATE(\"0\",Fuhrparkliste!F48),LEFT(Fuhrparkliste!F48,4)))))","v":""},{"$f":"IF(Fuhrparkliste!G48=\"\",\"\",IF(LEN(Fuhrparkliste!G48)=1,CONCATENATE(\"00\",Fuhrparkliste!G48),IF(LEN(Fuhrparkliste!G48)=2,CONCATENATE(\"0\",Fuhrparkliste!G48),LEFT(Fuhrparkliste!G48,3))))","v":""},{"$f":"IF(C39=\"\",\"\",IF(OR(C39=\"581\",C39=\"541\",C39=\"542\",C39=\"591\",C39=\"714\",C39=\"719\"),\"\",IF(Fuhrparkliste!C48=\"\",\"0\",Fuhrparkliste!C48)))","v":""},{"$f":"IF(C39=\"\",\"\",IF(Fuhrparkliste!Z48=\"\",\"0\",VLOOKUP(Fuhrparkliste!Z48,ELEKTROMATRIXKEY,2,FALSE)))","v":""},{"$f":"IF(Fuhrparkliste!D48=\"\",\"\",Fuhrparkliste!D48)","v":""},{"$f":"IF(Fuhrparkliste!N48=\"\",\"\",VLOOKUP(Fuhrparkliste!N48,AUFBAUMATRIXKEY,2,FALSE))","v":""},{"$f":"IF(Fuhrparkliste!T48=\"\",\"\",Fuhrparkliste!T48)","v":""},{"$f":"IF(C39=\"\",\"\",IF(AND(Fuhrparkliste!M48=\"Ja\",C39=\"112\"),\"1\",\"0\"))","v":""},{"$f":"IF(Fuhrparkliste!H48=\"\",\"\",Fuhrparkliste!H48)","v":""},{"$f":"IF(Fuhrparkliste!J48=\"\",\"\",Fuhrparkliste!J48)","v":""},{"$f":"IF(C39<>\"112\",\"\",IF(Fuhrparkliste!K48=\"Ja\",\"1\",\"0\"))","v":""},{"$f":"IF(OR(Fuhrparkliste!L48=\"\",C39<>\"127\"),\"\",VLOOKUP(Fuhrparkliste!L48,Bedachungsart,2,FALSE))","v":""},{"$f":"IF(C39=\"\",\"\",IF(AND(Fuhrparkliste!X48=\"Ja\",C39=\"112\"),\"1\",\"0\"))","v":""},{"$f":"IF(C39=\"\",\"\",IF(AND(Fuhrparkliste!Y48=\"Ja\",OR(C39=\"112\",C39=\"251\")),\"1\",\"0\"))","v":""},"",{"$f":"IF(C39=\"\",\"\",IF(AND(Fuhrparkliste!W48=\"Ja\",C39=\"112\"),\"1\",\"0\"))","v":""},{"$f":"IF(C39=\"\",\"\",IF(AND(ISERROR(SEARCH(\"0??\",tblRisiken!C39)) =TRUE,ISERROR(SEARCH(\"1??\",tblRisiken!C39)) =TRUE),\"0\",IF(AND(Fuhrparkliste!U48=\"Ja\",VLOOKUP(Werte!P39,SFMATRIXKEY,3,FALSE)=\"Ja\"),\"1\",\"0\")))","v":""},{"$f":"IF(C39=\"\",\"\",IF(OR(AF39=\"00\",LEFT(AF39,1)=\"7\"),\"0\",IF(AND(ISERROR(SEARCH(\"0??\",C39)) =TRUE,ISERROR(SEARCH(\"1??\",C39)) =TRUE),\"0\",IF(AND(Fuhrparkliste!V48=\"Ja\",X39=\"1\",VLOOKUP(Werte!Q39,SFMATRIXKEY,3,FALSE)=\"Ja\"),\"1\",\"0\"))))","v":""},{"$f":"IF(C39=\"\",\"\",IF(AND(Fuhrparkliste!AA48=\"Ja\",C39=\"112\"),\"1\",\"0\"))","v":""},{"$f":"IF(Fuhrparkliste!AB48=\"\",\"\",VLOOKUP(Fuhrparkliste!AB48,MatrixVorVU,2,FALSE))","v":""},{"$f":"IF(Fuhrparkliste!AC48=\"\",\"\",Fuhrparkliste!AC48)","v":""},{"$f":"IF(C39=\"\",\"\",IF(Fuhrparkliste!O48=\"\",\"00\",VLOOKUP(Fuhrparkliste!O48,GEFAHRGUTMATRIXKEY,2,FALSE)))","v":""},"",{"$f":"IF(C39=\"\",\"\",IF(Werte!P39=\"\",\"F1\",VLOOKUP(Fuhrparkliste!P48,SFKOMPLETT,2,FALSE)))","v":""},{"$f":"IF(C39=\"\",\"\",IF(Fuhrparkliste!S48=\"\",\"00\",VLOOKUP(Fuhrparkliste!S48,KASKOMATRIXKEY,2,FALSE)))","v":""},{"$f":"IF(C39=\"\",\"\",IF(Werte!Q39=\"\",\"F1\",VLOOKUP(Fuhrparkliste!Q48,SFKOMPLETT,2,FALSE)))","v":""},{"$f":"IF(C39=\"\",\"\",Fuhrparkliste!R48)","v":""},{"$f":"SUBSTITUTE(Fuhrparkliste!E48,\" \",\"\")","v":""}]
["",{"$f":"IF(Fuhrparkliste!B49=\"\",\"\",IF(Fuhrparkliste!B49=\"112\",\"22\",\"26\"))","v":""},{"$f":"IF(Fuhrparkliste!B49=\"\",\"\",TRIM(IF(LEN(Fuhrparkliste!B49)=1,CONCATENATE(\"00\",Fuhrparkliste!B49),IF(LEN(Fuhrparkliste!B49)=2,CONCATENATE(\"0\",Fuhrparkliste!B49),CONCATENATE(Fuhrparkliste!B49,\" \")))))","v":""},"","",{"$f":"RIGHT(AI40,COUNT(RIGHT(AI40,COLUMN(39:39))*1))","v":""},{"$f":"IF(Fuhrparkliste!I49=\"\",\"\",Fuhrparkliste!I49)","v":""},{"$f":"IF(Fuhrparkliste!F49=\"\",\"\",IF(LEN(Fuhrparkliste!F49)=1,CONCATENATE(\"000\",Fuhrparkliste!F49),IF(LEN(Fuhrparkliste!F49)=2,CONCATENATE(\"00\",Fuhrparkliste!F49),IF(LEN(Fuhrparkliste!F49)=3,CONCATENATE(\"0\",Fuhrparkliste!F49),LEFT(Fuhrparkliste!F49,4)))))","v":""},{"$f":"IF(Fuhrparkliste!G49=\"\",\"\",IF(LEN(Fuhrparkliste!G49)=1,CONCATENATE(\"00\",Fuhrparkliste!G49),IF(LEN(Fuhrparkliste!G49)=2,CONCATENATE(\"0\",Fuhrparkliste!G49),LEFT(Fuhrparkliste!G49,3))))","v":""},{"$f":"IF(C40=\"\",\"\",IF(OR(C40=\"581\",C40=\"541\",C40=\"542\",C40=\"591\",C40=\"714\",C40=\"719\"),\"\",IF(Fuhrparkliste!C49=\"\",\"0\",Fuhrparkliste!C49)))","v":""},{"$f":"IF(C40=\"\",\"\",IF(Fuhrparkliste!Z49=\"\",\"0\",VLOOKUP(Fuhrparkliste!Z49,ELEKTROMATRIXKEY,2,FALSE)))","v":""},{"$f":"IF(Fuhrparkliste!D49=\"\",\"\",Fuhrparkliste!D49)","v":""},{"$f":"IF(Fuhrparkliste!N49=\"\",\"\",VLOOKUP(Fuhrparkliste!N49,AUFBAUMATRIXKEY,2,FALSE))","v":""},{"$f":"IF(Fuhrparkliste!T49=\"\",\"\",Fuhrparkliste!T49)","v":""},{"$f":"IF(C40=\"\",\"\",IF(AND(Fuhrparkliste!M49=\"Ja\",C40=\"112\"),\"1\",\"0\"))","v":""},{"$f":"IF(Fuhrparkliste!H49=\"\",\"\",Fuhrparkliste!H49)","v":""},{"$f":"IF(Fuhrparkliste!J49=\"\",\"\",Fuhrparkliste!J49)","v":""},{"$f":"IF(C40<>\"112\",\"\",IF(Fuhrparkliste!K49=\"Ja\",\"1\",\"0\"))","v":""},{"$f":"IF(OR(Fuhrparkliste!L49=\"\",C40<>\"127\"),\"\",VLOOKUP(Fuhrparkliste!L49,Bedachungsart,2,FALSE))","v":""},{"$f":"IF(C40=\"\",\"\",IF(AND(Fuhrparkliste!X49=\"Ja\",C40=\"112\"),\"1\",\"0\"))","v":""},{"$f":"IF(C40=\"\",\"\",IF(AND(Fuhrparkliste!Y49=\"Ja\",OR(C40=\"112\",C40=\"251\")),\"1\",\"0\"))","v":""},"",{"$f":"IF(C40=\"\",\"\",IF(AND(Fuhrparkliste!W49=\"Ja\",C40=\"112\"),\"1\",\"0\"))","v":""},{"$f":"IF(C40=\"\",\"\",IF(AND(ISERROR(SEARCH(\"0??\",tblRisiken!C40)) =TRUE,ISERROR(SEARCH(\"1??\",tblRisiken!C40)) =TRUE),\"0\",IF(AND(Fuhrparkliste!U49=\"Ja\",VLOOKUP(Werte!P40,SFMATRIXKEY,3,FALSE)=\"Ja\"),\"1\",\"0\")))","v":""},{"$f":"IF(C40=\"\",\"\",IF(OR(AF40=\"00\",LEFT(AF40,1)=\"7\"),\"0\",IF(AND(ISERROR(SEARCH(\"0??\",C40)) =TRUE,ISERROR(SEARCH(\"1??\",C40)) =TRUE),\"0\",IF(AND(Fuhrparkliste!V49=\"Ja\",X40=\"1\",VLOOKUP(Werte!Q40,SFMATRIXKEY,3,FALSE)=\"Ja\"),\"1\",\"0\"))))","v":""},{"$f":"IF(C40=\"\",\"\",IF(AND(Fuhrparkliste!AA49=\"Ja\",C40=\"112\"),\"1\",\"0\"))","v":""},{"$f":"IF(Fuhrparkliste!AB49=\"\",\"\",VLOOKUP(Fuhrparkliste!AB49,MatrixVorVU,2,FALSE))","v":""},{"$f":"IF(Fuhrparkliste!AC49=\"\",\"\",Fuhrparkliste!AC49)","v":""},{"$f":"IF(C40=\"\",\"\",IF(Fuhrparkliste!O49=\"\",\"00\",VLOOKUP(Fuhrparkliste!O49,GEFAHRGUTMATRIXKEY,2,FALSE)))","v":""},"",{"$f":"IF(C40=\"\",\"\",IF(Werte!P40=\"\",\"F1\",VLOOKUP(Fuhrparkliste!P49,SFKOMPLETT,2,FALSE)))","v":""},{"$f":"IF(C40=\"\",\"\",IF(Fuhrparkliste!S49=\"\",\"00\",VLOOKUP(Fuhrparkliste!S49,KASKOMATRIXKEY,2,FALSE)))","v":""},{"$f":"IF(C40=\"\",\"\",IF(Werte!Q40=\"\",\"F1\",VLOOKUP(Fuhrparkliste!Q49,SFKOMPLETT,2,FALSE)))","v":""},{"$f":"IF(C40=\"\",\"\",Fuhrparkliste!R49)","v":""},{"$f":"SUBSTITUTE(Fuhrparkliste!E49,\" \",\"\")","v":""}]
["",{"$f":"IF(Fuhrparkliste!B50=\"\",\"\",IF(Fuhrparkliste!B50=\"112\",\"22\",\"26\"))","v":""},{"$f":"IF(Fuhrparkliste!B50=\"\",\"\",TRIM(IF(LEN(Fuhrparkliste!B50)=1,CONCATENATE(\"00\",Fuhrparkliste!B50),IF(LEN(Fuhrparkliste!B50)=2,CONCATENATE(\"0\",Fuhrparkliste!B50),CONCATENATE(Fuhrparkliste!B50,\" \")))))","v":""},"","",{"$f":"RIGHT(AI41,COUNT(RIGHT(AI41,COLUMN(40:40))*1))","v":""},{"$f":"IF(Fuhrparkliste!I50=\"\",\"\",Fuhrparkliste!I50)","v":""},{"$f":"IF(Fuhrparkliste!F50=\"\",\"\",IF(LEN(Fuhrparkliste!F50)=1,CONCATENATE(\"000\",Fuhrparkliste!F50),IF(LEN(Fuhrparkliste!F50)=2,CONCATENATE(\"00\",Fuhrparkliste!F50),IF(LEN(Fuhrparkliste!F50)=3,CONCATENATE(\"0\",Fuhrparkliste!F50),LEFT(Fuhrparkliste!F50,4)))))","v":""},{"$f":"IF(Fuhrparkliste!G50=\"\",\"\",IF(LEN(Fuhrparkliste!G50)=1,CONCATENATE(\"00\",Fuhrparkliste!G50),IF(LEN(Fuhrparkliste!G50)=2,CONCATENATE(\"0\",Fuhrparkliste!G50),LEFT(Fuhrparkliste!G50,3))))","v":""},{"$f":"IF(C41=\"\",\"\",IF(OR(C41=\"581\",C41=\"541\",C41=\"542\",C41=\"591\",C41=\"714\",C41=\"719\"),\"\",IF(Fuhrparkliste!C50=\"\",\"0\",Fuhrparkliste!C50)))","v":""},{"$f":"IF(C41=\"\",\"\",IF(Fuhrparkliste!Z50=\"\",\"0\",VLOOKUP(Fuhrparkliste!Z50,ELEKTROMATRIXKEY,2,FALSE)))","v":""},{"$f":"IF(Fuhrparkliste!D50=\"\",\"\",Fuhrparkliste!D50)","v":""},{"$f":"IF(Fuhrparkliste!N50=\"\",\"\",VLOOKUP(Fuhrparkliste!N50,AUFBAUMATRIXKEY,2,FALSE))","v":""},{"$f":"IF(Fuhrparkliste!T50=\"\",\"\",Fuhrparkliste!T50)","v":""},{"$f":"IF(C41=\"\",\"\",IF(AND(Fuhrparkliste!M50=\"Ja\",C41=\"112\"),\"1\",\"0\"))","v":""},{"$f":"IF(Fuhrparkliste!H50=\"\",\"\",Fuhrparkliste!H50)","v":""},{"$f":"IF(Fuhrparkliste!J50=\"\",\"\",Fuhrparkliste!J50)","v":""},{"$f":"IF(C41<>\"112\",\"\",IF(Fuhrparkliste!K50=\"Ja\",\"1\",\"0\"))","v":""},{"$f":"IF(OR(Fuhrparkliste!L50=\"\",C41<>\"127\"),\"\",VLOOKUP(Fuhrparkliste!L50,Bedachungsart,2,FALSE))","v":""},{"$f":"IF(C41=\"\",\"\",IF(AND(Fuhrparkliste!X50=\"Ja\",C41=\"112\"),\"1\",\"0\"))","v":""},{"$f":"IF(C41=\"\",\"\",IF(AND(Fuhrparkliste!Y50=\"Ja\",OR(C41=\"112\",C41=\"251\")),\"1\",\"0\"))","v":""},"",{"$f":"IF(C41=\"\",\"\",IF(AND(Fuhrparkliste!W50=\"Ja\",C41=\"112\"),\"1\",\"0\"))","v":""},{"$f":"IF(C41=\"\",\"\",IF(AND(ISERROR(SEARCH(\"0??\",tblRisiken!C41)) =TRUE,ISERROR(SEARCH(\"1??\",tblRisiken!C41)) =TRUE),\"0\",IF(AND(Fuhrparkliste!U50=\"Ja\",VLOOKUP(Werte!P41,SFMATRIXKEY,3,FALSE)=\"Ja\"),\"1\",\"0\")))","v":""},{"$f":"IF(C41=\"\",\"\",IF(OR(AF41=\"00\",LEFT(AF41,1)=\"7\"),\"0\",IF(AND(ISERROR(SEARCH(\"0??\",C41)) =TRUE,ISERROR(SEARCH(\"1??\",C41)) =TRUE),\"0\",IF(AND(Fuhrparkliste!V50=\"Ja\",X41=\"1\",VLOOKUP(Werte!Q41,SFMATRIXKEY,3,FALSE)=\"Ja\"),\"1\",\"0\"))))","v":""},{"$f":"IF(C41=\"\",\"\",IF(AND(Fuhrparkliste!AA50=\"Ja\",C41=\"112\"),\"1\",\"0\"))","v":""},{"$f":"IF(Fuhrparkliste!AB50=\"\",\"\",VLOOKUP(Fuhrparkliste!AB50,MatrixVorVU,2,FALSE))","v":""},{"$f":"IF(Fuhrparkliste!AC50=\"\",\"\",Fuhrparkliste!AC50)","v":""},{"$f":"IF(C41=\"\",\"\",IF(Fuhrparkliste!O50=\"\",\"00\",VLOOKUP(Fuhrparkliste!O50,GEFAHRGUTMATRIXKEY,2,FALSE)))","v":""},"",{"$f":"IF(C41=\"\",\"\",IF(Werte!P41=\"\",\"F1\",VLOOKUP(Fuhrparkliste!P50,SFKOMPLETT,2,FALSE)))","v":""},{"$f":"IF(C41=\"\",\"\",IF(Fuhrparkliste!S50=\"\",\"00\",VLOOKUP(Fuhrparkliste!S50,KASKOMATRIXKEY,2,FALSE)))","v":""},{"$f":"IF(C41=\"\",\"\",IF(Werte!Q41=\"\",\"F1\",VLOOKUP(Fuhrparkliste!Q50,SFKOMPLETT,2,FALSE)))","v":""},{"$f":"IF(C41=\"\",\"\",Fuhrparkliste!R50)","v":""},{"$f":"SUBSTITUTE(Fuhrparkliste!E50,\" \",\"\")","v":""}]
["",{"$f":"IF(Fuhrparkliste!B51=\"\",\"\",IF(Fuhrparkliste!B51=\"112\",\"22\",\"26\"))","v":""},{"$f":"IF(Fuhrparkliste!B51=\"\",\"\",TRIM(IF(LEN(Fuhrparkliste!B51)=1,CONCATENATE(\"00\",Fuhrparkliste!B51),IF(LEN(Fuhrparkliste!B51)=2,CONCATENATE(\"0\",Fuhrparkliste!B51),CONCATENATE(Fuhrparkliste!B51,\" \")))))","v":""},"","",{"$f":"RIGHT(AI42,COUNT(RIGHT(AI42,COLUMN(41:41))*1))","v":""},{"$f":"IF(Fuhrparkliste!I51=\"\",\"\",Fuhrparkliste!I51)","v":""},{"$f":"IF(Fuhrparkliste!F51=\"\",\"\",IF(LEN(Fuhrparkliste!F51)=1,CONCATENATE(\"000\",Fuhrparkliste!F51),IF(LEN(Fuhrparkliste!F51)=2,CONCATENATE(\"00\",Fuhrparkliste!F51),IF(LEN(Fuhrparkliste!F51)=3,CONCATENATE(\"0\",Fuhrparkliste!F51),LEFT(Fuhrparkliste!F51,4)))))","v":""},{"$f":"IF(Fuhrparkliste!G51=\"\",\"\",IF(LEN(Fuhrparkliste!G51)=1,CONCATENATE(\"00\",Fuhrparkliste!G51),IF(LEN(Fuhrparkliste!G51)=2,CONCATENATE(\"0\",Fuhrparkliste!G51),LEFT(Fuhrparkliste!G51,3))))","v":""},{"$f":"IF(C42=\"\",\"\",IF(OR(C42=\"581\",C42=\"541\",C42=\"542\",C42=\"591\",C42=\"714\",C42=\"719\"),\"\",IF(Fuhrparkliste!C51=\"\",\"0\",Fuhrparkliste!C51)))","v":""},{"$f":"IF(C42=\"\",\"\",IF(Fuhrparkliste!Z51=\"\",\"0\",VLOOKUP(Fuhrparkliste!Z51,ELEKTROMATRIXKEY,2,FALSE)))","v":""},{"$f":"IF(Fuhrparkliste!D51=\"\",\"\",Fuhrparkliste!D51)","v":""},{"$f":"IF(Fuhrparkliste!N51=\"\",\"\",VLOOKUP(Fuhrparkliste!N51,AUFBAUMATRIXKEY,2,FALSE))","v":""},{"$f":"IF(Fuhrparkliste!T51=\"\",\"\",Fuhrparkliste!T51)","v":""},{"$f":"IF(C42=\"\",\"\",IF(AND(Fuhrparkliste!M51=\"Ja\",C42=\"112\"),\"1\",\"0\"))","v":""},{"$f":"IF(Fuhrparkliste!H51=\"\",\"\",Fuhrparkliste!H51)","v":""},{"$f":"IF(Fuhrparkliste!J51=\"\",\"\",Fuhrparkliste!J51)","v":""},{"$f":"IF(C42<>\"112\",\"\",IF(Fuhrparkliste!K51=\"Ja\",\"1\",\"0\"))","v":""},{"$f":"IF(OR(Fuhrparkliste!L51=\"\",C42<>\"127\"),\"\",VLOOKUP(Fuhrparkliste!L51,Bedachungsart,2,FALSE))","v":""},{"$f":"IF(C42=\"\",\"\",IF(AND(Fuhrparkliste!X51=\"Ja\",C42=\"112\"),\"1\",\"0\"))","v":""},{"$f":"IF(C42=\"\",\"\",IF(AND(Fuhrparkliste!Y51=\"Ja\",OR(C42=\"112\",C42=\"251\")),\"1\",\"0\"))","v":""},"",{"$f":"IF(C42=\"\",\"\",IF(AND(Fuhrparkliste!W51=\"Ja\",C42=\"112\"),\"1\",\"0\"))","v":""},{"$f":"IF(C42=\"\",\"\",IF(AND(ISERROR(SEARCH(\"0??\",tblRisiken!C42)) =TRUE,ISERROR(SEARCH(\"1??\",tblRisiken!C42)) =TRUE),\"0\",IF(AND(Fuhrparkliste!U51=\"Ja\",VLOOKUP(Werte!P42,SFMATRIXKEY,3,FALSE)=\"Ja\"),\"1\",\"0\")))","v":""},{"$f":"IF(C42=\"\",\"\",IF(OR(AF42=\"00\",LEFT(AF42,1)=\"7\"),\"0\",IF(AND(ISERROR(SEARCH(\"0??\",C42)) =TRUE,ISERROR(SEARCH(\"1??\",C42)) =TRUE),\"0\",IF(AND(Fuhrparkliste!V51=\"Ja\",X42=\"1\",VLOOKUP(Werte!Q42,SFMATRIXKEY,3,FALSE)=\"Ja\"),\"1\",\"0\"))))","v":""},{"$f":"IF(C42=\"\",\"\",IF(AND(Fuhrparkliste!AA51=\"Ja\",C42=\"112\"),\"1\",\"0\"))","v":""},{"$f":"IF(Fuhrparkliste!AB51=\"\",\"\",VLOOKUP(Fuhrparkliste!AB51,MatrixVorVU,2,FALSE))","v":""},{"$f":"IF(Fuhrparkliste!AC51=\"\",\"\",Fuhrparkliste!AC51)","v":""},{"$f":"IF(C42=\"\",\"\",IF(Fuhrparkliste!O51=\"\",\"00\",VLOOKUP(Fuhrparkliste!O51,GEFAHRGUTMATRIXKEY,2,FALSE)))","v":""},"",{"$f":"IF(C42=\"\",\"\",IF(Werte!P42=\"\",\"F1\",VLOOKUP(Fuhrparkliste!P51,SFKOMPLETT,2,FALSE)))","v":""},{"$f":"IF(C42=\"\",\"\",IF(Fuhrparkliste!S51=\"\",\"00\",VLOOKUP(Fuhrparkliste!S51,KASKOMATRIXKEY,2,FALSE)))","v":""},{"$f":"IF(C42=\"\",\"\",IF(Werte!Q42=\"\",\"F1\",VLOOKUP(Fuhrparkliste!Q51,SFKOMPLETT,2,FALSE)))","v":""},{"$f":"IF(C42=\"\",\"\",Fuhrparkliste!R51)","v":""},{"$f":"SUBSTITUTE(Fuhrparkliste!E51,\" \",\"\")","v":""}]
["",{"$f":"IF(Fuhrparkliste!B52=\"\",\"\",IF(Fuhrparkliste!B52=\"112\",\"22\",\"26\"))","v":""},{"$f":"IF(Fuhrparkliste!B52=\"\",\"\",TRIM(IF(LEN(Fuhrparkliste!B52)=1,CONCATENATE(\"00\",Fuhrparkliste!B52),IF(LEN(Fuhrparkliste!B52)=2,CONCATENATE(\"0\",Fuhrparkliste!B52),CONCATENATE(Fuhrparkliste!B52,\" \")))))","v":""},"","",{"$f":"RIGHT(AI43,COUNT(RIGHT(AI43,COLUMN(42:42))*1))","v":""},{"$f":"IF(Fuhrparkliste!I52=\"\",\"\",Fuhrparkliste!I52)","v":""},{"$f":"IF(Fuhrparkliste!F52=\"\",\"\",IF(LEN(Fuhrparkliste!F52)=1,CONCATENATE(\"000\",Fuhrparkliste!F52),IF(LEN(Fuhrparkliste!F52)=2,CONCATENATE(\"00\",Fuhrparkliste!F52),IF(LEN(Fuhrparkliste!F52)=3,CONCATENATE(\"0\",Fuhrparkliste!F52),LEFT(Fuhrparkliste!F52,4)))))","v":""},{"$f":"IF(Fuhrparkliste!G52=\"\",\"\",IF(LEN(Fuhrparkliste!G52)=1,CONCATENATE(\"00\",Fuhrparkliste!G52),IF(LEN(Fuhrparkliste!G52)=2,CONCATENATE(\"0\",Fuhrparkliste!G52),LEFT(Fuhrparkliste!G52,3))))","v":""},{"$f":"IF(C43=\"\",\"\",IF(OR(C43=\"581\",C43=\"541\",C43=\"542\",C43=\"591\",C43=\"714\",C43=\"719\"),\"\",IF(Fuhrparkliste!C52=\"\",\"0\",Fuhrparkliste!C52)))","v":""},{"$f":"IF(C43=\"\",\"\",IF(Fuhrparkliste!Z52=\"\",\"0\",VLOOKUP(Fuhrparkliste!Z52,ELEKTROMATRIXKEY,2,FALSE)))","v":""},{"$f":"IF(Fuhrparkliste!D52=\"\",\"\",Fuhrparkliste!D52)","v":""},{"$f":"IF(Fuhrparkliste!N52=\"\",\"\",VLOOKUP(Fuhrparkliste!N52,AUFBAUMATRIXKEY,2,FALSE))","v":""},{"$f":"IF(Fuhrparkliste!T52=\"\",\"\",Fuhrparkliste!T52)","v":""},{"$f":"IF(C43=\"\",\"\",IF(AND(Fuhrparkliste!M52=\"Ja\",C43=\"112\"),\"1\",\"0\"))","v":""},{"$f":"IF(Fuhrparkliste!H52=\"\",\"\",Fuhrparkliste!H52)","v":""},{"$f":"IF(Fuhrparkliste!J52=\"\",\"\",Fuhrparkliste!J52)","v":""},{"$f":"IF(C43<>\"112\",\"\",IF(Fuhrparkliste!K52=\"Ja\",\"1\",\"0\"))","v":""},{"$f":"IF(OR(Fuhrparkliste!L52=\"\",C43<>\"127\"),\"\",VLOOKUP(Fuhrparkliste!L52,Bedachungsart,2,FALSE))","v":""},{"$f":"IF(C43=\"\",\"\",IF(AND(Fuhrparkliste!X52=\"Ja\",C43=\"112\"),\"1\",\"0\"))","v":""},{"$f":"IF(C43=\"\",\"\",IF(AND(Fuhrparkliste!Y52=\"Ja\",OR(C43=\"112\",C43=\"251\")),\"1\",\"0\"))","v":""},"",{"$f":"IF(C43=\"\",\"\",IF(AND(Fuhrparkliste!W52=\"Ja\",C43=\"112\"),\"1\",\"0\"))","v":""},{"$f":"IF(C43=\"\",\"\",IF(AND(ISERROR(SEARCH(\"0??\",tblRisiken!C43)) =TRUE,ISERROR(SEARCH(\"1??\",tblRisiken!C43)) =TRUE),\"0\",IF(AND(Fuhrparkliste!U52=\"Ja\",VLOOKUP(Werte!P43,SFMATRIXKEY,3,FALSE)=\"Ja\"),\"1\",\"0\")))","v":""},{"$f":"IF(C43=\"\",\"\",IF(OR(AF43=\"00\",LEFT(AF43,1)=\"7\"),\"0\",IF(AND(ISERROR(SEARCH(\"0??\",C43)) =TRUE,ISERROR(SEARCH(\"1??\",C43)) =TRUE),\"0\",IF(AND(Fuhrparkliste!V52=\"Ja\",X43=\"1\",VLOOKUP(Werte!Q43,SFMATRIXKEY,3,FALSE)=\"Ja\"),\"1\",\"0\"))))","v":""},{"$f":"IF(C43=\"\",\"\",IF(AND(Fuhrparkliste!AA52=\"Ja\",C43=\"112\"),\"1\",\"0\"))","v":""},{"$f":"IF(Fuhrparkliste!AB52=\"\",\"\",VLOOKUP(Fuhrparkliste!AB52,MatrixVorVU,2,FALSE))","v":""},{"$f":"IF(Fuhrparkliste!AC52=\"\",\"\",Fuhrparkliste!AC52)","v":""},{"$f":"IF(C43=\"\",\"\",IF(Fuhrparkliste!O52=\"\",\"00\",VLOOKUP(Fuhrparkliste!O52,GEFAHRGUTMATRIXKEY,2,FALSE)))","v":""},"",{"$f":"IF(C43=\"\",\"\",IF(Werte!P43=\"\",\"F1\",VLOOKUP(Fuhrparkliste!P52,SFKOMPLETT,2,FALSE)))","v":""},{"$f":"IF(C43=\"\",\"\",IF(Fuhrparkliste!S52=\"\",\"00\",VLOOKUP(Fuhrparkliste!S52,KASKOMATRIXKEY,2,FALSE)))","v":""},{"$f":"IF(C43=\"\",\"\",IF(Werte!Q43=\"\",\"F1\",VLOOKUP(Fuhrparkliste!Q52,SFKOMPLETT,2,FALSE)))","v":""},{"$f":"IF(C43=\"\",\"\",Fuhrparkliste!R52)","v":""},{"$f":"SUBSTITUTE(Fuhrparkliste!E52,\" \",\"\")","v":""}]
["",{"$f":"IF(Fuhrparkliste!B53=\"\",\"\",IF(Fuhrparkliste!B53=\"112\",\"22\",\"26\"))","v":""},{"$f":"IF(Fuhrparkliste!B53=\"\",\"\",TRIM(IF(LEN(Fuhrparkliste!B53)=1,CONCATENATE(\"00\",Fuhrparkliste!B53),IF(LEN(Fuhrparkliste!B53)=2,CONCATENATE(\"0\",Fuhrparkliste!B53),CONCATENATE(Fuhrparkliste!B53,\" \")))))","v":""},"","",{"$f":"RIGHT(AI44,COUNT(RIGHT(AI44,COLUMN(43:43))*1))","v":""},{"$f":"IF(Fuhrparkliste!I53=\"\",\"\",Fuhrparkliste!I53)","v":""},{"$f":"IF(Fuhrparkliste!F53=\"\",\"\",IF(LEN(Fuhrparkliste!F53)=1,CONCATENATE(\"000\",Fuhrparkliste!F53),IF(LEN(Fuhrparkliste!F53)=2,CONCATENATE(\"00\",Fuhrparkliste!F53),IF(LEN(Fuhrparkliste!F53)=3,CONCATENATE(\"0\",Fuhrparkliste!F53),LEFT(Fuhrparkliste!F53,4)))))","v":""},{"$f":"IF(Fuhrparkliste!G53=\"\",\"\",IF(LEN(Fuhrparkliste!G53)=1,CONCATENATE(\"00\",Fuhrparkliste!G53),IF(LEN(Fuhrparkliste!G53)=2,CONCATENATE(\"0\",Fuhrparkliste!G53),LEFT(Fuhrparkliste!G53,3))))","v":""},{"$f":"IF(C44=\"\",\"\",IF(OR(C44=\"581\",C44=\"541\",C44=\"542\",C44=\"591\",C44=\"714\",C44=\"719\"),\"\",IF(Fuhrparkliste!C53=\"\",\"0\",Fuhrparkliste!C53)))","v":""},{"$f":"IF(C44=\"\",\"\",IF(Fuhrparkliste!Z53=\"\",\"0\",VLOOKUP(Fuhrparkliste!Z53,ELEKTROMATRIXKEY,2,FALSE)))","v":""},{"$f":"IF(Fuhrparkliste!D53=\"\",\"\",Fuhrparkliste!D53)","v":""},{"$f":"IF(Fuhrparkliste!N53=\"\",\"\",VLOOKUP(Fuhrparkliste!N53,AUFBAUMATRIXKEY,2,FALSE))","v":""},{"$f":"IF(Fuhrparkliste!T53=\"\",\"\",Fuhrparkliste!T53)","v":""},{"$f":"IF(C44=\"\",\"\",IF(AND(Fuhrparkliste!M53=\"Ja\",C44=\"112\"),\"1\",\"0\"))","v":""},{"$f":"IF(Fuhrparkliste!H53=\"\",\"\",Fuhrparkliste!H53)","v":""},{"$f":"IF(Fuhrparkliste!J53=\"\",\"\",Fuhrparkliste!J53)","v":""},{"$f":"IF(C44<>\"112\",\"\",IF(Fuhrparkliste!K53=\"Ja\",\"1\",\"0\"))","v":""},{"$f":"IF(OR(Fuhrparkliste!L53=\"\",C44<>\"127\"),\"\",VLOOKUP(Fuhrparkliste!L53,Bedachungsart,2,FALSE))","v":""},{"$f":"IF(C44=\"\",\"\",IF(AND(Fuhrparkliste!X53=\"Ja\",C44=\"112\"),\"1\",\"0\"))","v":""},{"$f":"IF(C44=\"\",\"\",IF(AND(Fuhrparkliste!Y53=\"Ja\",OR(C44=\"112\",C44=\"251\")),\"1\",\"0\"))","v":""},"",{"$f":"IF(C44=\"\",\"\",IF(AND(Fuhrparkliste!W53=\"Ja\",C44=\"112\"),\"1\",\"0\"))","v":""},{"$f":"IF(C44=\"\",\"\",IF(AND(ISERROR(SEARCH(\"0??\",tblRisiken!C44)) =TRUE,ISERROR(SEARCH(\"1??\",tblRisiken!C44)) =TRUE),\"0\",IF(AND(Fuhrparkliste!U53=\"Ja\",VLOOKUP(Werte!P44,SFMATRIXKEY,3,FALSE)=\"Ja\"),\"1\",\"0\")))","v":""},{"$f":"IF(C44=\"\",\"\",IF(OR(AF44=\"00\",LEFT(AF44,1)=\"7\"),\"0\",IF(AND(ISERROR(SEARCH(\"0??\",C44)) =TRUE,ISERROR(SEARCH(\"1??\",C44)) =TRUE),\"0\",IF(AND(Fuhrparkliste!V53=\"Ja\",X44=\"1\",VLOOKUP(Werte!Q44,SFMATRIXKEY,3,FALSE)=\"Ja\"),\"1\",\"0\"))))","v":""},{"$f":"IF(C44=\"\",\"\",IF(AND(Fuhrparkliste!AA53=\"Ja\",C44=\"112\"),\"1\",\"0\"))","v":""},{"$f":"IF(Fuhrparkliste!AB53=\"\",\"\",VLOOKUP(Fuhrparkliste!AB53,MatrixVorVU,2,FALSE))","v":""},{"$f":"IF(Fuhrparkliste!AC53=\"\",\"\",Fuhrparkliste!AC53)","v":""},{"$f":"IF(C44=\"\",\"\",IF(Fuhrparkliste!O53=\"\",\"00\",VLOOKUP(Fuhrparkliste!O53,GEFAHRGUTMATRIXKEY,2,FALSE)))","v":""},"",{"$f":"IF(C44=\"\",\"\",IF(Werte!P44=\"\",\"F1\",VLOOKUP(Fuhrparkliste!P53,SFKOMPLETT,2,FALSE)))","v":""},{"$f":"IF(C44=\"\",\"\",IF(Fuhrparkliste!S53=\"\",\"00\",VLOOKUP(Fuhrparkliste!S53,KASKOMATRIXKEY,2,FALSE)))","v":""},{"$f":"IF(C44=\"\",\"\",IF(Werte!Q44=\"\",\"F1\",VLOOKUP(Fuhrparkliste!Q53,SFKOMPLETT,2,FALSE)))","v":""},{"$f":"IF(C44=\"\",\"\",Fuhrparkliste!R53)","v":""},{"$f":"SUBSTITUTE(Fuhrparkliste!E53,\" \",\"\")","v":""}]
["",{"$f":"IF(Fuhrparkliste!B54=\"\",\"\",IF(Fuhrparkliste!B54=\"112\",\"22\",\"26\"))","v":""},{"$f":"IF(Fuhrparkliste!B54=\"\",\"\",TRIM(IF(LEN(Fuhrparkliste!B54)=1,CONCATENATE(\"00\",Fuhrparkliste!B54),IF(LEN(Fuhrparkliste!B54)=2,CONCATENATE(\"0\",Fuhrparkliste!B54),CONCATENATE(Fuhrparkliste!B54,\" \")))))","v":""},"","",{"$f":"RIGHT(AI45,COUNT(RIGHT(AI45,COLUMN(44:44))*1))","v":""},{"$f":"IF(Fuhrparkliste!I54=\"\",\"\",Fuhrparkliste!I54)","v":""},{"$f":"IF(Fuhrparkliste!F54=\"\",\"\",IF(LEN(Fuhrparkliste!F54)=1,CONCATENATE(\"000\",Fuhrparkliste!F54),IF(LEN(Fuhrparkliste!F54)=2,CONCATENATE(\"00\",Fuhrparkliste!F54),IF(LEN(Fuhrparkliste!F54)=3,CONCATENATE(\"0\",Fuhrparkliste!F54),LEFT(Fuhrparkliste!F54,4)))))","v":""},{"$f":"IF(Fuhrparkliste!G54=\"\",\"\",IF(LEN(Fuhrparkliste!G54)=1,CONCATENATE(\"00\",Fuhrparkliste!G54),IF(LEN(Fuhrparkliste!G54)=2,CONCATENATE(\"0\",Fuhrparkliste!G54),LEFT(Fuhrparkliste!G54,3))))","v":""},{"$f":"IF(C45=\"\",\"\",IF(OR(C45=\"581\",C45=\"541\",C45=\"542\",C45=\"591\",C45=\"714\",C45=\"719\"),\"\",IF(Fuhrparkliste!C54=\"\",\"0\",Fuhrparkliste!C54)))","v":""},{"$f":"IF(C45=\"\",\"\",IF(Fuhrparkliste!Z54=\"\",\"0\",VLOOKUP(Fuhrparkliste!Z54,ELEKTROMATRIXKEY,2,FALSE)))","v":""},{"$f":"IF(Fuhrparkliste!D54=\"\",\"\",Fuhrparkliste!D54)","v":""},{"$f":"IF(Fuhrparkliste!N54=\"\",\"\",VLOOKUP(Fuhrparkliste!N54,AUFBAUMATRIXKEY,2,FALSE))","v":""},{"$f":"IF(Fuhrparkliste!T54=\"\",\"\",Fuhrparkliste!T54)","v":""},{"$f":"IF(C45=\"\",\"\",IF(AND(Fuhrparkliste!M54=\"Ja\",C45=\"112\"),\"1\",\"0\"))","v":""},{"$f":"IF(Fuhrparkliste!H54=\"\",\"\",Fuhrparkliste!H54)","v":""},{"$f":"IF(Fuhrparkliste!J54=\"\",\"\",Fuhrparkliste!J54)","v":""},{"$f":"IF(C45<>\"112\",\"\",IF(Fuhrparkliste!K54=\"Ja\",\"1\",\"0\"))","v":""},{"$f":"IF(OR(Fuhrparkliste!L54=\"\",C45<>\"127\"),\"\",VLOOKUP(Fuhrparkliste!L54,Bedachungsart,2,FALSE))","v":""},{"$f":"IF(C45=\"\",\"\",IF(AND(Fuhrparkliste!X54=\"Ja\",C45=\"112\"),\"1\",\"0\"))","v":""},{"$f":"IF(C45=\"\",\"\",IF(AND(Fuhrparkliste!Y54=\"Ja\",OR(C45=\"112\",C45=\"251\")),\"1\",\"0\"))","v":""},"",{"$f":"IF(C45=\"\",\"\",IF(AND(Fuhrparkliste!W54=\"Ja\",C45=\"112\"),\"1\",\"0\"))","v":""},{"$f":"IF(C45=\"\",\"\",IF(AND(ISERROR(SEARCH(\"0??\",tblRisiken!C45)) =TRUE,ISERROR(SEARCH(\"1??\",tblRisiken!C45)) =TRUE),\"0\",IF(AND(Fuhrparkliste!U54=\"Ja\",VLOOKUP(Werte!P45,SFMATRIXKEY,3,FALSE)=\"Ja\"),\"1\",\"0\")))","v":""},{"$f":"IF(C45=\"\",\"\",IF(OR(AF45=\"00\",LEFT(AF45,1)=\"7\"),\"0\",IF(AND(ISERROR(SEARCH(\"0??\",C45)) =TRUE,ISERROR(SEARCH(\"1??\",C45)) =TRUE),\"0\",IF(AND(Fuhrparkliste!V54=\"Ja\",X45=\"1\",VLOOKUP(Werte!Q45,SFMATRIXKEY,3,FALSE)=\"Ja\"),\"1\",\"0\"))))","v":""},{"$f":"IF(C45=\"\",\"\",IF(AND(Fuhrparkliste!AA54=\"Ja\",C45=\"112\"),\"1\",\"0\"))","v":""},{"$f":"IF(Fuhrparkliste!AB54=\"\",\"\",VLOOKUP(Fuhrparkliste!AB54,MatrixVorVU,2,FALSE))","v":""},{"$f":"IF(Fuhrparkliste!AC54=\"\",\"\",Fuhrparkliste!AC54)","v":""},{"$f":"IF(C45=\"\",\"\",IF(Fuhrparkliste!O54=\"\",\"00\",VLOOKUP(Fuhrparkliste!O54,GEFAHRGUTMATRIXKEY,2,FALSE)))","v":""},"",{"$f":"IF(C45=\"\",\"\",IF(Werte!P45=\"\",\"F1\",VLOOKUP(Fuhrparkliste!P54,SFKOMPLETT,2,FALSE)))","v":""},{"$f":"IF(C45=\"\",\"\",IF(Fuhrparkliste!S54=\"\",\"00\",VLOOKUP(Fuhrparkliste!S54,KASKOMATRIXKEY,2,FALSE)))","v":""},{"$f":"IF(C45=\"\",\"\",IF(Werte!Q45=\"\",\"F1\",VLOOKUP(Fuhrparkliste!Q54,SFKOMPLETT,2,FALSE)))","v":""},{"$f":"IF(C45=\"\",\"\",Fuhrparkliste!R54)","v":""},{"$f":"SUBSTITUTE(Fuhrparkliste!E54,\" \",\"\")","v":""}]
["",{"$f":"IF(Fuhrparkliste!B55=\"\",\"\",IF(Fuhrparkliste!B55=\"112\",\"22\",\"26\"))","v":""},{"$f":"IF(Fuhrparkliste!B55=\"\",\"\",TRIM(IF(LEN(Fuhrparkliste!B55)=1,CONCATENATE(\"00\",Fuhrparkliste!B55),IF(LEN(Fuhrparkliste!B55)=2,CONCATENATE(\"0\",Fuhrparkliste!B55),CONCATENATE(Fuhrparkliste!B55,\" \")))))","v":""},"","",{"$f":"RIGHT(AI46,COUNT(RIGHT(AI46,COLUMN(45:45))*1))","v":""},{"$f":"IF(Fuhrparkliste!I55=\"\",\"\",Fuhrparkliste!I55)","v":""},{"$f":"IF(Fuhrparkliste!F55=\"\",\"\",IF(LEN(Fuhrparkliste!F55)=1,CONCATENATE(\"000\",Fuhrparkliste!F55),IF(LEN(Fuhrparkliste!F55)=2,CONCATENATE(\"00\",Fuhrparkliste!F55),IF(LEN(Fuhrparkliste!F55)=3,CONCATENATE(\"0\",Fuhrparkliste!F55),LEFT(Fuhrparkliste!F55,4)))))","v":""},{"$f":"IF(Fuhrparkliste!G55=\"\",\"\",IF(LEN(Fuhrparkliste!G55)=1,CONCATENATE(\"00\",Fuhrparkliste!G55),IF(LEN(Fuhrparkliste!G55)=2,CONCATENATE(\"0\",Fuhrparkliste!G55),LEFT(Fuhrparkliste!G55,3))))","v":""},{"$f":"IF(C46=\"\",\"\",IF(OR(C46=\"581\",C46=\"541\",C46=\"542\",C46=\"591\",C46=\"714\",C46=\"719\"),\"\",IF(Fuhrparkliste!C55=\"\",\"0\",Fuhrparkliste!C55)))","v":""},{"$f":"IF(C46=\"\",\"\",IF(Fuhrparkliste!Z55=\"\",\"0\",VLOOKUP(Fuhrparkliste!Z55,ELEKTROMATRIXKEY,2,FALSE)))","v":""},{"$f":"IF(Fuhrparkliste!D55=\"\",\"\",Fuhrparkliste!D55)","v":""},{"$f":"IF(Fuhrparkliste!N55=\"\",\"\",VLOOKUP(Fuhrparkliste!N55,AUFBAUMATRIXKEY,2,FALSE))","v":""},{"$f":"IF(Fuhrparkliste!T55=\"\",\"\",Fuhrparkliste!T55)","v":""},{"$f":"IF(C46=\"\",\"\",IF(AND(Fuhrparkliste!M55=\"Ja\",C46=\"112\"),\"1\",\"0\"))","v":""},{"$f":"IF(Fuhrparkliste!H55=\"\",\"\",Fuhrparkliste!H55)","v":""},{"$f":"IF(Fuhrparkliste!J55=\"\",\"\",Fuhrparkliste!J55)","v":""},{"$f":"IF(C46<>\"112\",\"\",IF(Fuhrparkliste!K55=\"Ja\",\"1\",\"0\"))","v":""},{"$f":"IF(OR(Fuhrparkliste!L55=\"\",C46<>\"127\"),\"\",VLOOKUP(Fuhrparkliste!L55,Bedachungsart,2,FALSE))","v":""},{"$f":"IF(C46=\"\",\"\",IF(AND(Fuhrparkliste!X55=\"Ja\",C46=\"112\"),\"1\",\"0\"))","v":""},{"$f":"IF(C46=\"\",\"\",IF(AND(Fuhrparkliste!Y55=\"Ja\",OR(C46=\"112\",C46=\"251\")),\"1\",\"0\"))","v":""},"",{"$f":"IF(C46=\"\",\"\",IF(AND(Fuhrparkliste!W55=\"Ja\",C46=\"112\"),\"1\",\"0\"))","v":""},{"$f":"IF(C46=\"\",\"\",IF(AND(ISERROR(SEARCH(\"0??\",tblRisiken!C46)) =TRUE,ISERROR(SEARCH(\"1??\",tblRisiken!C46)) =TRUE),\"0\",IF(AND(Fuhrparkliste!U55=\"Ja\",VLOOKUP(Werte!P46,SFMATRIXKEY,3,FALSE)=\"Ja\"),\"1\",\"0\")))","v":""},{"$f":"IF(C46=\"\",\"\",IF(OR(AF46=\"00\",LEFT(AF46,1)=\"7\"),\"0\",IF(AND(ISERROR(SEARCH(\"0??\",C46)) =TRUE,ISERROR(SEARCH(\"1??\",C46)) =TRUE),\"0\",IF(AND(Fuhrparkliste!V55=\"Ja\",X46=\"1\",VLOOKUP(Werte!Q46,SFMATRIXKEY,3,FALSE)=\"Ja\"),\"1\",\"0\"))))","v":""},{"$f":"IF(C46=\"\",\"\",IF(AND(Fuhrparkliste!AA55=\"Ja\",C46=\"112\"),\"1\",\"0\"))","v":""},{"$f":"IF(Fuhrparkliste!AB55=\"\",\"\",VLOOKUP(Fuhrparkliste!AB55,MatrixVorVU,2,FALSE))","v":""},{"$f":"IF(Fuhrparkliste!AC55=\"\",\"\",Fuhrparkliste!AC55)","v":""},{"$f":"IF(C46=\"\",\"\",IF(Fuhrparkliste!O55=\"\",\"00\",VLOOKUP(Fuhrparkliste!O55,GEFAHRGUTMATRIXKEY,2,FALSE)))","v":""},"",{"$f":"IF(C46=\"\",\"\",IF(Werte!P46=\"\",\"F1\",VLOOKUP(Fuhrparkliste!P55,SFKOMPLETT,2,FALSE)))","v":""},{"$f":"IF(C46=\"\",\"\",IF(Fuhrparkliste!S55=\"\",\"00\",VLOOKUP(Fuhrparkliste!S55,KASKOMATRIXKEY,2,FALSE)))","v":""},{"$f":"IF(C46=\"\",\"\",IF(Werte!Q46=\"\",\"F1\",VLOOKUP(Fuhrparkliste!Q55,SFKOMPLETT,2,FALSE)))","v":""},{"$f":"IF(C46=\"\",\"\",Fuhrparkliste!R55)","v":""},{"$f":"SUBSTITUTE(Fuhrparkliste!E55,\" \",\"\")","v":""}]
["",{"$f":"IF(Fuhrparkliste!B56=\"\",\"\",IF(Fuhrparkliste!B56=\"112\",\"22\",\"26\"))","v":""},{"$f":"IF(Fuhrparkliste!B56=\"\",\"\",TRIM(IF(LEN(Fuhrparkliste!B56)=1,CONCATENATE(\"00\",Fuhrparkliste!B56),IF(LEN(Fuhrparkliste!B56)=2,CONCATENATE(\"0\",Fuhrparkliste!B56),CONCATENATE(Fuhrparkliste!B56,\" \")))))","v":""},"","",{"$f":"RIGHT(AI47,COUNT(RIGHT(AI47,COLUMN(46:46))*1))","v":""},{"$f":"IF(Fuhrparkliste!I56=\"\",\"\",Fuhrparkliste!I56)","v":""},{"$f":"IF(Fuhrparkliste!F56=\"\",\"\",IF(LEN(Fuhrparkliste!F56)=1,CONCATENATE(\"000\",Fuhrparkliste!F56),IF(LEN(Fuhrparkliste!F56)=2,CONCATENATE(\"00\",Fuhrparkliste!F56),IF(LEN(Fuhrparkliste!F56)=3,CONCATENATE(\"0\",Fuhrparkliste!F56),LEFT(Fuhrparkliste!F56,4)))))","v":""},{"$f":"IF(Fuhrparkliste!G56=\"\",\"\",IF(LEN(Fuhrparkliste!G56)=1,CONCATENATE(\"00\",Fuhrparkliste!G56),IF(LEN(Fuhrparkliste!G56)=2,CONCATENATE(\"0\",Fuhrparkliste!G56),LEFT(Fuhrparkliste!G56,3))))","v":""},{"$f":"IF(C47=\"\",\"\",IF(OR(C47=\"581\",C47=\"541\",C47=\"542\",C47=\"591\",C47=\"714\",C47=\"719\"),\"\",IF(Fuhrparkliste!C56=\"\",\"0\",Fuhrparkliste!C56)))","v":""},{"$f":"IF(C47=\"\",\"\",IF(Fuhrparkliste!Z56=\"\",\"0\",VLOOKUP(Fuhrparkliste!Z56,ELEKTROMATRIXKEY,2,FALSE)))","v":""},{"$f":"IF(Fuhrparkliste!D56=\"\",\"\",Fuhrparkliste!D56)","v":""},{"$f":"IF(Fuhrparkliste!N56=\"\",\"\",VLOOKUP(Fuhrparkliste!N56,AUFBAUMATRIXKEY,2,FALSE))","v":""},{"$f":"IF(Fuhrparkliste!T56=\"\",\"\",Fuhrparkliste!T56)","v":""},{"$f":"IF(C47=\"\",\"\",IF(AND(Fuhrparkliste!M56=\"Ja\",C47=\"112\"),\"1\",\"0\"))","v":""},{"$f":"IF(Fuhrparkliste!H56=\"\",\"\",Fuhrparkliste!H56)","v":""},{"$f":"IF(Fuhrparkliste!J56=\"\",\"\",Fuhrparkliste!J56)","v":""},{"$f":"IF(C47<>\"112\",\"\",IF(Fuhrparkliste!K56=\"Ja\",\"1\",\"0\"))","v":""},{"$f":"IF(OR(Fuhrparkliste!L56=\"\",C47<>\"127\"),\"\",VLOOKUP(Fuhrparkliste!L56,Bedachungsart,2,FALSE))","v":""},{"$f":"IF(C47=\"\",\"\",IF(AND(Fuhrparkliste!X56=\"Ja\",C47=\"112\"),\"1\",\"0\"))","v":""},{"$f":"IF(C47=\"\",\"\",IF(AND(Fuhrparkliste!Y56=\"Ja\",OR(C47=\"112\",C47=\"251\")),\"1\",\"0\"))","v":""},"",{"$f":"IF(C47=\"\",\"\",IF(AND(Fuhrparkliste!W56=\"Ja\",C47=\"112\"),\"1\",\"0\"))","v":""},{"$f":"IF(C47=\"\",\"\",IF(AND(ISERROR(SEARCH(\"0??\",tblRisiken!C47)) =TRUE,ISERROR(SEARCH(\"1??\",tblRisiken!C47)) =TRUE),\"0\",IF(AND(Fuhrparkliste!U56=\"Ja\",VLOOKUP(Werte!P47,SFMATRIXKEY,3,FALSE)=\"Ja\"),\"1\",\"0\")))","v":""},{"$f":"IF(C47=\"\",\"\",IF(OR(AF47=\"00\",LEFT(AF47,1)=\"7\"),\"0\",IF(AND(ISERROR(SEARCH(\"0??\",C47)) =TRUE,ISERROR(SEARCH(\"1??\",C47)) =TRUE),\"0\",IF(AND(Fuhrparkliste!V56=\"Ja\",X47=\"1\",VLOOKUP(Werte!Q47,SFMATRIXKEY,3,FALSE)=\"Ja\"),\"1\",\"0\"))))","v":""},{"$f":"IF(C47=\"\",\"\",IF(AND(Fuhrparkliste!AA56=\"Ja\",C47=\"112\"),\"1\",\"0\"))","v":""},{"$f":"IF(Fuhrparkliste!AB56=\"\",\"\",VLOOKUP(Fuhrparkliste!AB56,MatrixVorVU,2,FALSE))","v":""},{"$f":"IF(Fuhrparkliste!AC56=\"\",\"\",Fuhrparkliste!AC56)","v":""},{"$f":"IF(C47=\"\",\"\",IF(Fuhrparkliste!O56=\"\",\"00\",VLOOKUP(Fuhrparkliste!O56,GEFAHRGUTMATRIXKEY,2,FALSE)))","v":""},"",{"$f":"IF(C47=\"\",\"\",IF(Werte!P47=\"\",\"F1\",VLOOKUP(Fuhrparkliste!P56,SFKOMPLETT,2,FALSE)))","v":""},{"$f":"IF(C47=\"\",\"\",IF(Fuhrparkliste!S56=\"\",\"00\",VLOOKUP(Fuhrparkliste!S56,KASKOMATRIXKEY,2,FALSE)))","v":""},{"$f":"IF(C47=\"\",\"\",IF(Werte!Q47=\"\",\"F1\",VLOOKUP(Fuhrparkliste!Q56,SFKOMPLETT,2,FALSE)))","v":""},{"$f":"IF(C47=\"\",\"\",Fuhrparkliste!R56)","v":""},{"$f":"SUBSTITUTE(Fuhrparkliste!E56,\" \",\"\")","v":""}]
["",{"$f":"IF(Fuhrparkliste!B57=\"\",\"\",IF(Fuhrparkliste!B57=\"112\",\"22\",\"26\"))","v":""},{"$f":"IF(Fuhrparkliste!B57=\"\",\"\",TRIM(IF(LEN(Fuhrparkliste!B57)=1,CONCATENATE(\"00\",Fuhrparkliste!B57),IF(LEN(Fuhrparkliste!B57)=2,CONCATENATE(\"0\",Fuhrparkliste!B57),CONCATENATE(Fuhrparkliste!B57,\" \")))))","v":""},"","",{"$f":"RIGHT(AI48,COUNT(RIGHT(AI48,COLUMN(47:47))*1))","v":""},{"$f":"IF(Fuhrparkliste!I57=\"\",\"\",Fuhrparkliste!I57)","v":""},{"$f":"IF(Fuhrparkliste!F57=\"\",\"\",IF(LEN(Fuhrparkliste!F57)=1,CONCATENATE(\"000\",Fuhrparkliste!F57),IF(LEN(Fuhrparkliste!F57)=2,CONCATENATE(\"00\",Fuhrparkliste!F57),IF(LEN(Fuhrparkliste!F57)=3,CONCATENATE(\"0\",Fuhrparkliste!F57),LEFT(Fuhrparkliste!F57,4)))))","v":""},{"$f":"IF(Fuhrparkliste!G57=\"\",\"\",IF(LEN(Fuhrparkliste!G57)=1,CONCATENATE(\"00\",Fuhrparkliste!G57),IF(LEN(Fuhrparkliste!G57)=2,CONCATENATE(\"0\",Fuhrparkliste!G57),LEFT(Fuhrparkliste!G57,3))))","v":""},{"$f":"IF(C48=\"\",\"\",IF(OR(C48=\"581\",C48=\"541\",C48=\"542\",C48=\"591\",C48=\"714\",C48=\"719\"),\"\",IF(Fuhrparkliste!C57=\"\",\"0\",Fuhrparkliste!C57)))","v":""},{"$f":"IF(C48=\"\",\"\",IF(Fuhrparkliste!Z57=\"\",\"0\",VLOOKUP(Fuhrparkliste!Z57,ELEKTROMATRIXKEY,2,FALSE)))","v":""},{"$f":"IF(Fuhrparkliste!D57=\"\",\"\",Fuhrparkliste!D57)","v":""},{"$f":"IF(Fuhrparkliste!N57=\"\",\"\",VLOOKUP(Fuhrparkliste!N57,AUFBAUMATRIXKEY,2,FALSE))","v":""},{"$f":"IF(Fuhrparkliste!T57=\"\",\"\",Fuhrparkliste!T57)","v":""},{"$f":"IF(C48=\"\",\"\",IF(AND(Fuhrparkliste!M57=\"Ja\",C48=\"112\"),\"1\",\"0\"))","v":""},{"$f":"IF(Fuhrparkliste!H57=\"\",\"\",Fuhrparkliste!H57)","v":""},{"$f":"IF(Fuhrparkliste!J57=\"\",\"\",Fuhrparkliste!J57)","v":""},{"$f":"IF(C48<>\"112\",\"\",IF(Fuhrparkliste!K57=\"Ja\",\"1\",\"0\"))","v":""},{"$f":"IF(OR(Fuhrparkliste!L57=\"\",C48<>\"127\"),\"\",VLOOKUP(Fuhrparkliste!L57,Bedachungsart,2,FALSE))","v":""},{"$f":"IF(C48=\"\",\"\",IF(AND(Fuhrparkliste!X57=\"Ja\",C48=\"112\"),\"1\",\"0\"))","v":""},{"$f":"IF(C48=\"\",\"\",IF(AND(Fuhrparkliste!Y57=\"Ja\",OR(C48=\"112\",C48=\"251\")),\"1\",\"0\"))","v":""},"",{"$f":"IF(C48=\"\",\"\",IF(AND(Fuhrparkliste!W57=\"Ja\",C48=\"112\"),\"1\",\"0\"))","v":""},{"$f":"IF(C48=\"\",\"\",IF(AND(ISERROR(SEARCH(\"0??\",tblRisiken!C48)) =TRUE,ISERROR(SEARCH(\"1??\",tblRisiken!C48)) =TRUE),\"0\",IF(AND(Fuhrparkliste!U57=\"Ja\",VLOOKUP(Werte!P48,SFMATRIXKEY,3,FALSE)=\"Ja\"),\"1\",\"0\")))","v":""},{"$f":"IF(C48=\"\",\"\",IF(OR(AF48=\"00\",LEFT(AF48,1)=\"7\"),\"0\",IF(AND(ISERROR(SEARCH(\"0??\",C48)) =TRUE,ISERROR(SEARCH(\"1??\",C48)) =TRUE),\"0\",IF(AND(Fuhrparkliste!V57=\"Ja\",X48=\"1\",VLOOKUP(Werte!Q48,SFMATRIXKEY,3,FALSE)=\"Ja\"),\"1\",\"0\"))))","v":""},{"$f":"IF(C48=\"\",\"\",IF(AND(Fuhrparkliste!AA57=\"Ja\",C48=\"112\"),\"1\",\"0\"))","v":""},{"$f":"IF(Fuhrparkliste!AB57=\"\",\"\",VLOOKUP(Fuhrparkliste!AB57,MatrixVorVU,2,FALSE))","v":""},{"$f":"IF(Fuhrparkliste!AC57=\"\",\"\",Fuhrparkliste!AC57)","v":""},{"$f":"IF(C48=\"\",\"\",IF(Fuhrparkliste!O57=\"\",\"00\",VLOOKUP(Fuhrparkliste!O57,GEFAHRGUTMATRIXKEY,2,FALSE)))","v":""},"",{"$f":"IF(C48=\"\",\"\",IF(Werte!P48=\"\",\"F1\",VLOOKUP(Fuhrparkliste!P57,SFKOMPLETT,2,FALSE)))","v":""},{"$f":"IF(C48=\"\",\"\",IF(Fuhrparkliste!S57=\"\",\"00\",VLOOKUP(Fuhrparkliste!S57,KASKOMATRIXKEY,2,FALSE)))","v":""},{"$f":"IF(C48=\"\",\"\",IF(Werte!Q48=\"\",\"F1\",VLOOKUP(Fuhrparkliste!Q57,SFKOMPLETT,2,FALSE)))","v":""},{"$f":"IF(C48=\"\",\"\",Fuhrparkliste!R57)","v":""},{"$f":"SUBSTITUTE(Fuhrparkliste!E57,\" \",\"\")","v":""}]
["",{"$f":"IF(Fuhrparkliste!B58=\"\",\"\",IF(Fuhrparkliste!B58=\"112\",\"22\",\"26\"))","v":""},{"$f":"IF(Fuhrparkliste!B58=\"\",\"\",TRIM(IF(LEN(Fuhrparkliste!B58)=1,CONCATENATE(\"00\",Fuhrparkliste!B58),IF(LEN(Fuhrparkliste!B58)=2,CONCATENATE(\"0\",Fuhrparkliste!B58),CONCATENATE(Fuhrparkliste!B58,\" \")))))","v":""},"","",{"$f":"RIGHT(AI49,COUNT(RIGHT(AI49,COLUMN(48:48))*1))","v":""},{"$f":"IF(Fuhrparkliste!I58=\"\",\"\",Fuhrparkliste!I58)","v":""},{"$f":"IF(Fuhrparkliste!F58=\"\",\"\",IF(LEN(Fuhrparkliste!F58)=1,CONCATENATE(\"000\",Fuhrparkliste!F58),IF(LEN(Fuhrparkliste!F58)=2,CONCATENATE(\"00\",Fuhrparkliste!F58),IF(LEN(Fuhrparkliste!F58)=3,CONCATENATE(\"0\",Fuhrparkliste!F58),LEFT(Fuhrparkliste!F58,4)))))","v":""},{"$f":"IF(Fuhrparkliste!G58=\"\",\"\",IF(LEN(Fuhrparkliste!G58)=1,CONCATENATE(\"00\",Fuhrparkliste!G58),IF(LEN(Fuhrparkliste!G58)=2,CONCATENATE(\"0\",Fuhrparkliste!G58),LEFT(Fuhrparkliste!G58,3))))","v":""},{"$f":"IF(C49=\"\",\"\",IF(OR(C49=\"581\",C49=\"541\",C49=\"542\",C49=\"591\",C49=\"714\",C49=\"719\"),\"\",IF(Fuhrparkliste!C58=\"\",\"0\",Fuhrparkliste!C58)))","v":""},{"$f":"IF(C49=\"\",\"\",IF(Fuhrparkliste!Z58=\"\",\"0\",VLOOKUP(Fuhrparkliste!Z58,ELEKTROMATRIXKEY,2,FALSE)))","v":""},{"$f":"IF(Fuhrparkliste!D58=\"\",\"\",Fuhrparkliste!D58)","v":""},{"$f":"IF(Fuhrparkliste!N58=\"\",\"\",VLOOKUP(Fuhrparkliste!N58,AUFBAUMATRIXKEY,2,FALSE))","v":""},{"$f":"IF(Fuhrparkliste!T58=\"\",\"\",Fuhrparkliste!T58)","v":""},{"$f":"IF(C49=\"\",\"\",IF(AND(Fuhrparkliste!M58=\"Ja\",C49=\"112\"),\"1\",\"0\"))","v":""},{"$f":"IF(Fuhrparkliste!H58=\"\",\"\",Fuhrparkliste!H58)","v":""},{"$f":"IF(Fuhrparkliste!J58=\"\",\"\",Fuhrparkliste!J58)","v":""},{"$f":"IF(C49<>\"112\",\"\",IF(Fuhrparkliste!K58=\"Ja\",\"1\",\"0\"))","v":""},{"$f":"IF(OR(Fuhrparkliste!L58=\"\",C49<>\"127\"),\"\",VLOOKUP(Fuhrparkliste!L58,Bedachungsart,2,FALSE))","v":""},{"$f":"IF(C49=\"\",\"\",IF(AND(Fuhrparkliste!X58=\"Ja\",C49=\"112\"),\"1\",\"0\"))","v":""},{"$f":"IF(C49=\"\",\"\",IF(AND(Fuhrparkliste!Y58=\"Ja\",OR(C49=\"112\",C49=\"251\")),\"1\",\"0\"))","v":""},"",{"$f":"IF(C49=\"\",\"\",IF(AND(Fuhrparkliste!W58=\"Ja\",C49=\"112\"),\"1\",\"0\"))","v":""},{"$f":"IF(C49=\"\",\"\",IF(AND(ISERROR(SEARCH(\"0??\",tblRisiken!C49)) =TRUE,ISERROR(SEARCH(\"1??\",tblRisiken!C49)) =TRUE),\"0\",IF(AND(Fuhrparkliste!U58=\"Ja\",VLOOKUP(Werte!P49,SFMATRIXKEY,3,FALSE)=\"Ja\"),\"1\",\"0\")))","v":""},{"$f":"IF(C49=\"\",\"\",IF(OR(AF49=\"00\",LEFT(AF49,1)=\"7\"),\"0\",IF(AND(ISERROR(SEARCH(\"0??\",C49)) =TRUE,ISERROR(SEARCH(\"1??\",C49)) =TRUE),\"0\",IF(AND(Fuhrparkliste!V58=\"Ja\",X49=\"1\",VLOOKUP(Werte!Q49,SFMATRIXKEY,3,FALSE)=\"Ja\"),\"1\",\"0\"))))","v":""},{"$f":"IF(C49=\"\",\"\",IF(AND(Fuhrparkliste!AA58=\"Ja\",C49=\"112\"),\"1\",\"0\"))","v":""},{"$f":"IF(Fuhrparkliste!AB58=\"\",\"\",VLOOKUP(Fuhrparkliste!AB58,MatrixVorVU,2,FALSE))","v":""},{"$f":"IF(Fuhrparkliste!AC58=\"\",\"\",Fuhrparkliste!AC58)","v":""},{"$f":"IF(C49=\"\",\"\",IF(Fuhrparkliste!O58=\"\",\"00\",VLOOKUP(Fuhrparkliste!O58,GEFAHRGUTMATRIXKEY,2,FALSE)))","v":""},"",{"$f":"IF(C49=\"\",\"\",IF(Werte!P49=\"\",\"F1\",VLOOKUP(Fuhrparkliste!P58,SFKOMPLETT,2,FALSE)))","v":""},{"$f":"IF(C49=\"\",\"\",IF(Fuhrparkliste!S58=\"\",\"00\",VLOOKUP(Fuhrparkliste!S58,KASKOMATRIXKEY,2,FALSE)))","v":""},{"$f":"IF(C49=\"\",\"\",IF(Werte!Q49=\"\",\"F1\",VLOOKUP(Fuhrparkliste!Q58,SFKOMPLETT,2,FALSE)))","v":""},{"$f":"IF(C49=\"\",\"\",Fuhrparkliste!R58)","v":""},{"$f":"SUBSTITUTE(Fuhrparkliste!E58,\" \",\"\")","v":""}]
["",{"$f":"IF(Fuhrparkliste!B59=\"\",\"\",IF(Fuhrparkliste!B59=\"112\",\"22\",\"26\"))","v":""},{"$f":"IF(Fuhrparkliste!B59=\"\",\"\",TRIM(IF(LEN(Fuhrparkliste!B59)=1,CONCATENATE(\"00\",Fuhrparkliste!B59),IF(LEN(Fuhrparkliste!B59)=2,CONCATENATE(\"0\",Fuhrparkliste!B59),CONCATENATE(Fuhrparkliste!B59,\" \")))))","v":""},"","",{"$f":"RIGHT(AI50,COUNT(RIGHT(AI50,COLUMN(49:49))*1))","v":""},{"$f":"IF(Fuhrparkliste!I59=\"\",\"\",Fuhrparkliste!I59)","v":""},{"$f":"IF(Fuhrparkliste!F59=\"\",\"\",IF(LEN(Fuhrparkliste!F59)=1,CONCATENATE(\"000\",Fuhrparkliste!F59),IF(LEN(Fuhrparkliste!F59)=2,CONCATENATE(\"00\",Fuhrparkliste!F59),IF(LEN(Fuhrparkliste!F59)=3,CONCATENATE(\"0\",Fuhrparkliste!F59),LEFT(Fuhrparkliste!F59,4)))))","v":""},{"$f":"IF(Fuhrparkliste!G59=\"\",\"\",IF(LEN(Fuhrparkliste!G59)=1,CONCATENATE(\"00\",Fuhrparkliste!G59),IF(LEN(Fuhrparkliste!G59)=2,CONCATENATE(\"0\",Fuhrparkliste!G59),LEFT(Fuhrparkliste!G59,3))))","v":""},{"$f":"IF(C50=\"\",\"\",IF(OR(C50=\"581\",C50=\"541\",C50=\"542\",C50=\"591\",C50=\"714\",C50=\"719\"),\"\",IF(Fuhrparkliste!C59=\"\",\"0\",Fuhrparkliste!C59)))","v":""},{"$f":"IF(C50=\"\",\"\",IF(Fuhrparkliste!Z59=\"\",\"0\",VLOOKUP(Fuhrparkliste!Z59,ELEKTROMATRIXKEY,2,FALSE)))","v":""},{"$f":"IF(Fuhrparkliste!D59=\"\",\"\",Fuhrparkliste!D59)","v":""},{"$f":"IF(Fuhrparkliste!N59=\"\",\"\",VLOOKUP(Fuhrparkliste!N59,AUFBAUMATRIXKEY,2,FALSE))","v":""},{"$f":"IF(Fuhrparkliste!T59=\"\",\"\",Fuhrparkliste!T59)","v":""},{"$f":"IF(C50=\"\",\"\",IF(AND(Fuhrparkliste!M59=\"Ja\",C50=\"112\"),\"1\",\"0\"))","v":""},{"$f":"IF(Fuhrparkliste!H59=\"\",\"\",Fuhrparkliste!H59)","v":""},{"$f":"IF(Fuhrparkliste!J59=\"\",\"\",Fuhrparkliste!J59)","v":""},{"$f":"IF(C50<>\"112\",\"\",IF(Fuhrparkliste!K59=\"Ja\",\"1\",\"0\"))","v":""},{"$f":"IF(OR(Fuhrparkliste!L59=\"\",C50<>\"127\"),\"\",VLOOKUP(Fuhrparkliste!L59,Bedachungsart,2,FALSE))","v":""},{"$f":"IF(C50=\"\",\"\",IF(AND(Fuhrparkliste!X59=\"Ja\",C50=\"112\"),\"1\",\"0\"))","v":""},{"$f":"IF(C50=\"\",\"\",IF(AND(Fuhrparkliste!Y59=\"Ja\",OR(C50=\"112\",C50=\"251\")),\"1\",\"0\"))","v":""},"",{"$f":"IF(C50=\"\",\"\",IF(AND(Fuhrparkliste!W59=\"Ja\",C50=\"112\"),\"1\",\"0\"))","v":""},{"$f":"IF(C50=\"\",\"\",IF(AND(ISERROR(SEARCH(\"0??\",tblRisiken!C50)) =TRUE,ISERROR(SEARCH(\"1??\",tblRisiken!C50)) =TRUE),\"0\",IF(AND(Fuhrparkliste!U59=\"Ja\",VLOOKUP(Werte!P50,SFMATRIXKEY,3,FALSE)=\"Ja\"),\"1\",\"0\")))","v":""},{"$f":"IF(C50=\"\",\"\",IF(OR(AF50=\"00\",LEFT(AF50,1)=\"7\"),\"0\",IF(AND(ISERROR(SEARCH(\"0??\",C50)) =TRUE,ISERROR(SEARCH(\"1??\",C50)) =TRUE),\"0\",IF(AND(Fuhrparkliste!V59=\"Ja\",X50=\"1\",VLOOKUP(Werte!Q50,SFMATRIXKEY,3,FALSE)=\"Ja\"),\"1\",\"0\"))))","v":""},{"$f":"IF(C50=\"\",\"\",IF(AND(Fuhrparkliste!AA59=\"Ja\",C50=\"112\"),\"1\",\"0\"))","v":""},{"$f":"IF(Fuhrparkliste!AB59=\"\",\"\",VLOOKUP(Fuhrparkliste!AB59,MatrixVorVU,2,FALSE))","v":""},{"$f":"IF(Fuhrparkliste!AC59=\"\",\"\",Fuhrparkliste!AC59)","v":""},{"$f":"IF(C50=\"\",\"\",IF(Fuhrparkliste!O59=\"\",\"00\",VLOOKUP(Fuhrparkliste!O59,GEFAHRGUTMATRIXKEY,2,FALSE)))","v":""},"",{"$f":"IF(C50=\"\",\"\",IF(Werte!P50=\"\",\"F1\",VLOOKUP(Fuhrparkliste!P59,SFKOMPLETT,2,FALSE)))","v":""},{"$f":"IF(C50=\"\",\"\",IF(Fuhrparkliste!S59=\"\",\"00\",VLOOKUP(Fuhrparkliste!S59,KASKOMATRIXKEY,2,FALSE)))","v":""},{"$f":"IF(C50=\"\",\"\",IF(Werte!Q50=\"\",\"F1\",VLOOKUP(Fuhrparkliste!Q59,SFKOMPLETT,2,FALSE)))","v":""},{"$f":"IF(C50=\"\",\"\",Fuhrparkliste!R59)","v":""},{"$f":"SUBSTITUTE(Fuhrparkliste!E59,\" \",\"\")","v":""}]
["",{"$f":"IF(Fuhrparkliste!B60=\"\",\"\",IF(Fuhrparkliste!B60=\"112\",\"22\",\"26\"))","v":""},{"$f":"IF(Fuhrparkliste!B60=\"\",\"\",TRIM(IF(LEN(Fuhrparkliste!B60)=1,CONCATENATE(\"00\",Fuhrparkliste!B60),IF(LEN(Fuhrparkliste!B60)=2,CONCATENATE(\"0\",Fuhrparkliste!B60),CONCATENATE(Fuhrparkliste!B60,\" \")))))","v":""},"","",{"$f":"RIGHT(AI51,COUNT(RIGHT(AI51,COLUMN(50:50))*1))","v":""},{"$f":"IF(Fuhrparkliste!I60=\"\",\"\",Fuhrparkliste!I60)","v":""},{"$f":"IF(Fuhrparkliste!F60=\"\",\"\",IF(LEN(Fuhrparkliste!F60)=1,CONCATENATE(\"000\",Fuhrparkliste!F60),IF(LEN(Fuhrparkliste!F60)=2,CONCATENATE(\"00\",Fuhrparkliste!F60),IF(LEN(Fuhrparkliste!F60)=3,CONCATENATE(\"0\",Fuhrparkliste!F60),LEFT(Fuhrparkliste!F60,4)))))","v":""},{"$f":"IF(Fuhrparkliste!G60=\"\",\"\",IF(LEN(Fuhrparkliste!G60)=1,CONCATENATE(\"00\",Fuhrparkliste!G60),IF(LEN(Fuhrparkliste!G60)=2,CONCATENATE(\"0\",Fuhrparkliste!G60),LEFT(Fuhrparkliste!G60,3))))","v":""},{"$f":"IF(C51=\"\",\"\",IF(OR(C51=\"581\",C51=\"541\",C51=\"542\",C51=\"591\",C51=\"714\",C51=\"719\"),\"\",IF(Fuhrparkliste!C60=\"\",\"0\",Fuhrparkliste!C60)))","v":""},{"$f":"IF(C51=\"\",\"\",IF(Fuhrparkliste!Z60=\"\",\"0\",VLOOKUP(Fuhrparkliste!Z60,ELEKTROMATRIXKEY,2,FALSE)))","v":""},{"$f":"IF(Fuhrparkliste!D60=\"\",\"\",Fuhrparkliste!D60)","v":""},{"$f":"IF(Fuhrparkliste!N60=\"\",\"\",VLOOKUP(Fuhrparkliste!N60,AUFBAUMATRIXKEY,2,FALSE))","v":""},{"$f":"IF(Fuhrparkliste!T60=\"\",\"\",Fuhrparkliste!T60)","v":""},{"$f":"IF(C51=\"\",\"\",IF(AND(Fuhrparkliste!M60=\"Ja\",C51=\"112\"),\"1\",\"0\"))","v":""},{"$f":"IF(Fuhrparkliste!H60=\"\",\"\",Fuhrparkliste!H60)","v":""},{"$f":"IF(Fuhrparkliste!J60=\"\",\"\",Fuhrparkliste!J60)","v":""},{"$f":"IF(C51<>\"112\",\"\",IF(Fuhrparkliste!K60=\"Ja\",\"1\",\"0\"))","v":""},{"$f":"IF(OR(Fuhrparkliste!L60=\"\",C51<>\"127\"),\"\",VLOOKUP(Fuhrparkliste!L60,Bedachungsart,2,FALSE))","v":""},{"$f":"IF(C51=\"\",\"\",IF(AND(Fuhrparkliste!X60=\"Ja\",C51=\"112\"),\"1\",\"0\"))","v":""},{"$f":"IF(C51=\"\",\"\",IF(AND(Fuhrparkliste!Y60=\"Ja\",OR(C51=\"112\",C51=\"251\")),\"1\",\"0\"))","v":""},"",{"$f":"IF(C51=\"\",\"\",IF(AND(Fuhrparkliste!W60=\"Ja\",C51=\"112\"),\"1\",\"0\"))","v":""},{"$f":"IF(C51=\"\",\"\",IF(AND(ISERROR(SEARCH(\"0??\",tblRisiken!C51)) =TRUE,ISERROR(SEARCH(\"1??\",tblRisiken!C51)) =TRUE),\"0\",IF(AND(Fuhrparkliste!U60=\"Ja\",VLOOKUP(Werte!P51,SFMATRIXKEY,3,FALSE)=\"Ja\"),\"1\",\"0\")))","v":""},{"$f":"IF(C51=\"\",\"\",IF(OR(AF51=\"00\",LEFT(AF51,1)=\"7\"),\"0\",IF(AND(ISERROR(SEARCH(\"0??\",C51)) =TRUE,ISERROR(SEARCH(\"1??\",C51)) =TRUE),\"0\",IF(AND(Fuhrparkliste!V60=\"Ja\",X51=\"1\",VLOOKUP(Werte!Q51,SFMATRIXKEY,3,FALSE)=\"Ja\"),\"1\",\"0\"))))","v":""},{"$f":"IF(C51=\"\",\"\",IF(AND(Fuhrparkliste!AA60=\"Ja\",C51=\"112\"),\"1\",\"0\"))","v":""},{"$f":"IF(Fuhrparkliste!AB60=\"\",\"\",VLOOKUP(Fuhrparkliste!AB60,MatrixVorVU,2,FALSE))","v":""},{"$f":"IF(Fuhrparkliste!AC60=\"\",\"\",Fuhrparkliste!AC60)","v":""},{"$f":"IF(C51=\"\",\"\",IF(Fuhrparkliste!O60=\"\",\"00\",VLOOKUP(Fuhrparkliste!O60,GEFAHRGUTMATRIXKEY,2,FALSE)))","v":""},"",{"$f":"IF(C51=\"\",\"\",IF(Werte!P51=\"\",\"F1\",VLOOKUP(Fuhrparkliste!P60,SFKOMPLETT,2,FALSE)))","v":""},{"$f":"IF(C51=\"\",\"\",IF(Fuhrparkliste!S60=\"\",\"00\",VLOOKUP(Fuhrparkliste!S60,KASKOMATRIXKEY,2,FALSE)))","v":""},{"$f":"IF(C51=\"\",\"\",IF(Werte!Q51=\"\",\"F1\",VLOOKUP(Fuhrparkliste!Q60,SFKOMPLETT,2,FALSE)))","v":""},{"$f":"IF(C51=\"\",\"\",Fuhrparkliste!R60)","v":""},{"$f":"SUBSTITUTE(Fuhrparkliste!E60,\" \",\"\")","v":""}]
["",{"$f":"IF(Fuhrparkliste!B61=\"\",\"\",IF(Fuhrparkliste!B61=\"112\",\"22\",\"26\"))","v":""},{"$f":"IF(Fuhrparkliste!B61=\"\",\"\",TRIM(IF(LEN(Fuhrparkliste!B61)=1,CONCATENATE(\"00\",Fuhrparkliste!B61),IF(LEN(Fuhrparkliste!B61)=2,CONCATENATE(\"0\",Fuhrparkliste!B61),CONCATENATE(Fuhrparkliste!B61,\" \")))))","v":""},"","",{"$f":"RIGHT(AI52,COUNT(RIGHT(AI52,COLUMN(51:51))*1))","v":""},{"$f":"IF(Fuhrparkliste!I61=\"\",\"\",Fuhrparkliste!I61)","v":""},{"$f":"IF(Fuhrparkliste!F61=\"\",\"\",IF(LEN(Fuhrparkliste!F61)=1,CONCATENATE(\"000\",Fuhrparkliste!F61),IF(LEN(Fuhrparkliste!F61)=2,CONCATENATE(\"00\",Fuhrparkliste!F61),IF(LEN(Fuhrparkliste!F61)=3,CONCATENATE(\"0\",Fuhrparkliste!F61),LEFT(Fuhrparkliste!F61,4)))))","v":""},{"$f":"IF(Fuhrparkliste!G61=\"\",\"\",IF(LEN(Fuhrparkliste!G61)=1,CONCATENATE(\"00\",Fuhrparkliste!G61),IF(LEN(Fuhrparkliste!G61)=2,CONCATENATE(\"0\",Fuhrparkliste!G61),LEFT(Fuhrparkliste!G61,3))))","v":""},{"$f":"IF(C52=\"\",\"\",IF(OR(C52=\"581\",C52=\"541\",C52=\"542\",C52=\"591\",C52=\"714\",C52=\"719\"),\"\",IF(Fuhrparkliste!C61=\"\",\"0\",Fuhrparkliste!C61)))","v":""},{"$f":"IF(C52=\"\",\"\",IF(Fuhrparkliste!Z61=\"\",\"0\",VLOOKUP(Fuhrparkliste!Z61,ELEKTROMATRIXKEY,2,FALSE)))","v":""},{"$f":"IF(Fuhrparkliste!D61=\"\",\"\",Fuhrparkliste!D61)","v":""},{"$f":"IF(Fuhrparkliste!N61=\"\",\"\",VLOOKUP(Fuhrparkliste!N61,AUFBAUMATRIXKEY,2,FALSE))","v":""},{"$f":"IF(Fuhrparkliste!T61=\"\",\"\",Fuhrparkliste!T61)","v":""},{"$f":"IF(C52=\"\",\"\",IF(AND(Fuhrparkliste!M61=\"Ja\",C52=\"112\"),\"1\",\"0\"))","v":""},{"$f":"IF(Fuhrparkliste!H61=\"\",\"\",Fuhrparkliste!H61)","v":""},{"$f":"IF(Fuhrparkliste!J61=\"\",\"\",Fuhrparkliste!J61)","v":""},{"$f":"IF(C52<>\"112\",\"\",IF(Fuhrparkliste!K61=\"Ja\",\"1\",\"0\"))","v":""},{"$f":"IF(OR(Fuhrparkliste!L61=\"\",C52<>\"127\"),\"\",VLOOKUP(Fuhrparkliste!L61,Bedachungsart,2,FALSE))","v":""},{"$f":"IF(C52=\"\",\"\",IF(AND(Fuhrparkliste!X61=\"Ja\",C52=\"112\"),\"1\",\"0\"))","v":""},{"$f":"IF(C52=\"\",\"\",IF(AND(Fuhrparkliste!Y61=\"Ja\",OR(C52=\"112\",C52=\"251\")),\"1\",\"0\"))","v":""},"",{"$f":"IF(C52=\"\",\"\",IF(AND(Fuhrparkliste!W61=\"Ja\",C52=\"112\"),\"1\",\"0\"))","v":""},{"$f":"IF(C52=\"\",\"\",IF(AND(ISERROR(SEARCH(\"0??\",tblRisiken!C52)) =TRUE,ISERROR(SEARCH(\"1??\",tblRisiken!C52)) =TRUE),\"0\",IF(AND(Fuhrparkliste!U61=\"Ja\",VLOOKUP(Werte!P52,SFMATRIXKEY,3,FALSE)=\"Ja\"),\"1\",\"0\")))","v":""},{"$f":"IF(C52=\"\",\"\",IF(OR(AF52=\"00\",LEFT(AF52,1)=\"7\"),\"0\",IF(AND(ISERROR(SEARCH(\"0??\",C52)) =TRUE,ISERROR(SEARCH(\"1??\",C52)) =TRUE),\"0\",IF(AND(Fuhrparkliste!V61=\"Ja\",X52=\"1\",VLOOKUP(Werte!Q52,SFMATRIXKEY,3,FALSE)=\"Ja\"),\"1\",\"0\"))))","v":""},{"$f":"IF(C52=\"\",\"\",IF(AND(Fuhrparkliste!AA61=\"Ja\",C52=\"112\"),\"1\",\"0\"))","v":""},{"$f":"IF(Fuhrparkliste!AB61=\"\",\"\",VLOOKUP(Fuhrparkliste!AB61,MatrixVorVU,2,FALSE))","v":""},{"$f":"IF(Fuhrparkliste!AC61=\"\",\"\",Fuhrparkliste!AC61)","v":""},{"$f":"IF(C52=\"\",\"\",IF(Fuhrparkliste!O61=\"\",\"00\",VLOOKUP(Fuhrparkliste!O61,GEFAHRGUTMATRIXKEY,2,FALSE)))","v":""},"",{"$f":"IF(C52=\"\",\"\",IF(Werte!P52=\"\",\"F1\",VLOOKUP(Fuhrparkliste!P61,SFKOMPLETT,2,FALSE)))","v":""},{"$f":"IF(C52=\"\",\"\",IF(Fuhrparkliste!S61=\"\",\"00\",VLOOKUP(Fuhrparkliste!S61,KASKOMATRIXKEY,2,FALSE)))","v":""},{"$f":"IF(C52=\"\",\"\",IF(Werte!Q52=\"\",\"F1\",VLOOKUP(Fuhrparkliste!Q61,SFKOMPLETT,2,FALSE)))","v":""},{"$f":"IF(C52=\"\",\"\",Fuhrparkliste!R61)","v":""},{"$f":"SUBSTITUTE(Fuhrparkliste!E61,\" \",\"\")","v":""}]
["",{"$f":"IF(Fuhrparkliste!B62=\"\",\"\",IF(Fuhrparkliste!B62=\"112\",\"22\",\"26\"))","v":""},{"$f":"IF(Fuhrparkliste!B62=\"\",\"\",TRIM(IF(LEN(Fuhrparkliste!B62)=1,CONCATENATE(\"00\",Fuhrparkliste!B62),IF(LEN(Fuhrparkliste!B62)=2,CONCATENATE(\"0\",Fuhrparkliste!B62),CONCATENATE(Fuhrparkliste!B62,\" \")))))","v":""},"","",{"$f":"RIGHT(AI53,COUNT(RIGHT(AI53,COLUMN(52:52))*1))","v":""},{"$f":"IF(Fuhrparkliste!I62=\"\",\"\",Fuhrparkliste!I62)","v":""},{"$f":"IF(Fuhrparkliste!F62=\"\",\"\",IF(LEN(Fuhrparkliste!F62)=1,CONCATENATE(\"000\",Fuhrparkliste!F62),IF(LEN(Fuhrparkliste!F62)=2,CONCATENATE(\"00\",Fuhrparkliste!F62),IF(LEN(Fuhrparkliste!F62)=3,CONCATENATE(\"0\",Fuhrparkliste!F62),LEFT(Fuhrparkliste!F62,4)))))","v":""},{"$f":"IF(Fuhrparkliste!G62=\"\",\"\",IF(LEN(Fuhrparkliste!G62)=1,CONCATENATE(\"00\",Fuhrparkliste!G62),IF(LEN(Fuhrparkliste!G62)=2,CONCATENATE(\"0\",Fuhrparkliste!G62),LEFT(Fuhrparkliste!G62,3))))","v":""},{"$f":"IF(C53=\"\",\"\",IF(OR(C53=\"581\",C53=\"541\",C53=\"542\",C53=\"591\",C53=\"714\",C53=\"719\"),\"\",IF(Fuhrparkliste!C62=\"\",\"0\",Fuhrparkliste!C62)))","v":""},{"$f":"IF(C53=\"\",\"\",IF(Fuhrparkliste!Z62=\"\",\"0\",VLOOKUP(Fuhrparkliste!Z62,ELEKTROMATRIXKEY,2,FALSE)))","v":""},{"$f":"IF(Fuhrparkliste!D62=\"\",\"\",Fuhrparkliste!D62)","v":""},{"$f":"IF(Fuhrparkliste!N62=\"\",\"\",VLOOKUP(Fuhrparkliste!N62,AUFBAUMATRIXKEY,2,FALSE))","v":""},{"$f":"IF(Fuhrparkliste!T62=\"\",\"\",Fuhrparkliste!T62)","v":""},{"$f":"IF(C53=\"\",\"\",IF(AND(Fuhrparkliste!M62=\"Ja\",C53=\"112\"),\"1\",\"0\"))","v":""},{"$f":"IF(Fuhrparkliste!H62=\"\",\"\",Fuhrparkliste!H62)","v":""},{"$f":"IF(Fuhrparkliste!J62=\"\",\"\",Fuhrparkliste!J62)","v":""},{"$f":"IF(C53<>\"112\",\"\",IF(Fuhrparkliste!K62=\"Ja\",\"1\",\"0\"))","v":""},{"$f":"IF(OR(Fuhrparkliste!L62=\"\",C53<>\"127\"),\"\",VLOOKUP(Fuhrparkliste!L62,Bedachungsart,2,FALSE))","v":""},{"$f":"IF(C53=\"\",\"\",IF(AND(Fuhrparkliste!X62=\"Ja\",C53=\"112\"),\"1\",\"0\"))","v":""},{"$f":"IF(C53=\"\",\"\",IF(AND(Fuhrparkliste!Y62=\"Ja\",OR(C53=\"112\",C53=\"251\")),\"1\",\"0\"))","v":""},"",{"$f":"IF(C53=\"\",\"\",IF(AND(Fuhrparkliste!W62=\"Ja\",C53=\"112\"),\"1\",\"0\"))","v":""},{"$f":"IF(C53=\"\",\"\",IF(AND(ISERROR(SEARCH(\"0??\",tblRisiken!C53)) =TRUE,ISERROR(SEARCH(\"1??\",tblRisiken!C53)) =TRUE),\"0\",IF(AND(Fuhrparkliste!U62=\"Ja\",VLOOKUP(Werte!P53,SFMATRIXKEY,3,FALSE)=\"Ja\"),\"1\",\"0\")))","v":""},{"$f":"IF(C53=\"\",\"\",IF(OR(AF53=\"00\",LEFT(AF53,1)=\"7\"),\"0\",IF(AND(ISERROR(SEARCH(\"0??\",C53)) =TRUE,ISERROR(SEARCH(\"1??\",C53)) =TRUE),\"0\",IF(AND(Fuhrparkliste!V62=\"Ja\",X53=\"1\",VLOOKUP(Werte!Q53,SFMATRIXKEY,3,FALSE)=\"Ja\"),\"1\",\"0\"))))","v":""},{"$f":"IF(C53=\"\",\"\",IF(AND(Fuhrparkliste!AA62=\"Ja\",C53=\"112\"),\"1\",\"0\"))","v":""},{"$f":"IF(Fuhrparkliste!AB62=\"\",\"\",VLOOKUP(Fuhrparkliste!AB62,MatrixVorVU,2,FALSE))","v":""},{"$f":"IF(Fuhrparkliste!AC62=\"\",\"\",Fuhrparkliste!AC62)","v":""},{"$f":"IF(C53=\"\",\"\",IF(Fuhrparkliste!O62=\"\",\"00\",VLOOKUP(Fuhrparkliste!O62,GEFAHRGUTMATRIXKEY,2,FALSE)))","v":""},"",{"$f":"IF(C53=\"\",\"\",IF(Werte!P53=\"\",\"F1\",VLOOKUP(Fuhrparkliste!P62,SFKOMPLETT,2,FALSE)))","v":""},{"$f":"IF(C53=\"\",\"\",IF(Fuhrparkliste!S62=\"\",\"00\",VLOOKUP(Fuhrparkliste!S62,KASKOMATRIXKEY,2,FALSE)))","v":""},{"$f":"IF(C53=\"\",\"\",IF(Werte!Q53=\"\",\"F1\",VLOOKUP(Fuhrparkliste!Q62,SFKOMPLETT,2,FALSE)))","v":""},{"$f":"IF(C53=\"\",\"\",Fuhrparkliste!R62)","v":""},{"$f":"SUBSTITUTE(Fuhrparkliste!E62,\" \",\"\")","v":""}]
["",{"$f":"IF(Fuhrparkliste!B63=\"\",\"\",IF(Fuhrparkliste!B63=\"112\",\"22\",\"26\"))","v":""},{"$f":"IF(Fuhrparkliste!B63=\"\",\"\",TRIM(IF(LEN(Fuhrparkliste!B63)=1,CONCATENATE(\"00\",Fuhrparkliste!B63),IF(LEN(Fuhrparkliste!B63)=2,CONCATENATE(\"0\",Fuhrparkliste!B63),CONCATENATE(Fuhrparkliste!B63,\" \")))))","v":""},"","",{"$f":"RIGHT(AI54,COUNT(RIGHT(AI54,COLUMN(53:53))*1))","v":""},{"$f":"IF(Fuhrparkliste!I63=\"\",\"\",Fuhrparkliste!I63)","v":""},{"$f":"IF(Fuhrparkliste!F63=\"\",\"\",IF(LEN(Fuhrparkliste!F63)=1,CONCATENATE(\"000\",Fuhrparkliste!F63),IF(LEN(Fuhrparkliste!F63)=2,CONCATENATE(\"00\",Fuhrparkliste!F63),IF(LEN(Fuhrparkliste!F63)=3,CONCATENATE(\"0\",Fuhrparkliste!F63),LEFT(Fuhrparkliste!F63,4)))))","v":""},{"$f":"IF(Fuhrparkliste!G63=\"\",\"\",IF(LEN(Fuhrparkliste!G63)=1,CONCATENATE(\"00\",Fuhrparkliste!G63),IF(LEN(Fuhrparkliste!G63)=2,CONCATENATE(\"0\",Fuhrparkliste!G63),LEFT(Fuhrparkliste!G63,3))))","v":""},{"$f":"IF(C54=\"\",\"\",IF(OR(C54=\"581\",C54=\"541\",C54=\"542\",C54=\"591\",C54=\"714\",C54=\"719\"),\"\",IF(Fuhrparkliste!C63=\"\",\"0\",Fuhrparkliste!C63)))","v":""},{"$f":"IF(C54=\"\",\"\",IF(Fuhrparkliste!Z63=\"\",\"0\",VLOOKUP(Fuhrparkliste!Z63,ELEKTROMATRIXKEY,2,FALSE)))","v":""},{"$f":"IF(Fuhrparkliste!D63=\"\",\"\",Fuhrparkliste!D63)","v":""},{"$f":"IF(Fuhrparkliste!N63=\"\",\"\",VLOOKUP(Fuhrparkliste!N63,AUFBAUMATRIXKEY,2,FALSE))","v":""},{"$f":"IF(Fuhrparkliste!T63=\"\",\"\",Fuhrparkliste!T63)","v":""},{"$f":"IF(C54=\"\",\"\",IF(AND(Fuhrparkliste!M63=\"Ja\",C54=\"112\"),\"1\",\"0\"))","v":""},{"$f":"IF(Fuhrparkliste!H63=\"\",\"\",Fuhrparkliste!H63)","v":""},{"$f":"IF(Fuhrparkliste!J63=\"\",\"\",Fuhrparkliste!J63)","v":""},{"$f":"IF(C54<>\"112\",\"\",IF(Fuhrparkliste!K63=\"Ja\",\"1\",\"0\"))","v":""},{"$f":"IF(OR(Fuhrparkliste!L63=\"\",C54<>\"127\"),\"\",VLOOKUP(Fuhrparkliste!L63,Bedachungsart,2,FALSE))","v":""},{"$f":"IF(C54=\"\",\"\",IF(AND(Fuhrparkliste!X63=\"Ja\",C54=\"112\"),\"1\",\"0\"))","v":""},{"$f":"IF(C54=\"\",\"\",IF(AND(Fuhrparkliste!Y63=\"Ja\",OR(C54=\"112\",C54=\"251\")),\"1\",\"0\"))","v":""},"",{"$f":"IF(C54=\"\",\"\",IF(AND(Fuhrparkliste!W63=\"Ja\",C54=\"112\"),\"1\",\"0\"))","v":""},{"$f":"IF(C54=\"\",\"\",IF(AND(ISERROR(SEARCH(\"0??\",tblRisiken!C54)) =TRUE,ISERROR(SEARCH(\"1??\",tblRisiken!C54)) =TRUE),\"0\",IF(AND(Fuhrparkliste!U63=\"Ja\",VLOOKUP(Werte!P54,SFMATRIXKEY,3,FALSE)=\"Ja\"),\"1\",\"0\")))","v":""},{"$f":"IF(C54=\"\",\"\",IF(OR(AF54=\"00\",LEFT(AF54,1)=\"7\"),\"0\",IF(AND(ISERROR(SEARCH(\"0??\",C54)) =TRUE,ISERROR(SEARCH(\"1??\",C54)) =TRUE),\"0\",IF(AND(Fuhrparkliste!V63=\"Ja\",X54=\"1\",VLOOKUP(Werte!Q54,SFMATRIXKEY,3,FALSE)=\"Ja\"),\"1\",\"0\"))))","v":""},{"$f":"IF(C54=\"\",\"\",IF(AND(Fuhrparkliste!AA63=\"Ja\",C54=\"112\"),\"1\",\"0\"))","v":""},{"$f":"IF(Fuhrparkliste!AB63=\"\",\"\",VLOOKUP(Fuhrparkliste!AB63,MatrixVorVU,2,FALSE))","v":""},{"$f":"IF(Fuhrparkliste!AC63=\"\",\"\",Fuhrparkliste!AC63)","v":""},{"$f":"IF(C54=\"\",\"\",IF(Fuhrparkliste!O63=\"\",\"00\",VLOOKUP(Fuhrparkliste!O63,GEFAHRGUTMATRIXKEY,2,FALSE)))","v":""},"",{"$f":"IF(C54=\"\",\"\",IF(Werte!P54=\"\",\"F1\",VLOOKUP(Fuhrparkliste!P63,SFKOMPLETT,2,FALSE)))","v":""},{"$f":"IF(C54=\"\",\"\",IF(Fuhrparkliste!S63=\"\",\"00\",VLOOKUP(Fuhrparkliste!S63,KASKOMATRIXKEY,2,FALSE)))","v":""},{"$f":"IF(C54=\"\",\"\",IF(Werte!Q54=\"\",\"F1\",VLOOKUP(Fuhrparkliste!Q63,SFKOMPLETT,2,FALSE)))","v":""},{"$f":"IF(C54=\"\",\"\",Fuhrparkliste!R63)","v":""},{"$f":"SUBSTITUTE(Fuhrparkliste!E63,\" \",\"\")","v":""}]
["",{"$f":"IF(Fuhrparkliste!B64=\"\",\"\",IF(Fuhrparkliste!B64=\"112\",\"22\",\"26\"))","v":""},{"$f":"IF(Fuhrparkliste!B64=\"\",\"\",TRIM(IF(LEN(Fuhrparkliste!B64)=1,CONCATENATE(\"00\",Fuhrparkliste!B64),IF(LEN(Fuhrparkliste!B64)=2,CONCATENATE(\"0\",Fuhrparkliste!B64),CONCATENATE(Fuhrparkliste!B64,\" \")))))","v":""},"","",{"$f":"RIGHT(AI55,COUNT(RIGHT(AI55,COLUMN(54:54))*1))","v":""},{"$f":"IF(Fuhrparkliste!I64=\"\",\"\",Fuhrparkliste!I64)","v":""},{"$f":"IF(Fuhrparkliste!F64=\"\",\"\",IF(LEN(Fuhrparkliste!F64)=1,CONCATENATE(\"000\",Fuhrparkliste!F64),IF(LEN(Fuhrparkliste!F64)=2,CONCATENATE(\"00\",Fuhrparkliste!F64),IF(LEN(Fuhrparkliste!F64)=3,CONCATENATE(\"0\",Fuhrparkliste!F64),LEFT(Fuhrparkliste!F64,4)))))","v":""},{"$f":"IF(Fuhrparkliste!G64=\"\",\"\",IF(LEN(Fuhrparkliste!G64)=1,CONCATENATE(\"00\",Fuhrparkliste!G64),IF(LEN(Fuhrparkliste!G64)=2,CONCATENATE(\"0\",Fuhrparkliste!G64),LEFT(Fuhrparkliste!G64,3))))","v":""},{"$f":"IF(C55=\"\",\"\",IF(OR(C55=\"581\",C55=\"541\",C55=\"542\",C55=\"591\",C55=\"714\",C55=\"719\"),\"\",IF(Fuhrparkliste!C64=\"\",\"0\",Fuhrparkliste!C64)))","v":""},{"$f":"IF(C55=\"\",\"\",IF(Fuhrparkliste!Z64=\"\",\"0\",VLOOKUP(Fuhrparkliste!Z64,ELEKTROMATRIXKEY,2,FALSE)))","v":""},{"$f":"IF(Fuhrparkliste!D64=\"\",\"\",Fuhrparkliste!D64)","v":""},{"$f":"IF(Fuhrparkliste!N64=\"\",\"\",VLOOKUP(Fuhrparkliste!N64,AUFBAUMATRIXKEY,2,FALSE))","v":""},{"$f":"IF(Fuhrparkliste!T64=\"\",\"\",Fuhrparkliste!T64)","v":""},{"$f":"IF(C55=\"\",\"\",IF(AND(Fuhrparkliste!M64=\"Ja\",C55=\"112\"),\"1\",\"0\"))","v":""},{"$f":"IF(Fuhrparkliste!H64=\"\",\"\",Fuhrparkliste!H64)","v":""},{"$f":"IF(Fuhrparkliste!J64=\"\",\"\",Fuhrparkliste!J64)","v":""},{"$f":"IF(C55<>\"112\",\"\",IF(Fuhrparkliste!K64=\"Ja\",\"1\",\"0\"))","v":""},{"$f":"IF(OR(Fuhrparkliste!L64=\"\",C55<>\"127\"),\"\",VLOOKUP(Fuhrparkliste!L64,Bedachungsart,2,FALSE))","v":""},{"$f":"IF(C55=\"\",\"\",IF(AND(Fuhrparkliste!X64=\"Ja\",C55=\"112\"),\"1\",\"0\"))","v":""},{"$f":"IF(C55=\"\",\"\",IF(AND(Fuhrparkliste!Y64=\"Ja\",OR(C55=\"112\",C55=\"251\")),\"1\",\"0\"))","v":""},"",{"$f":"IF(C55=\"\",\"\",IF(AND(Fuhrparkliste!W64=\"Ja\",C55=\"112\"),\"1\",\"0\"))","v":""},{"$f":"IF(C55=\"\",\"\",IF(AND(ISERROR(SEARCH(\"0??\",tblRisiken!C55)) =TRUE,ISERROR(SEARCH(\"1??\",tblRisiken!C55)) =TRUE),\"0\",IF(AND(Fuhrparkliste!U64=\"Ja\",VLOOKUP(Werte!P55,SFMATRIXKEY,3,FALSE)=\"Ja\"),\"1\",\"0\")))","v":""},{"$f":"IF(C55=\"\",\"\",IF(OR(AF55=\"00\",LEFT(AF55,1)=\"7\"),\"0\",IF(AND(ISERROR(SEARCH(\"0??\",C55)) =TRUE,ISERROR(SEARCH(\"1??\",C55)) =TRUE),\"0\",IF(AND(Fuhrparkliste!V64=\"Ja\",X55=\"1\",VLOOKUP(Werte!Q55,SFMATRIXKEY,3,FALSE)=\"Ja\"),\"1\",\"0\"))))","v":""},{"$f":"IF(C55=\"\",\"\",IF(AND(Fuhrparkliste!AA64=\"Ja\",C55=\"112\"),\"1\",\"0\"))","v":""},{"$f":"IF(Fuhrparkliste!AB64=\"\",\"\",VLOOKUP(Fuhrparkliste!AB64,MatrixVorVU,2,FALSE))","v":""},{"$f":"IF(Fuhrparkliste!AC64=\"\",\"\",Fuhrparkliste!AC64)","v":""},{"$f":"IF(C55=\"\",\"\",IF(Fuhrparkliste!O64=\"\",\"00\",VLOOKUP(Fuhrparkliste!O64,GEFAHRGUTMATRIXKEY,2,FALSE)))","v":""},"",{"$f":"IF(C55=\"\",\"\",IF(Werte!P55=\"\",\"F1\",VLOOKUP(Fuhrparkliste!P64,SFKOMPLETT,2,FALSE)))","v":""},{"$f":"IF(C55=\"\",\"\",IF(Fuhrparkliste!S64=\"\",\"00\",VLOOKUP(Fuhrparkliste!S64,KASKOMATRIXKEY,2,FALSE)))","v":""},{"$f":"IF(C55=\"\",\"\",IF(Werte!Q55=\"\",\"F1\",VLOOKUP(Fuhrparkliste!Q64,SFKOMPLETT,2,FALSE)))","v":""},{"$f":"IF(C55=\"\",\"\",Fuhrparkliste!R64)","v":""},{"$f":"SUBSTITUTE(Fuhrparkliste!E64,\" \",\"\")","v":""}]
["",{"$f":"IF(Fuhrparkliste!B65=\"\",\"\",IF(Fuhrparkliste!B65=\"112\",\"22\",\"26\"))","v":""},{"$f":"IF(Fuhrparkliste!B65=\"\",\"\",TRIM(IF(LEN(Fuhrparkliste!B65)=1,CONCATENATE(\"00\",Fuhrparkliste!B65),IF(LEN(Fuhrparkliste!B65)=2,CONCATENATE(\"0\",Fuhrparkliste!B65),CONCATENATE(Fuhrparkliste!B65,\" \")))))","v":""},"","",{"$f":"RIGHT(AI56,COUNT(RIGHT(AI56,COLUMN(55:55))*1))","v":""},{"$f":"IF(Fuhrparkliste!I65=\"\",\"\",Fuhrparkliste!I65)","v":""},{"$f":"IF(Fuhrparkliste!F65=\"\",\"\",IF(LEN(Fuhrparkliste!F65)=1,CONCATENATE(\"000\",Fuhrparkliste!F65),IF(LEN(Fuhrparkliste!F65)=2,CONCATENATE(\"00\",Fuhrparkliste!F65),IF(LEN(Fuhrparkliste!F65)=3,CONCATENATE(\"0\",Fuhrparkliste!F65),LEFT(Fuhrparkliste!F65,4)))))","v":""},{"$f":"IF(Fuhrparkliste!G65=\"\",\"\",IF(LEN(Fuhrparkliste!G65)=1,CONCATENATE(\"00\",Fuhrparkliste!G65),IF(LEN(Fuhrparkliste!G65)=2,CONCATENATE(\"0\",Fuhrparkliste!G65),LEFT(Fuhrparkliste!G65,3))))","v":""},{"$f":"IF(C56=\"\",\"\",IF(OR(C56=\"581\",C56=\"541\",C56=\"542\",C56=\"591\",C56=\"714\",C56=\"719\"),\"\",IF(Fuhrparkliste!C65=\"\",\"0\",Fuhrparkliste!C65)))","v":""},{"$f":"IF(C56=\"\",\"\",IF(Fuhrparkliste!Z65=\"\",\"0\",VLOOKUP(Fuhrparkliste!Z65,ELEKTROMATRIXKEY,2,FALSE)))","v":""},{"$f":"IF(Fuhrparkliste!D65=\"\",\"\",Fuhrparkliste!D65)","v":""},{"$f":"IF(Fuhrparkliste!N65=\"\",\"\",VLOOKUP(Fuhrparkliste!N65,AUFBAUMATRIXKEY,2,FALSE))","v":""},{"$f":"IF(Fuhrparkliste!T65=\"\",\"\",Fuhrparkliste!T65)","v":""},{"$f":"IF(C56=\"\",\"\",IF(AND(Fuhrparkliste!M65=\"Ja\",C56=\"112\"),\"1\",\"0\"))","v":""},{"$f":"IF(Fuhrparkliste!H65=\"\",\"\",Fuhrparkliste!H65)","v":""},{"$f":"IF(Fuhrparkliste!J65=\"\",\"\",Fuhrparkliste!J65)","v":""},{"$f":"IF(C56<>\"112\",\"\",IF(Fuhrparkliste!K65=\"Ja\",\"1\",\"0\"))","v":""},{"$f":"IF(OR(Fuhrparkliste!L65=\"\",C56<>\"127\"),\"\",VLOOKUP(Fuhrparkliste!L65,Bedachungsart,2,FALSE))","v":""},{"$f":"IF(C56=\"\",\"\",IF(AND(Fuhrparkliste!X65=\"Ja\",C56=\"112\"),\"1\",\"0\"))","v":""},{"$f":"IF(C56=\"\",\"\",IF(AND(Fuhrparkliste!Y65=\"Ja\",OR(C56=\"112\",C56=\"251\")),\"1\",\"0\"))","v":""},"",{"$f":"IF(C56=\"\",\"\",IF(AND(Fuhrparkliste!W65=\"Ja\",C56=\"112\"),\"1\",\"0\"))","v":""},{"$f":"IF(C56=\"\",\"\",IF(AND(ISERROR(SEARCH(\"0??\",tblRisiken!C56)) =TRUE,ISERROR(SEARCH(\"1??\",tblRisiken!C56)) =TRUE),\"0\",IF(AND(Fuhrparkliste!U65=\"Ja\",VLOOKUP(Werte!P56,SFMATRIXKEY,3,FALSE)=\"Ja\"),\"1\",\"0\")))","v":""},{"$f":"IF(C56=\"\",\"\",IF(OR(AF56=\"00\",LEFT(AF56,1)=\"7\"),\"0\",IF(AND(ISERROR(SEARCH(\"0??\",C56)) =TRUE,ISERROR(SEARCH(\"1??\",C56)) =TRUE),\"0\",IF(AND(Fuhrparkliste!V65=\"Ja\",X56=\"1\",VLOOKUP(Werte!Q56,SFMATRIXKEY,3,FALSE)=\"Ja\"),\"1\",\"0\"))))","v":""},{"$f":"IF(C56=\"\",\"\",IF(AND(Fuhrparkliste!AA65=\"Ja\",C56=\"112\"),\"1\",\"0\"))","v":""},{"$f":"IF(Fuhrparkliste!AB65=\"\",\"\",VLOOKUP(Fuhrparkliste!AB65,MatrixVorVU,2,FALSE))","v":""},{"$f":"IF(Fuhrparkliste!AC65=\"\",\"\",Fuhrparkliste!AC65)","v":""},{"$f":"IF(C56=\"\",\"\",IF(Fuhrparkliste!O65=\"\",\"00\",VLOOKUP(Fuhrparkliste!O65,GEFAHRGUTMATRIXKEY,2,FALSE)))","v":""},"",{"$f":"IF(C56=\"\",\"\",IF(Werte!P56=\"\",\"F1\",VLOOKUP(Fuhrparkliste!P65,SFKOMPLETT,2,FALSE)))","v":""},{"$f":"IF(C56=\"\",\"\",IF(Fuhrparkliste!S65=\"\",\"00\",VLOOKUP(Fuhrparkliste!S65,KASKOMATRIXKEY,2,FALSE)))","v":""},{"$f":"IF(C56=\"\",\"\",IF(Werte!Q56=\"\",\"F1\",VLOOKUP(Fuhrparkliste!Q65,SFKOMPLETT,2,FALSE)))","v":""},{"$f":"IF(C56=\"\",\"\",Fuhrparkliste!R65)","v":""},{"$f":"SUBSTITUTE(Fuhrparkliste!E65,\" \",\"\")","v":""}]
["",{"$f":"IF(Fuhrparkliste!B66=\"\",\"\",IF(Fuhrparkliste!B66=\"112\",\"22\",\"26\"))","v":""},{"$f":"IF(Fuhrparkliste!B66=\"\",\"\",TRIM(IF(LEN(Fuhrparkliste!B66)=1,CONCATENATE(\"00\",Fuhrparkliste!B66),IF(LEN(Fuhrparkliste!B66)=2,CONCATENATE(\"0\",Fuhrparkliste!B66),CONCATENATE(Fuhrparkliste!B66,\" \")))))","v":""},"","",{"$f":"RIGHT(AI57,COUNT(RIGHT(AI57,COLUMN(56:56))*1))","v":""},{"$f":"IF(Fuhrparkliste!I66=\"\",\"\",Fuhrparkliste!I66)","v":""},{"$f":"IF(Fuhrparkliste!F66=\"\",\"\",IF(LEN(Fuhrparkliste!F66)=1,CONCATENATE(\"000\",Fuhrparkliste!F66),IF(LEN(Fuhrparkliste!F66)=2,CONCATENATE(\"00\",Fuhrparkliste!F66),IF(LEN(Fuhrparkliste!F66)=3,CONCATENATE(\"0\",Fuhrparkliste!F66),LEFT(Fuhrparkliste!F66,4)))))","v":""},{"$f":"IF(Fuhrparkliste!G66=\"\",\"\",IF(LEN(Fuhrparkliste!G66)=1,CONCATENATE(\"00\",Fuhrparkliste!G66),IF(LEN(Fuhrparkliste!G66)=2,CONCATENATE(\"0\",Fuhrparkliste!G66),LEFT(Fuhrparkliste!G66,3))))","v":""},{"$f":"IF(C57=\"\",\"\",IF(OR(C57=\"581\",C57=\"541\",C57=\"542\",C57=\"591\",C57=\"714\",C57=\"719\"),\"\",IF(Fuhrparkliste!C66=\"\",\"0\",Fuhrparkliste!C66)))","v":""},{"$f":"IF(C57=\"\",\"\",IF(Fuhrparkliste!Z66=\"\",\"0\",VLOOKUP(Fuhrparkliste!Z66,ELEKTROMATRIXKEY,2,FALSE)))","v":""},{"$f":"IF(Fuhrparkliste!D66=\"\",\"\",Fuhrparkliste!D66)","v":""},{"$f":"IF(Fuhrparkliste!N66=\"\",\"\",VLOOKUP(Fuhrparkliste!N66,AUFBAUMATRIXKEY,2,FALSE))","v":""},{"$f":"IF(Fuhrparkliste!T66=\"\",\"\",Fuhrparkliste!T66)","v":""},{"$f":"IF(C57=\"\",\"\",IF(AND(Fuhrparkliste!M66=\"Ja\",C57=\"112\"),\"1\",\"0\"))","v":""},{"$f":"IF(Fuhrparkliste!H66=\"\",\"\",Fuhrparkliste!H66)","v":""},{"$f":"IF(Fuhrparkliste!J66=\"\",\"\",Fuhrparkliste!J66)","v":""},{"$f":"IF(C57<>\"112\",\"\",IF(Fuhrparkliste!K66=\"Ja\",\"1\",\"0\"))","v":""},{"$f":"IF(OR(Fuhrparkliste!L66=\"\",C57<>\"127\"),\"\",VLOOKUP(Fuhrparkliste!L66,Bedachungsart,2,FALSE))","v":""},{"$f":"IF(C57=\"\",\"\",IF(AND(Fuhrparkliste!X66=\"Ja\",C57=\"112\"),\"1\",\"0\"))","v":""},{"$f":"IF(C57=\"\",\"\",IF(AND(Fuhrparkliste!Y66=\"Ja\",OR(C57=\"112\",C57=\"251\")),\"1\",\"0\"))","v":""},"",{"$f":"IF(C57=\"\",\"\",IF(AND(Fuhrparkliste!W66=\"Ja\",C57=\"112\"),\"1\",\"0\"))","v":""},{"$f":"IF(C57=\"\",\"\",IF(AND(ISERROR(SEARCH(\"0??\",tblRisiken!C57)) =TRUE,ISERROR(SEARCH(\"1??\",tblRisiken!C57)) =TRUE),\"0\",IF(AND(Fuhrparkliste!U66=\"Ja\",VLOOKUP(Werte!P57,SFMATRIXKEY,3,FALSE)=\"Ja\"),\"1\",\"0\")))","v":""},{"$f":"IF(C57=\"\",\"\",IF(OR(AF57=\"00\",LEFT(AF57,1)=\"7\"),\"0\",IF(AND(ISERROR(SEARCH(\"0??\",C57)) =TRUE,ISERROR(SEARCH(\"1??\",C57)) =TRUE),\"0\",IF(AND(Fuhrparkliste!V66=\"Ja\",X57=\"1\",VLOOKUP(Werte!Q57,SFMATRIXKEY,3,FALSE)=\"Ja\"),\"1\",\"0\"))))","v":""},{"$f":"IF(C57=\"\",\"\",IF(AND(Fuhrparkliste!AA66=\"Ja\",C57=\"112\"),\"1\",\"0\"))","v":""},{"$f":"IF(Fuhrparkliste!AB66=\"\",\"\",VLOOKUP(Fuhrparkliste!AB66,MatrixVorVU,2,FALSE))","v":""},{"$f":"IF(Fuhrparkliste!AC66=\"\",\"\",Fuhrparkliste!AC66)","v":""},{"$f":"IF(C57=\"\",\"\",IF(Fuhrparkliste!O66=\"\",\"00\",VLOOKUP(Fuhrparkliste!O66,GEFAHRGUTMATRIXKEY,2,FALSE)))","v":""},"",{"$f":"IF(C57=\"\",\"\",IF(Werte!P57=\"\",\"F1\",VLOOKUP(Fuhrparkliste!P66,SFKOMPLETT,2,FALSE)))","v":""},{"$f":"IF(C57=\"\",\"\",IF(Fuhrparkliste!S66=\"\",\"00\",VLOOKUP(Fuhrparkliste!S66,KASKOMATRIXKEY,2,FALSE)))","v":""},{"$f":"IF(C57=\"\",\"\",IF(Werte!Q57=\"\",\"F1\",VLOOKUP(Fuhrparkliste!Q66,SFKOMPLETT,2,FALSE)))","v":""},{"$f":"IF(C57=\"\",\"\",Fuhrparkliste!R66)","v":""},{"$f":"SUBSTITUTE(Fuhrparkliste!E66,\" \",\"\")","v":""}]
["",{"$f":"IF(Fuhrparkliste!B67=\"\",\"\",IF(Fuhrparkliste!B67=\"112\",\"22\",\"26\"))","v":""},{"$f":"IF(Fuhrparkliste!B67=\"\",\"\",TRIM(IF(LEN(Fuhrparkliste!B67)=1,CONCATENATE(\"00\",Fuhrparkliste!B67),IF(LEN(Fuhrparkliste!B67)=2,CONCATENATE(\"0\",Fuhrparkliste!B67),CONCATENATE(Fuhrparkliste!B67,\" \")))))","v":""},"","",{"$f":"RIGHT(AI58,COUNT(RIGHT(AI58,COLUMN(57:57))*1))","v":""},{"$f":"IF(Fuhrparkliste!I67=\"\",\"\",Fuhrparkliste!I67)","v":""},{"$f":"IF(Fuhrparkliste!F67=\"\",\"\",IF(LEN(Fuhrparkliste!F67)=1,CONCATENATE(\"000\",Fuhrparkliste!F67),IF(LEN(Fuhrparkliste!F67)=2,CONCATENATE(\"00\",Fuhrparkliste!F67),IF(LEN(Fuhrparkliste!F67)=3,CONCATENATE(\"0\",Fuhrparkliste!F67),LEFT(Fuhrparkliste!F67,4)))))","v":""},{"$f":"IF(Fuhrparkliste!G67=\"\",\"\",IF(LEN(Fuhrparkliste!G67)=1,CONCATENATE(\"00\",Fuhrparkliste!G67),IF(LEN(Fuhrparkliste!G67)=2,CONCATENATE(\"0\",Fuhrparkliste!G67),LEFT(Fuhrparkliste!G67,3))))","v":""},{"$f":"IF(C58=\"\",\"\",IF(OR(C58=\"581\",C58=\"541\",C58=\"542\",C58=\"591\",C58=\"714\",C58=\"719\"),\"\",IF(Fuhrparkliste!C67=\"\",\"0\",Fuhrparkliste!C67)))","v":""},{"$f":"IF(C58=\"\",\"\",IF(Fuhrparkliste!Z67=\"\",\"0\",VLOOKUP(Fuhrparkliste!Z67,ELEKTROMATRIXKEY,2,FALSE)))","v":""},{"$f":"IF(Fuhrparkliste!D67=\"\",\"\",Fuhrparkliste!D67)","v":""},{"$f":"IF(Fuhrparkliste!N67=\"\",\"\",VLOOKUP(Fuhrparkliste!N67,AUFBAUMATRIXKEY,2,FALSE))","v":""},{"$f":"IF(Fuhrparkliste!T67=\"\",\"\",Fuhrparkliste!T67)","v":""},{"$f":"IF(C58=\"\",\"\",IF(AND(Fuhrparkliste!M67=\"Ja\",C58=\"112\"),\"1\",\"0\"))","v":""},{"$f":"IF(Fuhrparkliste!H67=\"\",\"\",Fuhrparkliste!H67)","v":""},{"$f":"IF(Fuhrparkliste!J67=\"\",\"\",Fuhrparkliste!J67)","v":""},{"$f":"IF(C58<>\"112\",\"\",IF(Fuhrparkliste!K67=\"Ja\",\"1\",\"0\"))","v":""},{"$f":"IF(OR(Fuhrparkliste!L67=\"\",C58<>\"127\"),\"\",VLOOKUP(Fuhrparkliste!L67,Bedachungsart,2,FALSE))","v":""},{"$f":"IF(C58=\"\",\"\",IF(AND(Fuhrparkliste!X67=\"Ja\",C58=\"112\"),\"1\",\"0\"))","v":""},{"$f":"IF(C58=\"\",\"\",IF(AND(Fuhrparkliste!Y67=\"Ja\",OR(C58=\"112\",C58=\"251\")),\"1\",\"0\"))","v":""},"",{"$f":"IF(C58=\"\",\"\",IF(AND(Fuhrparkliste!W67=\"Ja\",C58=\"112\"),\"1\",\"0\"))","v":""},{"$f":"IF(C58=\"\",\"\",IF(AND(ISERROR(SEARCH(\"0??\",tblRisiken!C58)) =TRUE,ISERROR(SEARCH(\"1??\",tblRisiken!C58)) =TRUE),\"0\",IF(AND(Fuhrparkliste!U67=\"Ja\",VLOOKUP(Werte!P58,SFMATRIXKEY,3,FALSE)=\"Ja\"),\"1\",\"0\")))","v":""},{"$f":"IF(C58=\"\",\"\",IF(OR(AF58=\"00\",LEFT(AF58,1)=\"7\"),\"0\",IF(AND(ISERROR(SEARCH(\"0??\",C58)) =TRUE,ISERROR(SEARCH(\"1??\",C58)) =TRUE),\"0\",IF(AND(Fuhrparkliste!V67=\"Ja\",X58=\"1\",VLOOKUP(Werte!Q58,SFMATRIXKEY,3,FALSE)=\"Ja\"),\"1\",\"0\"))))","v":""},{"$f":"IF(C58=\"\",\"\",IF(AND(Fuhrparkliste!AA67=\"Ja\",C58=\"112\"),\"1\",\"0\"))","v":""},{"$f":"IF(Fuhrparkliste!AB67=\"\",\"\",VLOOKUP(Fuhrparkliste!AB67,MatrixVorVU,2,FALSE))","v":""},{"$f":"IF(Fuhrparkliste!AC67=\"\",\"\",Fuhrparkliste!AC67)","v":""},{"$f":"IF(C58=\"\",\"\",IF(Fuhrparkliste!O67=\"\",\"00\",VLOOKUP(Fuhrparkliste!O67,GEFAHRGUTMATRIXKEY,2,FALSE)))","v":""},"",{"$f":"IF(C58=\"\",\"\",IF(Werte!P58=\"\",\"F1\",VLOOKUP(Fuhrparkliste!P67,SFKOMPLETT,2,FALSE)))","v":""},{"$f":"IF(C58=\"\",\"\",IF(Fuhrparkliste!S67=\"\",\"00\",VLOOKUP(Fuhrparkliste!S67,KASKOMATRIXKEY,2,FALSE)))","v":""},{"$f":"IF(C58=\"\",\"\",IF(Werte!Q58=\"\",\"F1\",VLOOKUP(Fuhrparkliste!Q67,SFKOMPLETT,2,FALSE)))","v":""},{"$f":"IF(C58=\"\",\"\",Fuhrparkliste!R67)","v":""},{"$f":"SUBSTITUTE(Fuhrparkliste!E67,\" \",\"\")","v":""}]
["",{"$f":"IF(Fuhrparkliste!B68=\"\",\"\",IF(Fuhrparkliste!B68=\"112\",\"22\",\"26\"))","v":""},{"$f":"IF(Fuhrparkliste!B68=\"\",\"\",TRIM(IF(LEN(Fuhrparkliste!B68)=1,CONCATENATE(\"00\",Fuhrparkliste!B68),IF(LEN(Fuhrparkliste!B68)=2,CONCATENATE(\"0\",Fuhrparkliste!B68),CONCATENATE(Fuhrparkliste!B68,\" \")))))","v":""},"","",{"$f":"RIGHT(AI59,COUNT(RIGHT(AI59,COLUMN(58:58))*1))","v":""},{"$f":"IF(Fuhrparkliste!I68=\"\",\"\",Fuhrparkliste!I68)","v":""},{"$f":"IF(Fuhrparkliste!F68=\"\",\"\",IF(LEN(Fuhrparkliste!F68)=1,CONCATENATE(\"000\",Fuhrparkliste!F68),IF(LEN(Fuhrparkliste!F68)=2,CONCATENATE(\"00\",Fuhrparkliste!F68),IF(LEN(Fuhrparkliste!F68)=3,CONCATENATE(\"0\",Fuhrparkliste!F68),LEFT(Fuhrparkliste!F68,4)))))","v":""},{"$f":"IF(Fuhrparkliste!G68=\"\",\"\",IF(LEN(Fuhrparkliste!G68)=1,CONCATENATE(\"00\",Fuhrparkliste!G68),IF(LEN(Fuhrparkliste!G68)=2,CONCATENATE(\"0\",Fuhrparkliste!G68),LEFT(Fuhrparkliste!G68,3))))","v":""},{"$f":"IF(C59=\"\",\"\",IF(OR(C59=\"581\",C59=\"541\",C59=\"542\",C59=\"591\",C59=\"714\",C59=\"719\"),\"\",IF(Fuhrparkliste!C68=\"\",\"0\",Fuhrparkliste!C68)))","v":""},{"$f":"IF(C59=\"\",\"\",IF(Fuhrparkliste!Z68=\"\",\"0\",VLOOKUP(Fuhrparkliste!Z68,ELEKTROMATRIXKEY,2,FALSE)))","v":""},{"$f":"IF(Fuhrparkliste!D68=\"\",\"\",Fuhrparkliste!D68)","v":""},{"$f":"IF(Fuhrparkliste!N68=\"\",\"\",VLOOKUP(Fuhrparkliste!N68,AUFBAUMATRIXKEY,2,FALSE))","v":""},{"$f":"IF(Fuhrparkliste!T68=\"\",\"\",Fuhrparkliste!T68)","v":""},{"$f":"IF(C59=\"\",\"\",IF(AND(Fuhrparkliste!M68=\"Ja\",C59=\"112\"),\"1\",\"0\"))","v":""},{"$f":"IF(Fuhrparkliste!H68=\"\",\"\",Fuhrparkliste!H68)","v":""},{"$f":"IF(Fuhrparkliste!J68=\"\",\"\",Fuhrparkliste!J68)","v":""},{"$f":"IF(C59<>\"112\",\"\",IF(Fuhrparkliste!K68=\"Ja\",\"1\",\"0\"))","v":""},{"$f":"IF(OR(Fuhrparkliste!L68=\"\",C59<>\"127\"),\"\",VLOOKUP(Fuhrparkliste!L68,Bedachungsart,2,FALSE))","v":""},{"$f":"IF(C59=\"\",\"\",IF(AND(Fuhrparkliste!X68=\"Ja\",C59=\"112\"),\"1\",\"0\"))","v":""},{"$f":"IF(C59=\"\",\"\",IF(AND(Fuhrparkliste!Y68=\"Ja\",OR(C59=\"112\",C59=\"251\")),\"1\",\"0\"))","v":""},"",{"$f":"IF(C59=\"\",\"\",IF(AND(Fuhrparkliste!W68=\"Ja\",C59=\"112\"),\"1\",\"0\"))","v":""},{"$f":"IF(C59=\"\",\"\",IF(AND(ISERROR(SEARCH(\"0??\",tblRisiken!C59)) =TRUE,ISERROR(SEARCH(\"1??\",tblRisiken!C59)) =TRUE),\"0\",IF(AND(Fuhrparkliste!U68=\"Ja\",VLOOKUP(Werte!P59,SFMATRIXKEY,3,FALSE)=\"Ja\"),\"1\",\"0\")))","v":""},{"$f":"IF(C59=\"\",\"\",IF(OR(AF59=\"00\",LEFT(AF59,1)=\"7\"),\"0\",IF(AND(ISERROR(SEARCH(\"0??\",C59)) =TRUE,ISERROR(SEARCH(\"1??\",C59)) =TRUE),\"0\",IF(AND(Fuhrparkliste!V68=\"Ja\",X59=\"1\",VLOOKUP(Werte!Q59,SFMATRIXKEY,3,FALSE)=\"Ja\"),\"1\",\"0\"))))","v":""},{"$f":"IF(C59=\"\",\"\",IF(AND(Fuhrparkliste!AA68=\"Ja\",C59=\"112\"),\"1\",\"0\"))","v":""},{"$f":"IF(Fuhrparkliste!AB68=\"\",\"\",VLOOKUP(Fuhrparkliste!AB68,MatrixVorVU,2,FALSE))","v":""},{"$f":"IF(Fuhrparkliste!AC68=\"\",\"\",Fuhrparkliste!AC68)","v":""},{"$f":"IF(C59=\"\",\"\",IF(Fuhrparkliste!O68=\"\",\"00\",VLOOKUP(Fuhrparkliste!O68,GEFAHRGUTMATRIXKEY,2,FALSE)))","v":""},"",{"$f":"IF(C59=\"\",\"\",IF(Werte!P59=\"\",\"F1\",VLOOKUP(Fuhrparkliste!P68,SFKOMPLETT,2,FALSE)))","v":""},{"$f":"IF(C59=\"\",\"\",IF(Fuhrparkliste!S68=\"\",\"00\",VLOOKUP(Fuhrparkliste!S68,KASKOMATRIXKEY,2,FALSE)))","v":""},{"$f":"IF(C59=\"\",\"\",IF(Werte!Q59=\"\",\"F1\",VLOOKUP(Fuhrparkliste!Q68,SFKOMPLETT,2,FALSE)))","v":""},{"$f":"IF(C59=\"\",\"\",Fuhrparkliste!R68)","v":""},{"$f":"SUBSTITUTE(Fuhrparkliste!E68,\" \",\"\")","v":""}]
["",{"$f":"IF(Fuhrparkliste!B69=\"\",\"\",IF(Fuhrparkliste!B69=\"112\",\"22\",\"26\"))","v":""},{"$f":"IF(Fuhrparkliste!B69=\"\",\"\",TRIM(IF(LEN(Fuhrparkliste!B69)=1,CONCATENATE(\"00\",Fuhrparkliste!B69),IF(LEN(Fuhrparkliste!B69)=2,CONCATENATE(\"0\",Fuhrparkliste!B69),CONCATENATE(Fuhrparkliste!B69,\" \")))))","v":""},"","",{"$f":"RIGHT(AI60,COUNT(RIGHT(AI60,COLUMN(59:59))*1))","v":""},{"$f":"IF(Fuhrparkliste!I69=\"\",\"\",Fuhrparkliste!I69)","v":""},{"$f":"IF(Fuhrparkliste!F69=\"\",\"\",IF(LEN(Fuhrparkliste!F69)=1,CONCATENATE(\"000\",Fuhrparkliste!F69),IF(LEN(Fuhrparkliste!F69)=2,CONCATENATE(\"00\",Fuhrparkliste!F69),IF(LEN(Fuhrparkliste!F69)=3,CONCATENATE(\"0\",Fuhrparkliste!F69),LEFT(Fuhrparkliste!F69,4)))))","v":""},{"$f":"IF(Fuhrparkliste!G69=\"\",\"\",IF(LEN(Fuhrparkliste!G69)=1,CONCATENATE(\"00\",Fuhrparkliste!G69),IF(LEN(Fuhrparkliste!G69)=2,CONCATENATE(\"0\",Fuhrparkliste!G69),LEFT(Fuhrparkliste!G69,3))))","v":""},{"$f":"IF(C60=\"\",\"\",IF(OR(C60=\"581\",C60=\"541\",C60=\"542\",C60=\"591\",C60=\"714\",C60=\"719\"),\"\",IF(Fuhrparkliste!C69=\"\",\"0\",Fuhrparkliste!C69)))","v":""},{"$f":"IF(C60=\"\",\"\",IF(Fuhrparkliste!Z69=\"\",\"0\",VLOOKUP(Fuhrparkliste!Z69,ELEKTROMATRIXKEY,2,FALSE)))","v":""},{"$f":"IF(Fuhrparkliste!D69=\"\",\"\",Fuhrparkliste!D69)","v":""},{"$f":"IF(Fuhrparkliste!N69=\"\",\"\",VLOOKUP(Fuhrparkliste!N69,AUFBAUMATRIXKEY,2,FALSE))","v":""},{"$f":"IF(Fuhrparkliste!T69=\"\",\"\",Fuhrparkliste!T69)","v":""},{"$f":"IF(C60=\"\",\"\",IF(AND(Fuhrparkliste!M69=\"Ja\",C60=\"112\"),\"1\",\"0\"))","v":""},{"$f":"IF(Fuhrparkliste!H69=\"\",\"\",Fuhrparkliste!H69)","v":""},{"$f":"IF(Fuhrparkliste!J69=\"\",\"\",Fuhrparkliste!J69)","v":""},{"$f":"IF(C60<>\"112\",\"\",IF(Fuhrparkliste!K69=\"Ja\",\"1\",\"0\"))","v":""},{"$f":"IF(OR(Fuhrparkliste!L69=\"\",C60<>\"127\"),\"\",VLOOKUP(Fuhrparkliste!L69,Bedachungsart,2,FALSE))","v":""},{"$f":"IF(C60=\"\",\"\",IF(AND(Fuhrparkliste!X69=\"Ja\",C60=\"112\"),\"1\",\"0\"))","v":""},{"$f":"IF(C60=\"\",\"\",IF(AND(Fuhrparkliste!Y69=\"Ja\",OR(C60=\"112\",C60=\"251\")),\"1\",\"0\"))","v":""},"",{"$f":"IF(C60=\"\",\"\",IF(AND(Fuhrparkliste!W69=\"Ja\",C60=\"112\"),\"1\",\"0\"))","v":""},{"$f":"IF(C60=\"\",\"\",IF(AND(ISERROR(SEARCH(\"0??\",tblRisiken!C60)) =TRUE,ISERROR(SEARCH(\"1??\",tblRisiken!C60)) =TRUE),\"0\",IF(AND(Fuhrparkliste!U69=\"Ja\",VLOOKUP(Werte!P60,SFMATRIXKEY,3,FALSE)=\"Ja\"),\"1\",\"0\")))","v":""},{"$f":"IF(C60=\"\",\"\",IF(OR(AF60=\"00\",LEFT(AF60,1)=\"7\"),\"0\",IF(AND(ISERROR(SEARCH(\"0??\",C60)) =TRUE,ISERROR(SEARCH(\"1??\",C60)) =TRUE),\"0\",IF(AND(Fuhrparkliste!V69=\"Ja\",X60=\"1\",VLOOKUP(Werte!Q60,SFMATRIXKEY,3,FALSE)=\"Ja\"),\"1\",\"0\"))))","v":""},{"$f":"IF(C60=\"\",\"\",IF(AND(Fuhrparkliste!AA69=\"Ja\",C60=\"112\"),\"1\",\"0\"))","v":""},{"$f":"IF(Fuhrparkliste!AB69=\"\",\"\",VLOOKUP(Fuhrparkliste!AB69,MatrixVorVU,2,FALSE))","v":""},{"$f":"IF(Fuhrparkliste!AC69=\"\",\"\",Fuhrparkliste!AC69)","v":""},{"$f":"IF(C60=\"\",\"\",IF(Fuhrparkliste!O69=\"\",\"00\",VLOOKUP(Fuhrparkliste!O69,GEFAHRGUTMATRIXKEY,2,FALSE)))","v":""},"",{"$f":"IF(C60=\"\",\"\",IF(Werte!P60=\"\",\"F1\",VLOOKUP(Fuhrparkliste!P69,SFKOMPLETT,2,FALSE)))","v":""},{"$f":"IF(C60=\"\",\"\",IF(Fuhrparkliste!S69=\"\",\"00\",VLOOKUP(Fuhrparkliste!S69,KASKOMATRIXKEY,2,FALSE)))","v":""},{"$f":"IF(C60=\"\",\"\",IF(Werte!Q60=\"\",\"F1\",VLOOKUP(Fuhrparkliste!Q69,SFKOMPLETT,2,FALSE)))","v":""},{"$f":"IF(C60=\"\",\"\",Fuhrparkliste!R69)","v":""},{"$f":"SUBSTITUTE(Fuhrparkliste!E69,\" \",\"\")","v":""}]
["",{"$f":"IF(Fuhrparkliste!B70=\"\",\"\",IF(Fuhrparkliste!B70=\"112\",\"22\",\"26\"))","v":""},{"$f":"IF(Fuhrparkliste!B70=\"\",\"\",TRIM(IF(LEN(Fuhrparkliste!B70)=1,CONCATENATE(\"00\",Fuhrparkliste!B70),IF(LEN(Fuhrparkliste!B70)=2,CONCATENATE(\"0\",Fuhrparkliste!B70),CONCATENATE(Fuhrparkliste!B70,\" \")))))","v":""},"","",{"$f":"RIGHT(AI61,COUNT(RIGHT(AI61,COLUMN(60:60))*1))","v":""},{"$f":"IF(Fuhrparkliste!I70=\"\",\"\",Fuhrparkliste!I70)","v":""},{"$f":"IF(Fuhrparkliste!F70=\"\",\"\",IF(LEN(Fuhrparkliste!F70)=1,CONCATENATE(\"000\",Fuhrparkliste!F70),IF(LEN(Fuhrparkliste!F70)=2,CONCATENATE(\"00\",Fuhrparkliste!F70),IF(LEN(Fuhrparkliste!F70)=3,CONCATENATE(\"0\",Fuhrparkliste!F70),LEFT(Fuhrparkliste!F70,4)))))","v":""},{"$f":"IF(Fuhrparkliste!G70=\"\",\"\",IF(LEN(Fuhrparkliste!G70)=1,CONCATENATE(\"00\",Fuhrparkliste!G70),IF(LEN(Fuhrparkliste!G70)=2,CONCATENATE(\"0\",Fuhrparkliste!G70),LEFT(Fuhrparkliste!G70,3))))","v":""},{"$f":"IF(C61=\"\",\"\",IF(OR(C61=\"581\",C61=\"541\",C61=\"542\",C61=\"591\",C61=\"714\",C61=\"719\"),\"\",IF(Fuhrparkliste!C70=\"\",\"0\",Fuhrparkliste!C70)))","v":""},{"$f":"IF(C61=\"\",\"\",IF(Fuhrparkliste!Z70=\"\",\"0\",VLOOKUP(Fuhrparkliste!Z70,ELEKTROMATRIXKEY,2,FALSE)))","v":""},{"$f":"IF(Fuhrparkliste!D70=\"\",\"\",Fuhrparkliste!D70)","v":""},{"$f":"IF(Fuhrparkliste!N70=\"\",\"\",VLOOKUP(Fuhrparkliste!N70,AUFBAUMATRIXKEY,2,FALSE))","v":""},{"$f":"IF(Fuhrparkliste!T70=\"\",\"\",Fuhrparkliste!T70)","v":""},{"$f":"IF(C61=\"\",\"\",IF(AND(Fuhrparkliste!M70=\"Ja\",C61=\"112\"),\"1\",\"0\"))","v":""},{"$f":"IF(Fuhrparkliste!H70=\"\",\"\",Fuhrparkliste!H70)","v":""},{"$f":"IF(Fuhrparkliste!J70=\"\",\"\",Fuhrparkliste!J70)","v":""},{"$f":"IF(C61<>\"112\",\"\",IF(Fuhrparkliste!K70=\"Ja\",\"1\",\"0\"))","v":""},{"$f":"IF(OR(Fuhrparkliste!L70=\"\",C61<>\"127\"),\"\",VLOOKUP(Fuhrparkliste!L70,Bedachungsart,2,FALSE))","v":""},{"$f":"IF(C61=\"\",\"\",IF(AND(Fuhrparkliste!X70=\"Ja\",C61=\"112\"),\"1\",\"0\"))","v":""},{"$f":"IF(C61=\"\",\"\",IF(AND(Fuhrparkliste!Y70=\"Ja\",OR(C61=\"112\",C61=\"251\")),\"1\",\"0\"))","v":""},"",{"$f":"IF(C61=\"\",\"\",IF(AND(Fuhrparkliste!W70=\"Ja\",C61=\"112\"),\"1\",\"0\"))","v":""},{"$f":"IF(C61=\"\",\"\",IF(AND(ISERROR(SEARCH(\"0??\",tblRisiken!C61)) =TRUE,ISERROR(SEARCH(\"1??\",tblRisiken!C61)) =TRUE),\"0\",IF(AND(Fuhrparkliste!U70=\"Ja\",VLOOKUP(Werte!P61,SFMATRIXKEY,3,FALSE)=\"Ja\"),\"1\",\"0\")))","v":""},{"$f":"IF(C61=\"\",\"\",IF(OR(AF61=\"00\",LEFT(AF61,1)=\"7\"),\"0\",IF(AND(ISERROR(SEARCH(\"0??\",C61)) =TRUE,ISERROR(SEARCH(\"1??\",C61)) =TRUE),\"0\",IF(AND(Fuhrparkliste!V70=\"Ja\",X61=\"1\",VLOOKUP(Werte!Q61,SFMATRIXKEY,3,FALSE)=\"Ja\"),\"1\",\"0\"))))","v":""},{"$f":"IF(C61=\"\",\"\",IF(AND(Fuhrparkliste!AA70=\"Ja\",C61=\"112\"),\"1\",\"0\"))","v":""},{"$f":"IF(Fuhrparkliste!AB70=\"\",\"\",VLOOKUP(Fuhrparkliste!AB70,MatrixVorVU,2,FALSE))","v":""},{"$f":"IF(Fuhrparkliste!AC70=\"\",\"\",Fuhrparkliste!AC70)","v":""},{"$f":"IF(C61=\"\",\"\",IF(Fuhrparkliste!O70=\"\",\"00\",VLOOKUP(Fuhrparkliste!O70,GEFAHRGUTMATRIXKEY,2,FALSE)))","v":""},"",{"$f":"IF(C61=\"\",\"\",IF(Werte!P61=\"\",\"F1\",VLOOKUP(Fuhrparkliste!P70,SFKOMPLETT,2,FALSE)))","v":""},{"$f":"IF(C61=\"\",\"\",IF(Fuhrparkliste!S70=\"\",\"00\",VLOOKUP(Fuhrparkliste!S70,KASKOMATRIXKEY,2,FALSE)))","v":""},{"$f":"IF(C61=\"\",\"\",IF(Werte!Q61=\"\",\"F1\",VLOOKUP(Fuhrparkliste!Q70,SFKOMPLETT,2,FALSE)))","v":""},{"$f":"IF(C61=\"\",\"\",Fuhrparkliste!R70)","v":""},{"$f":"SUBSTITUTE(Fuhrparkliste!E70,\" \",\"\")","v":""}]
["",{"$f":"IF(Fuhrparkliste!B71=\"\",\"\",IF(Fuhrparkliste!B71=\"112\",\"22\",\"26\"))","v":""},{"$f":"IF(Fuhrparkliste!B71=\"\",\"\",TRIM(IF(LEN(Fuhrparkliste!B71)=1,CONCATENATE(\"00\",Fuhrparkliste!B71),IF(LEN(Fuhrparkliste!B71)=2,CONCATENATE(\"0\",Fuhrparkliste!B71),CONCATENATE(Fuhrparkliste!B71,\" \")))))","v":""},"","",{"$f":"RIGHT(AI62,COUNT(RIGHT(AI62,COLUMN(61:61))*1))","v":""},{"$f":"IF(Fuhrparkliste!I71=\"\",\"\",Fuhrparkliste!I71)","v":""},{"$f":"IF(Fuhrparkliste!F71=\"\",\"\",IF(LEN(Fuhrparkliste!F71)=1,CONCATENATE(\"000\",Fuhrparkliste!F71),IF(LEN(Fuhrparkliste!F71)=2,CONCATENATE(\"00\",Fuhrparkliste!F71),IF(LEN(Fuhrparkliste!F71)=3,CONCATENATE(\"0\",Fuhrparkliste!F71),LEFT(Fuhrparkliste!F71,4)))))","v":""},{"$f":"IF(Fuhrparkliste!G71=\"\",\"\",IF(LEN(Fuhrparkliste!G71)=1,CONCATENATE(\"00\",Fuhrparkliste!G71),IF(LEN(Fuhrparkliste!G71)=2,CONCATENATE(\"0\",Fuhrparkliste!G71),LEFT(Fuhrparkliste!G71,3))))","v":""},{"$f":"IF(C62=\"\",\"\",IF(OR(C62=\"581\",C62=\"541\",C62=\"542\",C62=\"591\",C62=\"714\",C62=\"719\"),\"\",IF(Fuhrparkliste!C71=\"\",\"0\",Fuhrparkliste!C71)))","v":""},{"$f":"IF(C62=\"\",\"\",IF(Fuhrparkliste!Z71=\"\",\"0\",VLOOKUP(Fuhrparkliste!Z71,ELEKTROMATRIXKEY,2,FALSE)))","v":""},{"$f":"IF(Fuhrparkliste!D71=\"\",\"\",Fuhrparkliste!D71)","v":""},{"$f":"IF(Fuhrparkliste!N71=\"\",\"\",VLOOKUP(Fuhrparkliste!N71,AUFBAUMATRIXKEY,2,FALSE))","v":""},{"$f":"IF(Fuhrparkliste!T71=\"\",\"\",Fuhrparkliste!T71)","v":""},{"$f":"IF(C62=\"\",\"\",IF(AND(Fuhrparkliste!M71=\"Ja\",C62=\"112\"),\"1\",\"0\"))","v":""},{"$f":"IF(Fuhrparkliste!H71=\"\",\"\",Fuhrparkliste!H71)","v":""},{"$f":"IF(Fuhrparkliste!J71=\"\",\"\",Fuhrparkliste!J71)","v":""},{"$f":"IF(C62<>\"112\",\"\",IF(Fuhrparkliste!K71=\"Ja\",\"1\",\"0\"))","v":""},{"$f":"IF(OR(Fuhrparkliste!L71=\"\",C62<>\"127\"),\"\",VLOOKUP(Fuhrparkliste!L71,Bedachungsart,2,FALSE))","v":""},{"$f":"IF(C62=\"\",\"\",IF(AND(Fuhrparkliste!X71=\"Ja\",C62=\"112\"),\"1\",\"0\"))","v":""},{"$f":"IF(C62=\"\",\"\",IF(AND(Fuhrparkliste!Y71=\"Ja\",OR(C62=\"112\",C62=\"251\")),\"1\",\"0\"))","v":""},"",{"$f":"IF(C62=\"\",\"\",IF(AND(Fuhrparkliste!W71=\"Ja\",C62=\"112\"),\"1\",\"0\"))","v":""},{"$f":"IF(C62=\"\",\"\",IF(AND(ISERROR(SEARCH(\"0??\",tblRisiken!C62)) =TRUE,ISERROR(SEARCH(\"1??\",tblRisiken!C62)) =TRUE),\"0\",IF(AND(Fuhrparkliste!U71=\"Ja\",VLOOKUP(Werte!P62,SFMATRIXKEY,3,FALSE)=\"Ja\"),\"1\",\"0\")))","v":""},{"$f":"IF(C62=\"\",\"\",IF(OR(AF62=\"00\",LEFT(AF62,1)=\"7\"),\"0\",IF(AND(ISERROR(SEARCH(\"0??\",C62)) =TRUE,ISERROR(SEARCH(\"1??\",C62)) =TRUE),\"0\",IF(AND(Fuhrparkliste!V71=\"Ja\",X62=\"1\",VLOOKUP(Werte!Q62,SFMATRIXKEY,3,FALSE)=\"Ja\"),\"1\",\"0\"))))","v":""},{"$f":"IF(C62=\"\",\"\",IF(AND(Fuhrparkliste!AA71=\"Ja\",C62=\"112\"),\"1\",\"0\"))","v":""},{"$f":"IF(Fuhrparkliste!AB71=\"\",\"\",VLOOKUP(Fuhrparkliste!AB71,MatrixVorVU,2,FALSE))","v":""},{"$f":"IF(Fuhrparkliste!AC71=\"\",\"\",Fuhrparkliste!AC71)","v":""},{"$f":"IF(C62=\"\",\"\",IF(Fuhrparkliste!O71=\"\",\"00\",VLOOKUP(Fuhrparkliste!O71,GEFAHRGUTMATRIXKEY,2,FALSE)))","v":""},"",{"$f":"IF(C62=\"\",\"\",IF(Werte!P62=\"\",\"F1\",VLOOKUP(Fuhrparkliste!P71,SFKOMPLETT,2,FALSE)))","v":""},{"$f":"IF(C62=\"\",\"\",IF(Fuhrparkliste!S71=\"\",\"00\",VLOOKUP(Fuhrparkliste!S71,KASKOMATRIXKEY,2,FALSE)))","v":""},{"$f":"IF(C62=\"\",\"\",IF(Werte!Q62=\"\",\"F1\",VLOOKUP(Fuhrparkliste!Q71,SFKOMPLETT,2,FALSE)))","v":""},{"$f":"IF(C62=\"\",\"\",Fuhrparkliste!R71)","v":""},{"$f":"SUBSTITUTE(Fuhrparkliste!E71,\" \",\"\")","v":""}]
["",{"$f":"IF(Fuhrparkliste!B72=\"\",\"\",IF(Fuhrparkliste!B72=\"112\",\"22\",\"26\"))","v":""},{"$f":"IF(Fuhrparkliste!B72=\"\",\"\",TRIM(IF(LEN(Fuhrparkliste!B72)=1,CONCATENATE(\"00\",Fuhrparkliste!B72),IF(LEN(Fuhrparkliste!B72)=2,CONCATENATE(\"0\",Fuhrparkliste!B72),CONCATENATE(Fuhrparkliste!B72,\" \")))))","v":""},"","",{"$f":"RIGHT(AI63,COUNT(RIGHT(AI63,COLUMN(62:62))*1))","v":""},{"$f":"IF(Fuhrparkliste!I72=\"\",\"\",Fuhrparkliste!I72)","v":""},{"$f":"IF(Fuhrparkliste!F72=\"\",\"\",IF(LEN(Fuhrparkliste!F72)=1,CONCATENATE(\"000\",Fuhrparkliste!F72),IF(LEN(Fuhrparkliste!F72)=2,CONCATENATE(\"00\",Fuhrparkliste!F72),IF(LEN(Fuhrparkliste!F72)=3,CONCATENATE(\"0\",Fuhrparkliste!F72),LEFT(Fuhrparkliste!F72,4)))))","v":""},{"$f":"IF(Fuhrparkliste!G72=\"\",\"\",IF(LEN(Fuhrparkliste!G72)=1,CONCATENATE(\"00\",Fuhrparkliste!G72),IF(LEN(Fuhrparkliste!G72)=2,CONCATENATE(\"0\",Fuhrparkliste!G72),LEFT(Fuhrparkliste!G72,3))))","v":""},{"$f":"IF(C63=\"\",\"\",IF(OR(C63=\"581\",C63=\"541\",C63=\"542\",C63=\"591\",C63=\"714\",C63=\"719\"),\"\",IF(Fuhrparkliste!C72=\"\",\"0\",Fuhrparkliste!C72)))","v":""},{"$f":"IF(C63=\"\",\"\",IF(Fuhrparkliste!Z72=\"\",\"0\",VLOOKUP(Fuhrparkliste!Z72,ELEKTROMATRIXKEY,2,FALSE)))","v":""},{"$f":"IF(Fuhrparkliste!D72=\"\",\"\",Fuhrparkliste!D72)","v":""},{"$f":"IF(Fuhrparkliste!N72=\"\",\"\",VLOOKUP(Fuhrparkliste!N72,AUFBAUMATRIXKEY,2,FALSE))","v":""},{"$f":"IF(Fuhrparkliste!T72=\"\",\"\",Fuhrparkliste!T72)","v":""},{"$f":"IF(C63=\"\",\"\",IF(AND(Fuhrparkliste!M72=\"Ja\",C63=\"112\"),\"1\",\"0\"))","v":""},{"$f":"IF(Fuhrparkliste!H72=\"\",\"\",Fuhrparkliste!H72)","v":""},{"$f":"IF(Fuhrparkliste!J72=\"\",\"\",Fuhrparkliste!J72)","v":""},{"$f":"IF(C63<>\"112\",\"\",IF(Fuhrparkliste!K72=\"Ja\",\"1\",\"0\"))","v":""},{"$f":"IF(OR(Fuhrparkliste!L72=\"\",C63<>\"127\"),\"\",VLOOKUP(Fuhrparkliste!L72,Bedachungsart,2,FALSE))","v":""},{"$f":"IF(C63=\"\",\"\",IF(AND(Fuhrparkliste!X72=\"Ja\",C63=\"112\"),\"1\",\"0\"))","v":""},{"$f":"IF(C63=\"\",\"\",IF(AND(Fuhrparkliste!Y72=\"Ja\",OR(C63=\"112\",C63=\"251\")),\"1\",\"0\"))","v":""},"",{"$f":"IF(C63=\"\",\"\",IF(AND(Fuhrparkliste!W72=\"Ja\",C63=\"112\"),\"1\",\"0\"))","v":""},{"$f":"IF(C63=\"\",\"\",IF(AND(ISERROR(SEARCH(\"0??\",tblRisiken!C63)) =TRUE,ISERROR(SEARCH(\"1??\",tblRisiken!C63)) =TRUE),\"0\",IF(AND(Fuhrparkliste!U72=\"Ja\",VLOOKUP(Werte!P63,SFMATRIXKEY,3,FALSE)=\"Ja\"),\"1\",\"0\")))","v":""},{"$f":"IF(C63=\"\",\"\",IF(OR(AF63=\"00\",LEFT(AF63,1)=\"7\"),\"0\",IF(AND(ISERROR(SEARCH(\"0??\",C63)) =TRUE,ISERROR(SEARCH(\"1??\",C63)) =TRUE),\"0\",IF(AND(Fuhrparkliste!V72=\"Ja\",X63=\"1\",VLOOKUP(Werte!Q63,SFMATRIXKEY,3,FALSE)=\"Ja\"),\"1\",\"0\"))))","v":""},{"$f":"IF(C63=\"\",\"\",IF(AND(Fuhrparkliste!AA72=\"Ja\",C63=\"112\"),\"1\",\"0\"))","v":""},{"$f":"IF(Fuhrparkliste!AB72=\"\",\"\",VLOOKUP(Fuhrparkliste!AB72,MatrixVorVU,2,FALSE))","v":""},{"$f":"IF(Fuhrparkliste!AC72=\"\",\"\",Fuhrparkliste!AC72)","v":""},{"$f":"IF(C63=\"\",\"\",IF(Fuhrparkliste!O72=\"\",\"00\",VLOOKUP(Fuhrparkliste!O72,GEFAHRGUTMATRIXKEY,2,FALSE)))","v":""},"",{"$f":"IF(C63=\"\",\"\",IF(Werte!P63=\"\",\"F1\",VLOOKUP(Fuhrparkliste!P72,SFKOMPLETT,2,FALSE)))","v":""},{"$f":"IF(C63=\"\",\"\",IF(Fuhrparkliste!S72=\"\",\"00\",VLOOKUP(Fuhrparkliste!S72,KASKOMATRIXKEY,2,FALSE)))","v":""},{"$f":"IF(C63=\"\",\"\",IF(Werte!Q63=\"\",\"F1\",VLOOKUP(Fuhrparkliste!Q72,SFKOMPLETT,2,FALSE)))","v":""},{"$f":"IF(C63=\"\",\"\",Fuhrparkliste!R72)","v":""},{"$f":"SUBSTITUTE(Fuhrparkliste!E72,\" \",\"\")","v":""}]
["",{"$f":"IF(Fuhrparkliste!B73=\"\",\"\",IF(Fuhrparkliste!B73=\"112\",\"22\",\"26\"))","v":""},{"$f":"IF(Fuhrparkliste!B73=\"\",\"\",TRIM(IF(LEN(Fuhrparkliste!B73)=1,CONCATENATE(\"00\",Fuhrparkliste!B73),IF(LEN(Fuhrparkliste!B73)=2,CONCATENATE(\"0\",Fuhrparkliste!B73),CONCATENATE(Fuhrparkliste!B73,\" \")))))","v":""},"","",{"$f":"RIGHT(AI64,COUNT(RIGHT(AI64,COLUMN(63:63))*1))","v":""},{"$f":"IF(Fuhrparkliste!I73=\"\",\"\",Fuhrparkliste!I73)","v":""},{"$f":"IF(Fuhrparkliste!F73=\"\",\"\",IF(LEN(Fuhrparkliste!F73)=1,CONCATENATE(\"000\",Fuhrparkliste!F73),IF(LEN(Fuhrparkliste!F73)=2,CONCATENATE(\"00\",Fuhrparkliste!F73),IF(LEN(Fuhrparkliste!F73)=3,CONCATENATE(\"0\",Fuhrparkliste!F73),LEFT(Fuhrparkliste!F73,4)))))","v":""},{"$f":"IF(Fuhrparkliste!G73=\"\",\"\",IF(LEN(Fuhrparkliste!G73)=1,CONCATENATE(\"00\",Fuhrparkliste!G73),IF(LEN(Fuhrparkliste!G73)=2,CONCATENATE(\"0\",Fuhrparkliste!G73),LEFT(Fuhrparkliste!G73,3))))","v":""},{"$f":"IF(C64=\"\",\"\",IF(OR(C64=\"581\",C64=\"541\",C64=\"542\",C64=\"591\",C64=\"714\",C64=\"719\"),\"\",IF(Fuhrparkliste!C73=\"\",\"0\",Fuhrparkliste!C73)))","v":""},{"$f":"IF(C64=\"\",\"\",IF(Fuhrparkliste!Z73=\"\",\"0\",VLOOKUP(Fuhrparkliste!Z73,ELEKTROMATRIXKEY,2,FALSE)))","v":""},{"$f":"IF(Fuhrparkliste!D73=\"\",\"\",Fuhrparkliste!D73)","v":""},{"$f":"IF(Fuhrparkliste!N73=\"\",\"\",VLOOKUP(Fuhrparkliste!N73,AUFBAUMATRIXKEY,2,FALSE))","v":""},{"$f":"IF(Fuhrparkliste!T73=\"\",\"\",Fuhrparkliste!T73)","v":""},{"$f":"IF(C64=\"\",\"\",IF(AND(Fuhrparkliste!M73=\"Ja\",C64=\"112\"),\"1\",\"0\"))","v":""},{"$f":"IF(Fuhrparkliste!H73=\"\",\"\",Fuhrparkliste!H73)","v":""},{"$f":"IF(Fuhrparkliste!J73=\"\",\"\",Fuhrparkliste!J73)","v":""},{"$f":"IF(C64<>\"112\",\"\",IF(Fuhrparkliste!K73=\"Ja\",\"1\",\"0\"))","v":""},{"$f":"IF(OR(Fuhrparkliste!L73=\"\",C64<>\"127\"),\"\",VLOOKUP(Fuhrparkliste!L73,Bedachungsart,2,FALSE))","v":""},{"$f":"IF(C64=\"\",\"\",IF(AND(Fuhrparkliste!X73=\"Ja\",C64=\"112\"),\"1\",\"0\"))","v":""},{"$f":"IF(C64=\"\",\"\",IF(AND(Fuhrparkliste!Y73=\"Ja\",OR(C64=\"112\",C64=\"251\")),\"1\",\"0\"))","v":""},"",{"$f":"IF(C64=\"\",\"\",IF(AND(Fuhrparkliste!W73=\"Ja\",C64=\"112\"),\"1\",\"0\"))","v":""},{"$f":"IF(C64=\"\",\"\",IF(AND(ISERROR(SEARCH(\"0??\",tblRisiken!C64)) =TRUE,ISERROR(SEARCH(\"1??\",tblRisiken!C64)) =TRUE),\"0\",IF(AND(Fuhrparkliste!U73=\"Ja\",VLOOKUP(Werte!P64,SFMATRIXKEY,3,FALSE)=\"Ja\"),\"1\",\"0\")))","v":""},{"$f":"IF(C64=\"\",\"\",IF(OR(AF64=\"00\",LEFT(AF64,1)=\"7\"),\"0\",IF(AND(ISERROR(SEARCH(\"0??\",C64)) =TRUE,ISERROR(SEARCH(\"1??\",C64)) =TRUE),\"0\",IF(AND(Fuhrparkliste!V73=\"Ja\",X64=\"1\",VLOOKUP(Werte!Q64,SFMATRIXKEY,3,FALSE)=\"Ja\"),\"1\",\"0\"))))","v":""},{"$f":"IF(C64=\"\",\"\",IF(AND(Fuhrparkliste!AA73=\"Ja\",C64=\"112\"),\"1\",\"0\"))","v":""},{"$f":"IF(Fuhrparkliste!AB73=\"\",\"\",VLOOKUP(Fuhrparkliste!AB73,MatrixVorVU,2,FALSE))","v":""},{"$f":"IF(Fuhrparkliste!AC73=\"\",\"\",Fuhrparkliste!AC73)","v":""},{"$f":"IF(C64=\"\",\"\",IF(Fuhrparkliste!O73=\"\",\"00\",VLOOKUP(Fuhrparkliste!O73,GEFAHRGUTMATRIXKEY,2,FALSE)))","v":""},"",{"$f":"IF(C64=\"\",\"\",IF(Werte!P64=\"\",\"F1\",VLOOKUP(Fuhrparkliste!P73,SFKOMPLETT,2,FALSE)))","v":""},{"$f":"IF(C64=\"\",\"\",IF(Fuhrparkliste!S73=\"\",\"00\",VLOOKUP(Fuhrparkliste!S73,KASKOMATRIXKEY,2,FALSE)))","v":""},{"$f":"IF(C64=\"\",\"\",IF(Werte!Q64=\"\",\"F1\",VLOOKUP(Fuhrparkliste!Q73,SFKOMPLETT,2,FALSE)))","v":""},{"$f":"IF(C64=\"\",\"\",Fuhrparkliste!R73)","v":""},{"$f":"SUBSTITUTE(Fuhrparkliste!E73,\" \",\"\")","v":""}]
["",{"$f":"IF(Fuhrparkliste!B74=\"\",\"\",IF(Fuhrparkliste!B74=\"112\",\"22\",\"26\"))","v":""},{"$f":"IF(Fuhrparkliste!B74=\"\",\"\",TRIM(IF(LEN(Fuhrparkliste!B74)=1,CONCATENATE(\"00\",Fuhrparkliste!B74),IF(LEN(Fuhrparkliste!B74)=2,CONCATENATE(\"0\",Fuhrparkliste!B74),CONCATENATE(Fuhrparkliste!B74,\" \")))))","v":""},"","",{"$f":"RIGHT(AI65,COUNT(RIGHT(AI65,COLUMN(64:64))*1))","v":""},{"$f":"IF(Fuhrparkliste!I74=\"\",\"\",Fuhrparkliste!I74)","v":""},{"$f":"IF(Fuhrparkliste!F74=\"\",\"\",IF(LEN(Fuhrparkliste!F74)=1,CONCATENATE(\"000\",Fuhrparkliste!F74),IF(LEN(Fuhrparkliste!F74)=2,CONCATENATE(\"00\",Fuhrparkliste!F74),IF(LEN(Fuhrparkliste!F74)=3,CONCATENATE(\"0\",Fuhrparkliste!F74),LEFT(Fuhrparkliste!F74,4)))))","v":""},{"$f":"IF(Fuhrparkliste!G74=\"\",\"\",IF(LEN(Fuhrparkliste!G74)=1,CONCATENATE(\"00\",Fuhrparkliste!G74),IF(LEN(Fuhrparkliste!G74)=2,CONCATENATE(\"0\",Fuhrparkliste!G74),LEFT(Fuhrparkliste!G74,3))))","v":""},{"$f":"IF(C65=\"\",\"\",IF(OR(C65=\"581\",C65=\"541\",C65=\"542\",C65=\"591\",C65=\"714\",C65=\"719\"),\"\",IF(Fuhrparkliste!C74=\"\",\"0\",Fuhrparkliste!C74)))","v":""},{"$f":"IF(C65=\"\",\"\",IF(Fuhrparkliste!Z74=\"\",\"0\",VLOOKUP(Fuhrparkliste!Z74,ELEKTROMATRIXKEY,2,FALSE)))","v":""},{"$f":"IF(Fuhrparkliste!D74=\"\",\"\",Fuhrparkliste!D74)","v":""},{"$f":"IF(Fuhrparkliste!N74=\"\",\"\",VLOOKUP(Fuhrparkliste!N74,AUFBAUMATRIXKEY,2,FALSE))","v":""},{"$f":"IF(Fuhrparkliste!T74=\"\",\"\",Fuhrparkliste!T74)","v":""},{"$f":"IF(C65=\"\",\"\",IF(AND(Fuhrparkliste!M74=\"Ja\",C65=\"112\"),\"1\",\"0\"))","v":""},{"$f":"IF(Fuhrparkliste!H74=\"\",\"\",Fuhrparkliste!H74)","v":""},{"$f":"IF(Fuhrparkliste!J74=\"\",\"\",Fuhrparkliste!J74)","v":""},{"$f":"IF(C65<>\"112\",\"\",IF(Fuhrparkliste!K74=\"Ja\",\"1\",\"0\"))","v":""},{"$f":"IF(OR(Fuhrparkliste!L74=\"\",C65<>\"127\"),\"\",VLOOKUP(Fuhrparkliste!L74,Bedachungsart,2,FALSE))","v":""},{"$f":"IF(C65=\"\",\"\",IF(AND(Fuhrparkliste!X74=\"Ja\",C65=\"112\"),\"1\",\"0\"))","v":""},{"$f":"IF(C65=\"\",\"\",IF(AND(Fuhrparkliste!Y74=\"Ja\",OR(C65=\"112\",C65=\"251\")),\"1\",\"0\"))","v":""},"",{"$f":"IF(C65=\"\",\"\",IF(AND(Fuhrparkliste!W74=\"Ja\",C65=\"112\"),\"1\",\"0\"))","v":""},{"$f":"IF(C65=\"\",\"\",IF(AND(ISERROR(SEARCH(\"0??\",tblRisiken!C65)) =TRUE,ISERROR(SEARCH(\"1??\",tblRisiken!C65)) =TRUE),\"0\",IF(AND(Fuhrparkliste!U74=\"Ja\",VLOOKUP(Werte!P65,SFMATRIXKEY,3,FALSE)=\"Ja\"),\"1\",\"0\")))","v":""},{"$f":"IF(C65=\"\",\"\",IF(OR(AF65=\"00\",LEFT(AF65,1)=\"7\"),\"0\",IF(AND(ISERROR(SEARCH(\"0??\",C65)) =TRUE,ISERROR(SEARCH(\"1??\",C65)) =TRUE),\"0\",IF(AND(Fuhrparkliste!V74=\"Ja\",X65=\"1\",VLOOKUP(Werte!Q65,SFMATRIXKEY,3,FALSE)=\"Ja\"),\"1\",\"0\"))))","v":""},{"$f":"IF(C65=\"\",\"\",IF(AND(Fuhrparkliste!AA74=\"Ja\",C65=\"112\"),\"1\",\"0\"))","v":""},{"$f":"IF(Fuhrparkliste!AB74=\"\",\"\",VLOOKUP(Fuhrparkliste!AB74,MatrixVorVU,2,FALSE))","v":""},{"$f":"IF(Fuhrparkliste!AC74=\"\",\"\",Fuhrparkliste!AC74)","v":""},{"$f":"IF(C65=\"\",\"\",IF(Fuhrparkliste!O74=\"\",\"00\",VLOOKUP(Fuhrparkliste!O74,GEFAHRGUTMATRIXKEY,2,FALSE)))","v":""},"",{"$f":"IF(C65=\"\",\"\",IF(Werte!P65=\"\",\"F1\",VLOOKUP(Fuhrparkliste!P74,SFKOMPLETT,2,FALSE)))","v":""},{"$f":"IF(C65=\"\",\"\",IF(Fuhrparkliste!S74=\"\",\"00\",VLOOKUP(Fuhrparkliste!S74,KASKOMATRIXKEY,2,FALSE)))","v":""},{"$f":"IF(C65=\"\",\"\",IF(Werte!Q65=\"\",\"F1\",VLOOKUP(Fuhrparkliste!Q74,SFKOMPLETT,2,FALSE)))","v":""},{"$f":"IF(C65=\"\",\"\",Fuhrparkliste!R74)","v":""},{"$f":"SUBSTITUTE(Fuhrparkliste!E74,\" \",\"\")","v":""}]
["",{"$f":"IF(Fuhrparkliste!B75=\"\",\"\",IF(Fuhrparkliste!B75=\"112\",\"22\",\"26\"))","v":""},{"$f":"IF(Fuhrparkliste!B75=\"\",\"\",TRIM(IF(LEN(Fuhrparkliste!B75)=1,CONCATENATE(\"00\",Fuhrparkliste!B75),IF(LEN(Fuhrparkliste!B75)=2,CONCATENATE(\"0\",Fuhrparkliste!B75),CONCATENATE(Fuhrparkliste!B75,\" \")))))","v":""},"",{"$f":"IF(ISERROR(MID(AI66,LEN(D66)+2,LEN(AI66)-LEN(D66)-LEN(F66)-1)),\"\",MID(AI66,LEN(D66)+2,LEN(AI66)-LEN(D66)-LEN(F66)-1))","v":""},{"$f":"RIGHT(AI66,COUNT(RIGHT(AI66,COLUMN(65:65))*1))","v":""},{"$f":"IF(Fuhrparkliste!I75=\"\",\"\",Fuhrparkliste!I75)","v":""},{"$f":"IF(Fuhrparkliste!F75=\"\",\"\",IF(LEN(Fuhrparkliste!F75)=1,CONCATENATE(\"000\",Fuhrparkliste!F75),IF(LEN(Fuhrparkliste!F75)=2,CONCATENATE(\"00\",Fuhrparkliste!F75),IF(LEN(Fuhrparkliste!F75)=3,CONCATENATE(\"0\",Fuhrparkliste!F75),LEFT(Fuhrparkliste!F75,4)))))","v":""},{"$f":"IF(Fuhrparkliste!G75=\"\",\"\",IF(LEN(Fuhrparkliste!G75)=1,CONCATENATE(\"00\",Fuhrparkliste!G75),IF(LEN(Fuhrparkliste!G75)=2,CONCATENATE(\"0\",Fuhrparkliste!G75),LEFT(Fuhrparkliste!G75,3))))","v":""},{"$f":"IF(C66=\"\",\"\",IF(OR(C66=\"581\",C66=\"541\",C66=\"542\",C66=\"591\",C66=\"714\",C66=\"719\"),\"\",IF(Fuhrparkliste!C75=\"\",\"0\",Fuhrparkliste!C75)))","v":""},{"$f":"IF(C66=\"\",\"\",IF(Fuhrparkliste!Z75=\"\",\"0\",VLOOKUP(Fuhrparkliste!Z75,ELEKTROMATRIXKEY,2,FALSE)))","v":""},{"$f":"IF(Fuhrparkliste!D75=\"\",\"\",Fuhrparkliste!D75)","v":""},{"$f":"IF(Fuhrparkliste!N75=\"\",\"\",VLOOKUP(Fuhrparkliste!N75,AUFBAUMATRIXKEY,2,FALSE))","v":""},{"$f":"IF(Fuhrparkliste!T75=\"\",\"\",Fuhrparkliste!T75)","v":""},{"$f":"IF(C66=\"\",\"\",IF(AND(Fuhrparkliste!M75=\"Ja\",C66=\"112\"),\"1\",\"0\"))","v":""},{"$f":"IF(Fuhrparkliste!H75=\"\",\"\",Fuhrparkliste!H75)","v":""},{"$f":"IF(Fuhrparkliste!J75=\"\",\"\",Fuhrparkliste!J75)","v":""},{"$f":"IF(C66<>\"112\",\"\",IF(Fuhrparkliste!K75=\"Ja\",\"1\",\"0\"))","v":""},{"$f":"IF(OR(Fuhrparkliste!L75=\"\",C66<>\"127\"),\"\",VLOOKUP(Fuhrparkliste!L75,Bedachungsart,2,FALSE))","v":""},{"$f":"IF(C66=\"\",\"\",IF(AND(Fuhrparkliste!X75=\"Ja\",C66=\"112\"),\"1\",\"0\"))","v":""},{"$f":"IF(C66=\"\",\"\",IF(AND(Fuhrparkliste!Y75=\"Ja\",OR(C66=\"112\",C66=\"251\")),\"1\",\"0\"))","v":""},"",{"$f":"IF(C66=\"\",\"\",IF(AND(Fuhrparkliste!W75=\"Ja\",C66=\"112\"),\"1\",\"0\"))","v":""},{"$f":"IF(C66=\"\",\"\",IF(AND(ISERROR(SEARCH(\"0??\",tblRisiken!C66)) =TRUE,ISERROR(SEARCH(\"1??\",tblRisiken!C66)) =TRUE),\"0\",IF(AND(Fuhrparkliste!U75=\"Ja\",VLOOKUP(Werte!P66,SFMATRIXKEY,3,FALSE)=\"Ja\"),\"1\",\"0\")))","v":""},{"$f":"IF(C66=\"\",\"\",IF(OR(AF66=\"00\",LEFT(AF66,1)=\"7\"),\"0\",IF(AND(ISERROR(SEARCH(\"0??\",C66)) =TRUE,ISERROR(SEARCH(\"1??\",C66)) =TRUE),\"0\",IF(AND(Fuhrparkliste!V75=\"Ja\",X66=\"1\",VLOOKUP(Werte!Q66,SFMATRIXKEY,3,FALSE)=\"Ja\"),\"1\",\"0\"))))","v":""},{"$f":"IF(C66=\"\",\"\",IF(AND(Fuhrparkliste!AA75=\"Ja\",C66=\"112\"),\"1\",\"0\"))","v":""},{"$f":"IF(Fuhrparkliste!AB75=\"\",\"\",VLOOKUP(Fuhrparkliste!AB75,MatrixVorVU,2,FALSE))","v":""},{"$f":"IF(Fuhrparkliste!AC75=\"\",\"\",Fuhrparkliste!AC75)","v":""},{"$f":"IF(C66=\"\",\"\",IF(Fuhrparkliste!O75=\"\",\"00\",VLOOKUP(Fuhrparkliste!O75,GEFAHRGUTMATRIXKEY,2,FALSE)))","v":""},"",{"$f":"IF(C66=\"\",\"\",IF(Werte!P66=\"\",\"F1\",VLOOKUP(Fuhrparkliste!P75,SFKOMPLETT,2,FALSE)))","v":""},{"$f":"IF(C66=\"\",\"\",IF(Fuhrparkliste!S75=\"\",\"00\",VLOOKUP(Fuhrparkliste!S75,KASKOMATRIXKEY,2,FALSE)))","v":""},{"$f":"IF(C66=\"\",\"\",IF(Werte!Q66=\"\",\"F1\",VLOOKUP(Fuhrparkliste!Q75,SFKOMPLETT,2,FALSE)))","v":""},{"$f":"IF(C66=\"\",\"\",Fuhrparkliste!R75)","v":""},{"$f":"SUBSTITUTE(Fuhrparkliste!E75,\" \",\"\")","v":""}]
["",{"$f":"IF(Fuhrparkliste!B76=\"\",\"\",IF(Fuhrparkliste!B76=\"112\",\"22\",\"26\"))","v":""},{"$f":"IF(Fuhrparkliste!B76=\"\",\"\",TRIM(IF(LEN(Fuhrparkliste!B76)=1,CONCATENATE(\"00\",Fuhrparkliste!B76),IF(LEN(Fuhrparkliste!B76)=2,CONCATENATE(\"0\",Fuhrparkliste!B76),CONCATENATE(Fuhrparkliste!B76,\" \")))))","v":""},{"$f":"IF(C67=\"\",\"\",IF(ISERROR(SEARCH(\"-\",AI67)),LEFT(AI67,15),LEFT(AI67,SEARCH(\"-\",AI67)-1)))","v":""},"",{"$f":"RIGHT(AI67,COUNT(RIGHT(AI67,COLUMN(66:66))*1))","v":""},{"$f":"IF(Fuhrparkliste!I76=\"\",\"\",Fuhrparkliste!I76)","v":""},{"$f":"IF(Fuhrparkliste!F76=\"\",\"\",IF(LEN(Fuhrparkliste!F76)=1,CONCATENATE(\"000\",Fuhrparkliste!F76),IF(LEN(Fuhrparkliste!F76)=2,CONCATENATE(\"00\",Fuhrparkliste!F76),IF(LEN(Fuhrparkliste!F76)=3,CONCATENATE(\"0\",Fuhrparkliste!F76),LEFT(Fuhrparkliste!F76,4)))))","v":""},{"$f":"IF(Fuhrparkliste!G76=\"\",\"\",IF(LEN(Fuhrparkliste!G76)=1,CONCATENATE(\"00\",Fuhrparkliste!G76),IF(LEN(Fuhrparkliste!G76)=2,CONCATENATE(\"0\",Fuhrparkliste!G76),LEFT(Fuhrparkliste!G76,3))))","v":""},{"$f":"IF(C67=\"\",\"\",IF(OR(C67=\"581\",C67=\"541\",C67=\"542\",C67=\"591\",C67=\"714\",C67=\"719\"),\"\",IF(Fuhrparkliste!C76=\"\",\"0\",Fuhrparkliste!C76)))","v":""},{"$f":"IF(C67=\"\",\"\",IF(Fuhrparkliste!Z76=\"\",\"0\",VLOOKUP(Fuhrparkliste!Z76,ELEKTROMATRIXKEY,2,FALSE)))","v":""},{"$f":"IF(Fuhrparkliste!D76=\"\",\"\",Fuhrparkliste!D76)","v":""},{"$f":"IF(Fuhrparkliste!N76=\"\",\"\",VLOOKUP(Fuhrparkliste!N76,AUFBAUMATRIXKEY,2,FALSE))","v":""},{"$f":"IF(Fuhrparkliste!T76=\"\",\"\",Fuhrparkliste!T76)","v":""},{"$f":"IF(C67=\"\",\"\",IF(AND(Fuhrparkliste!M76=\"Ja\",C67=\"112\"),\"1\",\"0\"))","v":""},{"$f":"IF(Fuhrparkliste!H76=\"\",\"\",Fuhrparkliste!H76)","v":""},{"$f":"IF(Fuhrparkliste!J76=\"\",\"\",Fuhrparkliste!J76)","v":""},{"$f":"IF(C67<>\"112\",\"\",IF(Fuhrparkliste!K76=\"Ja\",\"1\",\"0\"))","v":""},{"$f":"IF(OR(Fuhrparkliste!L76=\"\",C67<>\"127\"),\"\",VLOOKUP(Fuhrparkliste!L76,Bedachungsart,2,FALSE))","v":""},{"$f":"IF(C67=\"\",\"\",IF(AND(Fuhrparkliste!X76=\"Ja\",C67=\"112\"),\"1\",\"0\"))","v":""},{"$f":"IF(C67=\"\",\"\",IF(AND(Fuhrparkliste!Y76=\"Ja\",OR(C67=\"112\",C67=\"251\")),\"1\",\"0\"))","v":""},{"$f":"IF(C67=\"\",\"\",\"0\")","v":""},{"$f":"IF(C67=\"\",\"\",IF(AND(Fuhrparkliste!W76=\"Ja\",C67=\"112\"),\"1\",\"0\"))","v":""},{"$f":"IF(C67=\"\",\"\",IF(AND(ISERROR(SEARCH(\"0??\",tblRisiken!C67)) =TRUE,ISERROR(SEARCH(\"1??\",tblRisiken!C67)) =TRUE),\"0\",IF(AND(Fuhrparkliste!U76=\"Ja\",VLOOKUP(Werte!P67,SFMATRIXKEY,3,FALSE)=\"Ja\"),\"1\",\"0\")))","v":""},{"$f":"IF(C67=\"\",\"\",IF(OR(AF67=\"00\",LEFT(AF67,1)=\"7\"),\"0\",IF(AND(ISERROR(SEARCH(\"0??\",C67)) =TRUE,ISERROR(SEARCH(\"1??\",C67)) =TRUE),\"0\",IF(AND(Fuhrparkliste!V76=\"Ja\",X67=\"1\",VLOOKUP(Werte!Q67,SFMATRIXKEY,3,FALSE)=\"Ja\"),\"1\",\"0\"))))","v":""},{"$f":"IF(C67=\"\",\"\",IF(AND(Fuhrparkliste!AA76=\"Ja\",C67=\"112\"),\"1\",\"0\"))","v":""},{"$f":"IF(Fuhrparkliste!AB76=\"\",\"\",VLOOKUP(Fuhrparkliste!AB76,MatrixVorVU,2,FALSE))","v":""},{"$f":"IF(Fuhrparkliste!AC76=\"\",\"\",Fuhrparkliste!AC76)","v":""},{"$f":"IF(C67=\"\",\"\",IF(Fuhrparkliste!O76=\"\",\"00\",VLOOKUP(Fuhrparkliste!O76,GEFAHRGUTMATRIXKEY,2,FALSE)))","v":""},"",{"$f":"IF(C67=\"\",\"\",IF(Werte!P67=\"\",\"F1\",VLOOKUP(Fuhrparkliste!P76,SFKOMPLETT,2,FALSE)))","v":""},{"$f":"IF(C67=\"\",\"\",IF(Fuhrparkliste!S76=\"\",\"00\",VLOOKUP(Fuhrparkliste!S76,KASKOMATRIXKEY,2,FALSE)))","v":""},{"$f":"IF(C67=\"\",\"\",IF(Werte!Q67=\"\",\"F1\",VLOOKUP(Fuhrparkliste!Q76,SFKOMPLETT,2,FALSE)))","v":""},{"$f":"IF(C67=\"\",\"\",Fuhrparkliste!R76)","v":""},{"$f":"SUBSTITUTE(Fuhrparkliste!E76,\" \",\"\")","v":""}]
["",{"$f":"IF(Fuhrparkliste!B77=\"\",\"\",IF(Fuhrparkliste!B77=\"112\",\"22\",\"26\"))","v":""},{"$f":"IF(Fuhrparkliste!B77=\"\",\"\",TRIM(IF(LEN(Fuhrparkliste!B77)=1,CONCATENATE(\"00\",Fuhrparkliste!B77),IF(LEN(Fuhrparkliste!B77)=2,CONCATENATE(\"0\",Fuhrparkliste!B77),CONCATENATE(Fuhrparkliste!B77,\" \")))))","v":""},"","",{"$f":"RIGHT(AI68,COUNT(RIGHT(AI68,COLUMN(67:67))*1))","v":""},{"$f":"IF(Fuhrparkliste!I77=\"\",\"\",Fuhrparkliste!I77)","v":""},{"$f":"IF(Fuhrparkliste!F77=\"\",\"\",IF(LEN(Fuhrparkliste!F77)=1,CONCATENATE(\"000\",Fuhrparkliste!F77),IF(LEN(Fuhrparkliste!F77)=2,CONCATENATE(\"00\",Fuhrparkliste!F77),IF(LEN(Fuhrparkliste!F77)=3,CONCATENATE(\"0\",Fuhrparkliste!F77),LEFT(Fuhrparkliste!F77,4)))))","v":""},{"$f":"IF(Fuhrparkliste!G77=\"\",\"\",IF(LEN(Fuhrparkliste!G77)=1,CONCATENATE(\"00\",Fuhrparkliste!G77),IF(LEN(Fuhrparkliste!G77)=2,CONCATENATE(\"0\",Fuhrparkliste!G77),LEFT(Fuhrparkliste!G77,3))))","v":""},{"$f":"IF(C68=\"\",\"\",IF(OR(C68=\"581\",C68=\"541\",C68=\"542\",C68=\"591\",C68=\"714\",C68=\"719\"),\"\",IF(Fuhrparkliste!C77=\"\",\"0\",Fuhrparkliste!C77)))","v":""},{"$f":"IF(C68=\"\",\"\",IF(Fuhrparkliste!Z77=\"\",\"0\",VLOOKUP(Fuhrparkliste!Z77,ELEKTROMATRIXKEY,2,FALSE)))","v":""},{"$f":"IF(Fuhrparkliste!D77=\"\",\"\",Fuhrparkliste!D77)","v":""},{"$f":"IF(Fuhrparkliste!N77=\"\",\"\",VLOOKUP(Fuhrparkliste!N77,AUFBAUMATRIXKEY,2,FALSE))","v":""},{"$f":"IF(Fuhrparkliste!T77=\"\",\"\",Fuhrparkliste!T77)","v":""},{"$f":"IF(C68=\"\",\"\",IF(AND(Fuhrparkliste!M77=\"Ja\",C68=\"112\"),\"1\",\"0\"))","v":""},{"$f":"IF(Fuhrparkliste!H77=\"\",\"\",Fuhrparkliste!H77)","v":""},{"$f":"IF(Fuhrparkliste!J77=\"\",\"\",Fuhrparkliste!J77)","v":""},{"$f":"IF(C68<>\"112\",\"\",IF(Fuhrparkliste!K77=\"Ja\",\"1\",\"0\"))","v":""},{"$f":"IF(OR(Fuhrparkliste!L77=\"\",C68<>\"127\"),\"\",VLOOKUP(Fuhrparkliste!L77,Bedachungsart,2,FALSE))","v":""},{"$f":"IF(C68=\"\",\"\",IF(AND(Fuhrparkliste!X77=\"Ja\",C68=\"112\"),\"1\",\"0\"))","v":""},{"$f":"IF(C68=\"\",\"\",IF(AND(Fuhrparkliste!Y77=\"Ja\",OR(C68=\"112\",C68=\"251\")),\"1\",\"0\"))","v":""},"",{"$f":"IF(C68=\"\",\"\",IF(AND(Fuhrparkliste!W77=\"Ja\",C68=\"112\"),\"1\",\"0\"))","v":""},{"$f":"IF(C68=\"\",\"\",IF(AND(ISERROR(SEARCH(\"0??\",tblRisiken!C68)) =TRUE,ISERROR(SEARCH(\"1??\",tblRisiken!C68)) =TRUE),\"0\",IF(AND(Fuhrparkliste!U77=\"Ja\",VLOOKUP(Werte!P68,SFMATRIXKEY,3,FALSE)=\"Ja\"),\"1\",\"0\")))","v":""},{"$f":"IF(C68=\"\",\"\",IF(OR(AF68=\"00\",LEFT(AF68,1)=\"7\"),\"0\",IF(AND(ISERROR(SEARCH(\"0??\",C68)) =TRUE,ISERROR(SEARCH(\"1??\",C68)) =TRUE),\"0\",IF(AND(Fuhrparkliste!V77=\"Ja\",X68=\"1\",VLOOKUP(Werte!Q68,SFMATRIXKEY,3,FALSE)=\"Ja\"),\"1\",\"0\"))))","v":""},{"$f":"IF(C68=\"\",\"\",IF(AND(Fuhrparkliste!AA77=\"Ja\",C68=\"112\"),\"1\",\"0\"))","v":""},{"$f":"IF(Fuhrparkliste!AB77=\"\",\"\",VLOOKUP(Fuhrparkliste!AB77,MatrixVorVU,2,FALSE))","v":""},{"$f":"IF(Fuhrparkliste!AC77=\"\",\"\",Fuhrparkliste!AC77)","v":""},{"$f":"IF(C68=\"\",\"\",IF(Fuhrparkliste!O77=\"\",\"00\",VLOOKUP(Fuhrparkliste!O77,GEFAHRGUTMATRIXKEY,2,FALSE)))","v":""},"",{"$f":"IF(C68=\"\",\"\",IF(Werte!P68=\"\",\"F1\",VLOOKUP(Fuhrparkliste!P77,SFKOMPLETT,2,FALSE)))","v":""},{"$f":"IF(C68=\"\",\"\",IF(Fuhrparkliste!S77=\"\",\"00\",VLOOKUP(Fuhrparkliste!S77,KASKOMATRIXKEY,2,FALSE)))","v":""},{"$f":"IF(C68=\"\",\"\",IF(Werte!Q68=\"\",\"F1\",VLOOKUP(Fuhrparkliste!Q77,SFKOMPLETT,2,FALSE)))","v":""},{"$f":"IF(C68=\"\",\"\",Fuhrparkliste!R77)","v":""},{"$f":"SUBSTITUTE(Fuhrparkliste!E77,\" \",\"\")","v":""}]
["",{"$f":"IF(Fuhrparkliste!B78=\"\",\"\",IF(Fuhrparkliste!B78=\"112\",\"22\",\"26\"))","v":""},{"$f":"IF(Fuhrparkliste!B78=\"\",\"\",TRIM(IF(LEN(Fuhrparkliste!B78)=1,CONCATENATE(\"00\",Fuhrparkliste!B78),IF(LEN(Fuhrparkliste!B78)=2,CONCATENATE(\"0\",Fuhrparkliste!B78),CONCATENATE(Fuhrparkliste!B78,\" \")))))","v":""},"","",{"$f":"RIGHT(AI69,COUNT(RIGHT(AI69,COLUMN(68:68))*1))","v":""},{"$f":"IF(Fuhrparkliste!I78=\"\",\"\",Fuhrparkliste!I78)","v":""},{"$f":"IF(Fuhrparkliste!F78=\"\",\"\",IF(LEN(Fuhrparkliste!F78)=1,CONCATENATE(\"000\",Fuhrparkliste!F78),IF(LEN(Fuhrparkliste!F78)=2,CONCATENATE(\"00\",Fuhrparkliste!F78),IF(LEN(Fuhrparkliste!F78)=3,CONCATENATE(\"0\",Fuhrparkliste!F78),LEFT(Fuhrparkliste!F78,4)))))","v":""},{"$f":"IF(Fuhrparkliste!G78=\"\",\"\",IF(LEN(Fuhrparkliste!G78)=1,CONCATENATE(\"00\",Fuhrparkliste!G78),IF(LEN(Fuhrparkliste!G78)=2,CONCATENATE(\"0\",Fuhrparkliste!G78),LEFT(Fuhrparkliste!G78,3))))","v":""},{"$f":"IF(C69=\"\",\"\",IF(OR(C69=\"581\",C69=\"541\",C69=\"542\",C69=\"591\",C69=\"714\",C69=\"719\"),\"\",IF(Fuhrparkliste!C78=\"\",\"0\",Fuhrparkliste!C78)))","v":""},{"$f":"IF(C69=\"\",\"\",IF(Fuhrparkliste!Z78=\"\",\"0\",VLOOKUP(Fuhrparkliste!Z78,ELEKTROMATRIXKEY,2,FALSE)))","v":""},{"$f":"IF(Fuhrparkliste!D78=\"\",\"\",Fuhrparkliste!D78)","v":""},{"$f":"IF(Fuhrparkliste!N78=\"\",\"\",VLOOKUP(Fuhrparkliste!N78,AUFBAUMATRIXKEY,2,FALSE))","v":""},{"$f":"IF(Fuhrparkliste!T78=\"\",\"\",Fuhrparkliste!T78)","v":""},{"$f":"IF(C69=\"\",\"\",IF(AND(Fuhrparkliste!M78=\"Ja\",C69=\"112\"),\"1\",\"0\"))","v":""},{"$f":"IF(Fuhrparkliste!H78=\"\",\"\",Fuhrparkliste!H78)","v":""},{"$f":"IF(Fuhrparkliste!J78=\"\",\"\",Fuhrparkliste!J78)","v":""},{"$f":"IF(C69<>\"112\",\"\",IF(Fuhrparkliste!K78=\"Ja\",\"1\",\"0\"))","v":""},{"$f":"IF(OR(Fuhrparkliste!L78=\"\",C69<>\"127\"),\"\",VLOOKUP(Fuhrparkliste!L78,Bedachungsart,2,FALSE))","v":""},{"$f":"IF(C69=\"\",\"\",IF(AND(Fuhrparkliste!X78=\"Ja\",C69=\"112\"),\"1\",\"0\"))","v":""},{"$f":"IF(C69=\"\",\"\",IF(AND(Fuhrparkliste!Y78=\"Ja\",OR(C69=\"112\",C69=\"251\")),\"1\",\"0\"))","v":""},"",{"$f":"IF(C69=\"\",\"\",IF(AND(Fuhrparkliste!W78=\"Ja\",C69=\"112\"),\"1\",\"0\"))","v":""},{"$f":"IF(C69=\"\",\"\",IF(AND(ISERROR(SEARCH(\"0??\",tblRisiken!C69)) =TRUE,ISERROR(SEARCH(\"1??\",tblRisiken!C69)) =TRUE),\"0\",IF(AND(Fuhrparkliste!U78=\"Ja\",VLOOKUP(Werte!P69,SFMATRIXKEY,3,FALSE)=\"Ja\"),\"1\",\"0\")))","v":""},{"$f":"IF(C69=\"\",\"\",IF(OR(AF69=\"00\",LEFT(AF69,1)=\"7\"),\"0\",IF(AND(ISERROR(SEARCH(\"0??\",C69)) =TRUE,ISERROR(SEARCH(\"1??\",C69)) =TRUE),\"0\",IF(AND(Fuhrparkliste!V78=\"Ja\",X69=\"1\",VLOOKUP(Werte!Q69,SFMATRIXKEY,3,FALSE)=\"Ja\"),\"1\",\"0\"))))","v":""},{"$f":"IF(C69=\"\",\"\",IF(AND(Fuhrparkliste!AA78=\"Ja\",C69=\"112\"),\"1\",\"0\"))","v":""},{"$f":"IF(Fuhrparkliste!AB78=\"\",\"\",VLOOKUP(Fuhrparkliste!AB78,MatrixVorVU,2,FALSE))","v":""},{"$f":"IF(Fuhrparkliste!AC78=\"\",\"\",Fuhrparkliste!AC78)","v":""},{"$f":"IF(C69=\"\",\"\",IF(Fuhrparkliste!O78=\"\",\"00\",VLOOKUP(Fuhrparkliste!O78,GEFAHRGUTMATRIXKEY,2,FALSE)))","v":""},"",{"$f":"IF(C69=\"\",\"\",IF(Werte!P69=\"\",\"F1\",VLOOKUP(Fuhrparkliste!P78,SFKOMPLETT,2,FALSE)))","v":""},{"$f":"IF(C69=\"\",\"\",IF(Fuhrparkliste!S78=\"\",\"00\",VLOOKUP(Fuhrparkliste!S78,KASKOMATRIXKEY,2,FALSE)))","v":""},{"$f":"IF(C69=\"\",\"\",IF(Werte!Q69=\"\",\"F1\",VLOOKUP(Fuhrparkliste!Q78,SFKOMPLETT,2,FALSE)))","v":""},{"$f":"IF(C69=\"\",\"\",Fuhrparkliste!R78)","v":""},{"$f":"SUBSTITUTE(Fuhrparkliste!E78,\" \",\"\")","v":""}]
["",{"$f":"IF(Fuhrparkliste!B79=\"\",\"\",IF(Fuhrparkliste!B79=\"112\",\"22\",\"26\"))","v":""},{"$f":"IF(Fuhrparkliste!B79=\"\",\"\",TRIM(IF(LEN(Fuhrparkliste!B79)=1,CONCATENATE(\"00\",Fuhrparkliste!B79),IF(LEN(Fuhrparkliste!B79)=2,CONCATENATE(\"0\",Fuhrparkliste!B79),CONCATENATE(Fuhrparkliste!B79,\" \")))))","v":""},"","",{"$f":"RIGHT(AI70,COUNT(RIGHT(AI70,COLUMN(69:69))*1))","v":""},{"$f":"IF(Fuhrparkliste!I79=\"\",\"\",Fuhrparkliste!I79)","v":""},{"$f":"IF(Fuhrparkliste!F79=\"\",\"\",IF(LEN(Fuhrparkliste!F79)=1,CONCATENATE(\"000\",Fuhrparkliste!F79),IF(LEN(Fuhrparkliste!F79)=2,CONCATENATE(\"00\",Fuhrparkliste!F79),IF(LEN(Fuhrparkliste!F79)=3,CONCATENATE(\"0\",Fuhrparkliste!F79),LEFT(Fuhrparkliste!F79,4)))))","v":""},{"$f":"IF(Fuhrparkliste!G79=\"\",\"\",IF(LEN(Fuhrparkliste!G79)=1,CONCATENATE(\"00\",Fuhrparkliste!G79),IF(LEN(Fuhrparkliste!G79)=2,CONCATENATE(\"0\",Fuhrparkliste!G79),LEFT(Fuhrparkliste!G79,3))))","v":""},{"$f":"IF(C70=\"\",\"\",IF(OR(C70=\"581\",C70=\"541\",C70=\"542\",C70=\"591\",C70=\"714\",C70=\"719\"),\"\",IF(Fuhrparkliste!C79=\"\",\"0\",Fuhrparkliste!C79)))","v":""},{"$f":"IF(C70=\"\",\"\",IF(Fuhrparkliste!Z79=\"\",\"0\",VLOOKUP(Fuhrparkliste!Z79,ELEKTROMATRIXKEY,2,FALSE)))","v":""},{"$f":"IF(Fuhrparkliste!D79=\"\",\"\",Fuhrparkliste!D79)","v":""},{"$f":"IF(Fuhrparkliste!N79=\"\",\"\",VLOOKUP(Fuhrparkliste!N79,AUFBAUMATRIXKEY,2,FALSE))","v":""},{"$f":"IF(Fuhrparkliste!T79=\"\",\"\",Fuhrparkliste!T79)","v":""},{"$f":"IF(C70=\"\",\"\",IF(AND(Fuhrparkliste!M79=\"Ja\",C70=\"112\"),\"1\",\"0\"))","v":""},{"$f":"IF(Fuhrparkliste!H79=\"\",\"\",Fuhrparkliste!H79)","v":""},{"$f":"IF(Fuhrparkliste!J79=\"\",\"\",Fuhrparkliste!J79)","v":""},{"$f":"IF(C70<>\"112\",\"\",IF(Fuhrparkliste!K79=\"Ja\",\"1\",\"0\"))","v":""},{"$f":"IF(OR(Fuhrparkliste!L79=\"\",C70<>\"127\"),\"\",VLOOKUP(Fuhrparkliste!L79,Bedachungsart,2,FALSE))","v":""},{"$f":"IF(C70=\"\",\"\",IF(AND(Fuhrparkliste!X79=\"Ja\",C70=\"112\"),\"1\",\"0\"))","v":""},{"$f":"IF(C70=\"\",\"\",IF(AND(Fuhrparkliste!Y79=\"Ja\",OR(C70=\"112\",C70=\"251\")),\"1\",\"0\"))","v":""},"",{"$f":"IF(C70=\"\",\"\",IF(AND(Fuhrparkliste!W79=\"Ja\",C70=\"112\"),\"1\",\"0\"))","v":""},{"$f":"IF(C70=\"\",\"\",IF(AND(ISERROR(SEARCH(\"0??\",tblRisiken!C70)) =TRUE,ISERROR(SEARCH(\"1??\",tblRisiken!C70)) =TRUE),\"0\",IF(AND(Fuhrparkliste!U79=\"Ja\",VLOOKUP(Werte!P70,SFMATRIXKEY,3,FALSE)=\"Ja\"),\"1\",\"0\")))","v":""},{"$f":"IF(C70=\"\",\"\",IF(OR(AF70=\"00\",LEFT(AF70,1)=\"7\"),\"0\",IF(AND(ISERROR(SEARCH(\"0??\",C70)) =TRUE,ISERROR(SEARCH(\"1??\",C70)) =TRUE),\"0\",IF(AND(Fuhrparkliste!V79=\"Ja\",X70=\"1\",VLOOKUP(Werte!Q70,SFMATRIXKEY,3,FALSE)=\"Ja\"),\"1\",\"0\"))))","v":""},{"$f":"IF(C70=\"\",\"\",IF(AND(Fuhrparkliste!AA79=\"Ja\",C70=\"112\"),\"1\",\"0\"))","v":""},{"$f":"IF(Fuhrparkliste!AB79=\"\",\"\",VLOOKUP(Fuhrparkliste!AB79,MatrixVorVU,2,FALSE))","v":""},{"$f":"IF(Fuhrparkliste!AC79=\"\",\"\",Fuhrparkliste!AC79)","v":""},{"$f":"IF(C70=\"\",\"\",IF(Fuhrparkliste!O79=\"\",\"00\",VLOOKUP(Fuhrparkliste!O79,GEFAHRGUTMATRIXKEY,2,FALSE)))","v":""},"",{"$f":"IF(C70=\"\",\"\",IF(Werte!P70=\"\",\"F1\",VLOOKUP(Fuhrparkliste!P79,SFKOMPLETT,2,FALSE)))","v":""},{"$f":"IF(C70=\"\",\"\",IF(Fuhrparkliste!S79=\"\",\"00\",VLOOKUP(Fuhrparkliste!S79,KASKOMATRIXKEY,2,FALSE)))","v":""},{"$f":"IF(C70=\"\",\"\",IF(Werte!Q70=\"\",\"F1\",VLOOKUP(Fuhrparkliste!Q79,SFKOMPLETT,2,FALSE)))","v":""},{"$f":"IF(C70=\"\",\"\",Fuhrparkliste!R79)","v":""},{"$f":"SUBSTITUTE(Fuhrparkliste!E79,\" \",\"\")","v":""}]
["",{"$f":"IF(Fuhrparkliste!B80=\"\",\"\",IF(Fuhrparkliste!B80=\"112\",\"22\",\"26\"))","v":""},{"$f":"IF(Fuhrparkliste!B80=\"\",\"\",TRIM(IF(LEN(Fuhrparkliste!B80)=1,CONCATENATE(\"00\",Fuhrparkliste!B80),IF(LEN(Fuhrparkliste!B80)=2,CONCATENATE(\"0\",Fuhrparkliste!B80),CONCATENATE(Fuhrparkliste!B80,\" \")))))","v":""},"","",{"$f":"RIGHT(AI71,COUNT(RIGHT(AI71,COLUMN(70:70))*1))","v":""},{"$f":"IF(Fuhrparkliste!I80=\"\",\"\",Fuhrparkliste!I80)","v":""},{"$f":"IF(Fuhrparkliste!F80=\"\",\"\",IF(LEN(Fuhrparkliste!F80)=1,CONCATENATE(\"000\",Fuhrparkliste!F80),IF(LEN(Fuhrparkliste!F80)=2,CONCATENATE(\"00\",Fuhrparkliste!F80),IF(LEN(Fuhrparkliste!F80)=3,CONCATENATE(\"0\",Fuhrparkliste!F80),LEFT(Fuhrparkliste!F80,4)))))","v":""},{"$f":"IF(Fuhrparkliste!G80=\"\",\"\",IF(LEN(Fuhrparkliste!G80)=1,CONCATENATE(\"00\",Fuhrparkliste!G80),IF(LEN(Fuhrparkliste!G80)=2,CONCATENATE(\"0\",Fuhrparkliste!G80),LEFT(Fuhrparkliste!G80,3))))","v":""},{"$f":"IF(C71=\"\",\"\",IF(OR(C71=\"581\",C71=\"541\",C71=\"542\",C71=\"591\",C71=\"714\",C71=\"719\"),\"\",IF(Fuhrparkliste!C80=\"\",\"0\",Fuhrparkliste!C80)))","v":""},{"$f":"IF(C71=\"\",\"\",IF(Fuhrparkliste!Z80=\"\",\"0\",VLOOKUP(Fuhrparkliste!Z80,ELEKTROMATRIXKEY,2,FALSE)))","v":""},{"$f":"IF(Fuhrparkliste!D80=\"\",\"\",Fuhrparkliste!D80)","v":""},{"$f":"IF(Fuhrparkliste!N80=\"\",\"\",VLOOKUP(Fuhrparkliste!N80,AUFBAUMATRIXKEY,2,FALSE))","v":""},{"$f":"IF(Fuhrparkliste!T80=\"\",\"\",Fuhrparkliste!T80)","v":""},{"$f":"IF(C71=\"\",\"\",IF(AND(Fuhrparkliste!M80=\"Ja\",C71=\"112\"),\"1\",\"0\"))","v":""},{"$f":"IF(Fuhrparkliste!H80=\"\",\"\",Fuhrparkliste!H80)","v":""},{"$f":"IF(Fuhrparkliste!J80=\"\",\"\",Fuhrparkliste!J80)","v":""},{"$f":"IF(C71<>\"112\",\"\",IF(Fuhrparkliste!K80=\"Ja\",\"1\",\"0\"))","v":""},{"$f":"IF(OR(Fuhrparkliste!L80=\"\",C71<>\"127\"),\"\",VLOOKUP(Fuhrparkliste!L80,Bedachungsart,2,FALSE))","v":""},{"$f":"IF(C71=\"\",\"\",IF(AND(Fuhrparkliste!X80=\"Ja\",C71=\"112\"),\"1\",\"0\"))","v":""},{"$f":"IF(C71=\"\",\"\",IF(AND(Fuhrparkliste!Y80=\"Ja\",OR(C71=\"112\",C71=\"251\")),\"1\",\"0\"))","v":""},"",{"$f":"IF(C71=\"\",\"\",IF(AND(Fuhrparkliste!W80=\"Ja\",C71=\"112\"),\"1\",\"0\"))","v":""},{"$f":"IF(C71=\"\",\"\",IF(AND(ISERROR(SEARCH(\"0??\",tblRisiken!C71)) =TRUE,ISERROR(SEARCH(\"1??\",tblRisiken!C71)) =TRUE),\"0\",IF(AND(Fuhrparkliste!U80=\"Ja\",VLOOKUP(Werte!P71,SFMATRIXKEY,3,FALSE)=\"Ja\"),\"1\",\"0\")))","v":""},{"$f":"IF(C71=\"\",\"\",IF(OR(AF71=\"00\",LEFT(AF71,1)=\"7\"),\"0\",IF(AND(ISERROR(SEARCH(\"0??\",C71)) =TRUE,ISERROR(SEARCH(\"1??\",C71)) =TRUE),\"0\",IF(AND(Fuhrparkliste!V80=\"Ja\",X71=\"1\",VLOOKUP(Werte!Q71,SFMATRIXKEY,3,FALSE)=\"Ja\"),\"1\",\"0\"))))","v":""},{"$f":"IF(C71=\"\",\"\",IF(AND(Fuhrparkliste!AA80=\"Ja\",C71=\"112\"),\"1\",\"0\"))","v":""},{"$f":"IF(Fuhrparkliste!AB80=\"\",\"\",VLOOKUP(Fuhrparkliste!AB80,MatrixVorVU,2,FALSE))","v":""},{"$f":"IF(Fuhrparkliste!AC80=\"\",\"\",Fuhrparkliste!AC80)","v":""},{"$f":"IF(C71=\"\",\"\",IF(Fuhrparkliste!O80=\"\",\"00\",VLOOKUP(Fuhrparkliste!O80,GEFAHRGUTMATRIXKEY,2,FALSE)))","v":""},"",{"$f":"IF(C71=\"\",\"\",IF(Werte!P71=\"\",\"F1\",VLOOKUP(Fuhrparkliste!P80,SFKOMPLETT,2,FALSE)))","v":""},{"$f":"IF(C71=\"\",\"\",IF(Fuhrparkliste!S80=\"\",\"00\",VLOOKUP(Fuhrparkliste!S80,KASKOMATRIXKEY,2,FALSE)))","v":""},{"$f":"IF(C71=\"\",\"\",IF(Werte!Q71=\"\",\"F1\",VLOOKUP(Fuhrparkliste!Q80,SFKOMPLETT,2,FALSE)))","v":""},{"$f":"IF(C71=\"\",\"\",Fuhrparkliste!R80)","v":""},{"$f":"SUBSTITUTE(Fuhrparkliste!E80,\" \",\"\")","v":""}]
["",{"$f":"IF(Fuhrparkliste!B81=\"\",\"\",IF(Fuhrparkliste!B81=\"112\",\"22\",\"26\"))","v":""},{"$f":"IF(Fuhrparkliste!B81=\"\",\"\",TRIM(IF(LEN(Fuhrparkliste!B81)=1,CONCATENATE(\"00\",Fuhrparkliste!B81),IF(LEN(Fuhrparkliste!B81)=2,CONCATENATE(\"0\",Fuhrparkliste!B81),CONCATENATE(Fuhrparkliste!B81,\" \")))))","v":""},"","",{"$f":"RIGHT(AI72,COUNT(RIGHT(AI72,COLUMN(71:71))*1))","v":""},{"$f":"IF(Fuhrparkliste!I81=\"\",\"\",Fuhrparkliste!I81)","v":""},{"$f":"IF(Fuhrparkliste!F81=\"\",\"\",IF(LEN(Fuhrparkliste!F81)=1,CONCATENATE(\"000\",Fuhrparkliste!F81),IF(LEN(Fuhrparkliste!F81)=2,CONCATENATE(\"00\",Fuhrparkliste!F81),IF(LEN(Fuhrparkliste!F81)=3,CONCATENATE(\"0\",Fuhrparkliste!F81),LEFT(Fuhrparkliste!F81,4)))))","v":""},{"$f":"IF(Fuhrparkliste!G81=\"\",\"\",IF(LEN(Fuhrparkliste!G81)=1,CONCATENATE(\"00\",Fuhrparkliste!G81),IF(LEN(Fuhrparkliste!G81)=2,CONCATENATE(\"0\",Fuhrparkliste!G81),LEFT(Fuhrparkliste!G81,3))))","v":""},{"$f":"IF(C72=\"\",\"\",IF(OR(C72=\"581\",C72=\"541\",C72=\"542\",C72=\"591\",C72=\"714\",C72=\"719\"),\"\",IF(Fuhrparkliste!C81=\"\",\"0\",Fuhrparkliste!C81)))","v":""},{"$f":"IF(C72=\"\",\"\",IF(Fuhrparkliste!Z81=\"\",\"0\",VLOOKUP(Fuhrparkliste!Z81,ELEKTROMATRIXKEY,2,FALSE)))","v":""},{"$f":"IF(Fuhrparkliste!D81=\"\",\"\",Fuhrparkliste!D81)","v":""},{"$f":"IF(Fuhrparkliste!N81=\"\",\"\",VLOOKUP(Fuhrparkliste!N81,AUFBAUMATRIXKEY,2,FALSE))","v":""},{"$f":"IF(Fuhrparkliste!T81=\"\",\"\",Fuhrparkliste!T81)","v":""},{"$f":"IF(C72=\"\",\"\",IF(AND(Fuhrparkliste!M81=\"Ja\",C72=\"112\"),\"1\",\"0\"))","v":""},{"$f":"IF(Fuhrparkliste!H81=\"\",\"\",Fuhrparkliste!H81)","v":""},{"$f":"IF(Fuhrparkliste!J81=\"\",\"\",Fuhrparkliste!J81)","v":""},{"$f":"IF(C72<>\"112\",\"\",IF(Fuhrparkliste!K81=\"Ja\",\"1\",\"0\"))","v":""},{"$f":"IF(OR(Fuhrparkliste!L81=\"\",C72<>\"127\"),\"\",VLOOKUP(Fuhrparkliste!L81,Bedachungsart,2,FALSE))","v":""},{"$f":"IF(C72=\"\",\"\",IF(AND(Fuhrparkliste!X81=\"Ja\",C72=\"112\"),\"1\",\"0\"))","v":""},{"$f":"IF(C72=\"\",\"\",IF(AND(Fuhrparkliste!Y81=\"Ja\",OR(C72=\"112\",C72=\"251\")),\"1\",\"0\"))","v":""},"",{"$f":"IF(C72=\"\",\"\",IF(AND(Fuhrparkliste!W81=\"Ja\",C72=\"112\"),\"1\",\"0\"))","v":""},{"$f":"IF(C72=\"\",\"\",IF(AND(ISERROR(SEARCH(\"0??\",tblRisiken!C72)) =TRUE,ISERROR(SEARCH(\"1??\",tblRisiken!C72)) =TRUE),\"0\",IF(AND(Fuhrparkliste!U81=\"Ja\",VLOOKUP(Werte!P72,SFMATRIXKEY,3,FALSE)=\"Ja\"),\"1\",\"0\")))","v":""},{"$f":"IF(C72=\"\",\"\",IF(OR(AF72=\"00\",LEFT(AF72,1)=\"7\"),\"0\",IF(AND(ISERROR(SEARCH(\"0??\",C72)) =TRUE,ISERROR(SEARCH(\"1??\",C72)) =TRUE),\"0\",IF(AND(Fuhrparkliste!V81=\"Ja\",X72=\"1\",VLOOKUP(Werte!Q72,SFMATRIXKEY,3,FALSE)=\"Ja\"),\"1\",\"0\"))))","v":""},{"$f":"IF(C72=\"\",\"\",IF(AND(Fuhrparkliste!AA81=\"Ja\",C72=\"112\"),\"1\",\"0\"))","v":""},{"$f":"IF(Fuhrparkliste!AB81=\"\",\"\",VLOOKUP(Fuhrparkliste!AB81,MatrixVorVU,2,FALSE))","v":""},{"$f":"IF(Fuhrparkliste!AC81=\"\",\"\",Fuhrparkliste!AC81)","v":""},{"$f":"IF(C72=\"\",\"\",IF(Fuhrparkliste!O81=\"\",\"00\",VLOOKUP(Fuhrparkliste!O81,GEFAHRGUTMATRIXKEY,2,FALSE)))","v":""},"",{"$f":"IF(C72=\"\",\"\",IF(Werte!P72=\"\",\"F1\",VLOOKUP(Fuhrparkliste!P81,SFKOMPLETT,2,FALSE)))","v":""},{"$f":"IF(C72=\"\",\"\",IF(Fuhrparkliste!S81=\"\",\"00\",VLOOKUP(Fuhrparkliste!S81,KASKOMATRIXKEY,2,FALSE)))","v":""},{"$f":"IF(C72=\"\",\"\",IF(Werte!Q72=\"\",\"F1\",VLOOKUP(Fuhrparkliste!Q81,SFKOMPLETT,2,FALSE)))","v":""},{"$f":"IF(C72=\"\",\"\",Fuhrparkliste!R81)","v":""},{"$f":"SUBSTITUTE(Fuhrparkliste!E81,\" \",\"\")","v":""}]
["",{"$f":"IF(Fuhrparkliste!B82=\"\",\"\",IF(Fuhrparkliste!B82=\"112\",\"22\",\"26\"))","v":""},{"$f":"IF(Fuhrparkliste!B82=\"\",\"\",TRIM(IF(LEN(Fuhrparkliste!B82)=1,CONCATENATE(\"00\",Fuhrparkliste!B82),IF(LEN(Fuhrparkliste!B82)=2,CONCATENATE(\"0\",Fuhrparkliste!B82),CONCATENATE(Fuhrparkliste!B82,\" \")))))","v":""},"","",{"$f":"RIGHT(AI73,COUNT(RIGHT(AI73,COLUMN(72:72))*1))","v":""},{"$f":"IF(Fuhrparkliste!I82=\"\",\"\",Fuhrparkliste!I82)","v":""},{"$f":"IF(Fuhrparkliste!F82=\"\",\"\",IF(LEN(Fuhrparkliste!F82)=1,CONCATENATE(\"000\",Fuhrparkliste!F82),IF(LEN(Fuhrparkliste!F82)=2,CONCATENATE(\"00\",Fuhrparkliste!F82),IF(LEN(Fuhrparkliste!F82)=3,CONCATENATE(\"0\",Fuhrparkliste!F82),LEFT(Fuhrparkliste!F82,4)))))","v":""},{"$f":"IF(Fuhrparkliste!G82=\"\",\"\",IF(LEN(Fuhrparkliste!G82)=1,CONCATENATE(\"00\",Fuhrparkliste!G82),IF(LEN(Fuhrparkliste!G82)=2,CONCATENATE(\"0\",Fuhrparkliste!G82),LEFT(Fuhrparkliste!G82,3))))","v":""},{"$f":"IF(C73=\"\",\"\",IF(OR(C73=\"581\",C73=\"541\",C73=\"542\",C73=\"591\",C73=\"714\",C73=\"719\"),\"\",IF(Fuhrparkliste!C82=\"\",\"0\",Fuhrparkliste!C82)))","v":""},{"$f":"IF(C73=\"\",\"\",IF(Fuhrparkliste!Z82=\"\",\"0\",VLOOKUP(Fuhrparkliste!Z82,ELEKTROMATRIXKEY,2,FALSE)))","v":""},{"$f":"IF(Fuhrparkliste!D82=\"\",\"\",Fuhrparkliste!D82)","v":""},{"$f":"IF(Fuhrparkliste!N82=\"\",\"\",VLOOKUP(Fuhrparkliste!N82,AUFBAUMATRIXKEY,2,FALSE))","v":""},{"$f":"IF(Fuhrparkliste!T82=\"\",\"\",Fuhrparkliste!T82)","v":""},{"$f":"IF(C73=\"\",\"\",IF(AND(Fuhrparkliste!M82=\"Ja\",C73=\"112\"),\"1\",\"0\"))","v":""},{"$f":"IF(Fuhrparkliste!H82=\"\",\"\",Fuhrparkliste!H82)","v":""},{"$f":"IF(Fuhrparkliste!J82=\"\",\"\",Fuhrparkliste!J82)","v":""},{"$f":"IF(C73<>\"112\",\"\",IF(Fuhrparkliste!K82=\"Ja\",\"1\",\"0\"))","v":""},{"$f":"IF(OR(Fuhrparkliste!L82=\"\",C73<>\"127\"),\"\",VLOOKUP(Fuhrparkliste!L82,Bedachungsart,2,FALSE))","v":""},{"$f":"IF(C73=\"\",\"\",IF(AND(Fuhrparkliste!X82=\"Ja\",C73=\"112\"),\"1\",\"0\"))","v":""},{"$f":"IF(C73=\"\",\"\",IF(AND(Fuhrparkliste!Y82=\"Ja\",OR(C73=\"112\",C73=\"251\")),\"1\",\"0\"))","v":""},"",{"$f":"IF(C73=\"\",\"\",IF(AND(Fuhrparkliste!W82=\"Ja\",C73=\"112\"),\"1\",\"0\"))","v":""},{"$f":"IF(C73=\"\",\"\",IF(AND(ISERROR(SEARCH(\"0??\",tblRisiken!C73)) =TRUE,ISERROR(SEARCH(\"1??\",tblRisiken!C73)) =TRUE),\"0\",IF(AND(Fuhrparkliste!U82=\"Ja\",VLOOKUP(Werte!P73,SFMATRIXKEY,3,FALSE)=\"Ja\"),\"1\",\"0\")))","v":""},{"$f":"IF(C73=\"\",\"\",IF(OR(AF73=\"00\",LEFT(AF73,1)=\"7\"),\"0\",IF(AND(ISERROR(SEARCH(\"0??\",C73)) =TRUE,ISERROR(SEARCH(\"1??\",C73)) =TRUE),\"0\",IF(AND(Fuhrparkliste!V82=\"Ja\",X73=\"1\",VLOOKUP(Werte!Q73,SFMATRIXKEY,3,FALSE)=\"Ja\"),\"1\",\"0\"))))","v":""},{"$f":"IF(C73=\"\",\"\",IF(AND(Fuhrparkliste!AA82=\"Ja\",C73=\"112\"),\"1\",\"0\"))","v":""},{"$f":"IF(Fuhrparkliste!AB82=\"\",\"\",VLOOKUP(Fuhrparkliste!AB82,MatrixVorVU,2,FALSE))","v":""},{"$f":"IF(Fuhrparkliste!AC82=\"\",\"\",Fuhrparkliste!AC82)","v":""},{"$f":"IF(C73=\"\",\"\",IF(Fuhrparkliste!O82=\"\",\"00\",VLOOKUP(Fuhrparkliste!O82,GEFAHRGUTMATRIXKEY,2,FALSE)))","v":""},"",{"$f":"IF(C73=\"\",\"\",IF(Werte!P73=\"\",\"F1\",VLOOKUP(Fuhrparkliste!P82,SFKOMPLETT,2,FALSE)))","v":""},{"$f":"IF(C73=\"\",\"\",IF(Fuhrparkliste!S82=\"\",\"00\",VLOOKUP(Fuhrparkliste!S82,KASKOMATRIXKEY,2,FALSE)))","v":""},{"$f":"IF(C73=\"\",\"\",IF(Werte!Q73=\"\",\"F1\",VLOOKUP(Fuhrparkliste!Q82,SFKOMPLETT,2,FALSE)))","v":""},{"$f":"IF(C73=\"\",\"\",Fuhrparkliste!R82)","v":""},{"$f":"SUBSTITUTE(Fuhrparkliste!E82,\" \",\"\")","v":""}]
["",{"$f":"IF(Fuhrparkliste!B83=\"\",\"\",IF(Fuhrparkliste!B83=\"112\",\"22\",\"26\"))","v":""},{"$f":"IF(Fuhrparkliste!B83=\"\",\"\",TRIM(IF(LEN(Fuhrparkliste!B83)=1,CONCATENATE(\"00\",Fuhrparkliste!B83),IF(LEN(Fuhrparkliste!B83)=2,CONCATENATE(\"0\",Fuhrparkliste!B83),CONCATENATE(Fuhrparkliste!B83,\" \")))))","v":""},"","",{"$f":"RIGHT(AI74,COUNT(RIGHT(AI74,COLUMN(73:73))*1))","v":""},{"$f":"IF(Fuhrparkliste!I83=\"\",\"\",Fuhrparkliste!I83)","v":""},{"$f":"IF(Fuhrparkliste!F83=\"\",\"\",IF(LEN(Fuhrparkliste!F83)=1,CONCATENATE(\"000\",Fuhrparkliste!F83),IF(LEN(Fuhrparkliste!F83)=2,CONCATENATE(\"00\",Fuhrparkliste!F83),IF(LEN(Fuhrparkliste!F83)=3,CONCATENATE(\"0\",Fuhrparkliste!F83),LEFT(Fuhrparkliste!F83,4)))))","v":""},{"$f":"IF(Fuhrparkliste!G83=\"\",\"\",IF(LEN(Fuhrparkliste!G83)=1,CONCATENATE(\"00\",Fuhrparkliste!G83),IF(LEN(Fuhrparkliste!G83)=2,CONCATENATE(\"0\",Fuhrparkliste!G83),LEFT(Fuhrparkliste!G83,3))))","v":""},{"$f":"IF(C74=\"\",\"\",IF(OR(C74=\"581\",C74=\"541\",C74=\"542\",C74=\"591\",C74=\"714\",C74=\"719\"),\"\",IF(Fuhrparkliste!C83=\"\",\"0\",Fuhrparkliste!C83)))","v":""},{"$f":"IF(C74=\"\",\"\",IF(Fuhrparkliste!Z83=\"\",\"0\",VLOOKUP(Fuhrparkliste!Z83,ELEKTROMATRIXKEY,2,FALSE)))","v":""},{"$f":"IF(Fuhrparkliste!D83=\"\",\"\",Fuhrparkliste!D83)","v":""},{"$f":"IF(Fuhrparkliste!N83=\"\",\"\",VLOOKUP(Fuhrparkliste!N83,AUFBAUMATRIXKEY,2,FALSE))","v":""},{"$f":"IF(Fuhrparkliste!T83=\"\",\"\",Fuhrparkliste!T83)","v":""},{"$f":"IF(C74=\"\",\"\",IF(AND(Fuhrparkliste!M83=\"Ja\",C74=\"112\"),\"1\",\"0\"))","v":""},{"$f":"IF(Fuhrparkliste!H83=\"\",\"\",Fuhrparkliste!H83)","v":""},{"$f":"IF(Fuhrparkliste!J83=\"\",\"\",Fuhrparkliste!J83)","v":""},{"$f":"IF(C74<>\"112\",\"\",IF(Fuhrparkliste!K83=\"Ja\",\"1\",\"0\"))","v":""},{"$f":"IF(OR(Fuhrparkliste!L83=\"\",C74<>\"127\"),\"\",VLOOKUP(Fuhrparkliste!L83,Bedachungsart,2,FALSE))","v":""},{"$f":"IF(C74=\"\",\"\",IF(AND(Fuhrparkliste!X83=\"Ja\",C74=\"112\"),\"1\",\"0\"))","v":""},{"$f":"IF(C74=\"\",\"\",IF(AND(Fuhrparkliste!Y83=\"Ja\",OR(C74=\"112\",C74=\"251\")),\"1\",\"0\"))","v":""},"",{"$f":"IF(C74=\"\",\"\",IF(AND(Fuhrparkliste!W83=\"Ja\",C74=\"112\"),\"1\",\"0\"))","v":""},{"$f":"IF(C74=\"\",\"\",IF(AND(ISERROR(SEARCH(\"0??\",tblRisiken!C74)) =TRUE,ISERROR(SEARCH(\"1??\",tblRisiken!C74)) =TRUE),\"0\",IF(AND(Fuhrparkliste!U83=\"Ja\",VLOOKUP(Werte!P74,SFMATRIXKEY,3,FALSE)=\"Ja\"),\"1\",\"0\")))","v":""},{"$f":"IF(C74=\"\",\"\",IF(OR(AF74=\"00\",LEFT(AF74,1)=\"7\"),\"0\",IF(AND(ISERROR(SEARCH(\"0??\",C74)) =TRUE,ISERROR(SEARCH(\"1??\",C74)) =TRUE),\"0\",IF(AND(Fuhrparkliste!V83=\"Ja\",X74=\"1\",VLOOKUP(Werte!Q74,SFMATRIXKEY,3,FALSE)=\"Ja\"),\"1\",\"0\"))))","v":""},{"$f":"IF(C74=\"\",\"\",IF(AND(Fuhrparkliste!AA83=\"Ja\",C74=\"112\"),\"1\",\"0\"))","v":""},{"$f":"IF(Fuhrparkliste!AB83=\"\",\"\",VLOOKUP(Fuhrparkliste!AB83,MatrixVorVU,2,FALSE))","v":""},{"$f":"IF(Fuhrparkliste!AC83=\"\",\"\",Fuhrparkliste!AC83)","v":""},{"$f":"IF(C74=\"\",\"\",IF(Fuhrparkliste!O83=\"\",\"00\",VLOOKUP(Fuhrparkliste!O83,GEFAHRGUTMATRIXKEY,2,FALSE)))","v":""},"",{"$f":"IF(C74=\"\",\"\",IF(Werte!P74=\"\",\"F1\",VLOOKUP(Fuhrparkliste!P83,SFKOMPLETT,2,FALSE)))","v":""},{"$f":"IF(C74=\"\",\"\",IF(Fuhrparkliste!S83=\"\",\"00\",VLOOKUP(Fuhrparkliste!S83,KASKOMATRIXKEY,2,FALSE)))","v":""},{"$f":"IF(C74=\"\",\"\",IF(Werte!Q74=\"\",\"F1\",VLOOKUP(Fuhrparkliste!Q83,SFKOMPLETT,2,FALSE)))","v":""},{"$f":"IF(C74=\"\",\"\",Fuhrparkliste!R83)","v":""},{"$f":"SUBSTITUTE(Fuhrparkliste!E83,\" \",\"\")","v":""}]
["",{"$f":"IF(Fuhrparkliste!B84=\"\",\"\",IF(Fuhrparkliste!B84=\"112\",\"22\",\"26\"))","v":""},{"$f":"IF(Fuhrparkliste!B84=\"\",\"\",TRIM(IF(LEN(Fuhrparkliste!B84)=1,CONCATENATE(\"00\",Fuhrparkliste!B84),IF(LEN(Fuhrparkliste!B84)=2,CONCATENATE(\"0\",Fuhrparkliste!B84),CONCATENATE(Fuhrparkliste!B84,\" \")))))","v":""},"","",{"$f":"RIGHT(AI75,COUNT(RIGHT(AI75,COLUMN(74:74))*1))","v":""},{"$f":"IF(Fuhrparkliste!I84=\"\",\"\",Fuhrparkliste!I84)","v":""},{"$f":"IF(Fuhrparkliste!F84=\"\",\"\",IF(LEN(Fuhrparkliste!F84)=1,CONCATENATE(\"000\",Fuhrparkliste!F84),IF(LEN(Fuhrparkliste!F84)=2,CONCATENATE(\"00\",Fuhrparkliste!F84),IF(LEN(Fuhrparkliste!F84)=3,CONCATENATE(\"0\",Fuhrparkliste!F84),LEFT(Fuhrparkliste!F84,4)))))","v":""},{"$f":"IF(Fuhrparkliste!G84=\"\",\"\",IF(LEN(Fuhrparkliste!G84)=1,CONCATENATE(\"00\",Fuhrparkliste!G84),IF(LEN(Fuhrparkliste!G84)=2,CONCATENATE(\"0\",Fuhrparkliste!G84),LEFT(Fuhrparkliste!G84,3))))","v":""},{"$f":"IF(C75=\"\",\"\",IF(OR(C75=\"581\",C75=\"541\",C75=\"542\",C75=\"591\",C75=\"714\",C75=\"719\"),\"\",IF(Fuhrparkliste!C84=\"\",\"0\",Fuhrparkliste!C84)))","v":""},{"$f":"IF(C75=\"\",\"\",IF(Fuhrparkliste!Z84=\"\",\"0\",VLOOKUP(Fuhrparkliste!Z84,ELEKTROMATRIXKEY,2,FALSE)))","v":""},{"$f":"IF(Fuhrparkliste!D84=\"\",\"\",Fuhrparkliste!D84)","v":""},{"$f":"IF(Fuhrparkliste!N84=\"\",\"\",VLOOKUP(Fuhrparkliste!N84,AUFBAUMATRIXKEY,2,FALSE))","v":""},{"$f":"IF(Fuhrparkliste!T84=\"\",\"\",Fuhrparkliste!T84)","v":""},{"$f":"IF(C75=\"\",\"\",IF(AND(Fuhrparkliste!M84=\"Ja\",C75=\"112\"),\"1\",\"0\"))","v":""},{"$f":"IF(Fuhrparkliste!H84=\"\",\"\",Fuhrparkliste!H84)","v":""},{"$f":"IF(Fuhrparkliste!J84=\"\",\"\",Fuhrparkliste!J84)","v":""},{"$f":"IF(C75<>\"112\",\"\",IF(Fuhrparkliste!K84=\"Ja\",\"1\",\"0\"))","v":""},{"$f":"IF(OR(Fuhrparkliste!L84=\"\",C75<>\"127\"),\"\",VLOOKUP(Fuhrparkliste!L84,Bedachungsart,2,FALSE))","v":""},{"$f":"IF(C75=\"\",\"\",IF(AND(Fuhrparkliste!X84=\"Ja\",C75=\"112\"),\"1\",\"0\"))","v":""},{"$f":"IF(C75=\"\",\"\",IF(AND(Fuhrparkliste!Y84=\"Ja\",OR(C75=\"112\",C75=\"251\")),\"1\",\"0\"))","v":""},"",{"$f":"IF(C75=\"\",\"\",IF(AND(Fuhrparkliste!W84=\"Ja\",C75=\"112\"),\"1\",\"0\"))","v":""},{"$f":"IF(C75=\"\",\"\",IF(AND(ISERROR(SEARCH(\"0??\",tblRisiken!C75)) =TRUE,ISERROR(SEARCH(\"1??\",tblRisiken!C75)) =TRUE),\"0\",IF(AND(Fuhrparkliste!U84=\"Ja\",VLOOKUP(Werte!P75,SFMATRIXKEY,3,FALSE)=\"Ja\"),\"1\",\"0\")))","v":""},{"$f":"IF(C75=\"\",\"\",IF(OR(AF75=\"00\",LEFT(AF75,1)=\"7\"),\"0\",IF(AND(ISERROR(SEARCH(\"0??\",C75)) =TRUE,ISERROR(SEARCH(\"1??\",C75)) =TRUE),\"0\",IF(AND(Fuhrparkliste!V84=\"Ja\",X75=\"1\",VLOOKUP(Werte!Q75,SFMATRIXKEY,3,FALSE)=\"Ja\"),\"1\",\"0\"))))","v":""},{"$f":"IF(C75=\"\",\"\",IF(AND(Fuhrparkliste!AA84=\"Ja\",C75=\"112\"),\"1\",\"0\"))","v":""},{"$f":"IF(Fuhrparkliste!AB84=\"\",\"\",VLOOKUP(Fuhrparkliste!AB84,MatrixVorVU,2,FALSE))","v":""},{"$f":"IF(Fuhrparkliste!AC84=\"\",\"\",Fuhrparkliste!AC84)","v":""},{"$f":"IF(C75=\"\",\"\",IF(Fuhrparkliste!O84=\"\",\"00\",VLOOKUP(Fuhrparkliste!O84,GEFAHRGUTMATRIXKEY,2,FALSE)))","v":""},"",{"$f":"IF(C75=\"\",\"\",IF(Werte!P75=\"\",\"F1\",VLOOKUP(Fuhrparkliste!P84,SFKOMPLETT,2,FALSE)))","v":""},{"$f":"IF(C75=\"\",\"\",IF(Fuhrparkliste!S84=\"\",\"00\",VLOOKUP(Fuhrparkliste!S84,KASKOMATRIXKEY,2,FALSE)))","v":""},{"$f":"IF(C75=\"\",\"\",IF(Werte!Q75=\"\",\"F1\",VLOOKUP(Fuhrparkliste!Q84,SFKOMPLETT,2,FALSE)))","v":""},{"$f":"IF(C75=\"\",\"\",Fuhrparkliste!R84)","v":""},{"$f":"SUBSTITUTE(Fuhrparkliste!E84,\" \",\"\")","v":""}]
["",{"$f":"IF(Fuhrparkliste!B85=\"\",\"\",IF(Fuhrparkliste!B85=\"112\",\"22\",\"26\"))","v":""},{"$f":"IF(Fuhrparkliste!B85=\"\",\"\",TRIM(IF(LEN(Fuhrparkliste!B85)=1,CONCATENATE(\"00\",Fuhrparkliste!B85),IF(LEN(Fuhrparkliste!B85)=2,CONCATENATE(\"0\",Fuhrparkliste!B85),CONCATENATE(Fuhrparkliste!B85,\" \")))))","v":""},"","",{"$f":"RIGHT(AI76,COUNT(RIGHT(AI76,COLUMN(75:75))*1))","v":""},{"$f":"IF(Fuhrparkliste!I85=\"\",\"\",Fuhrparkliste!I85)","v":""},{"$f":"IF(Fuhrparkliste!F85=\"\",\"\",IF(LEN(Fuhrparkliste!F85)=1,CONCATENATE(\"000\",Fuhrparkliste!F85),IF(LEN(Fuhrparkliste!F85)=2,CONCATENATE(\"00\",Fuhrparkliste!F85),IF(LEN(Fuhrparkliste!F85)=3,CONCATENATE(\"0\",Fuhrparkliste!F85),LEFT(Fuhrparkliste!F85,4)))))","v":""},{"$f":"IF(Fuhrparkliste!G85=\"\",\"\",IF(LEN(Fuhrparkliste!G85)=1,CONCATENATE(\"00\",Fuhrparkliste!G85),IF(LEN(Fuhrparkliste!G85)=2,CONCATENATE(\"0\",Fuhrparkliste!G85),LEFT(Fuhrparkliste!G85,3))))","v":""},{"$f":"IF(C76=\"\",\"\",IF(OR(C76=\"581\",C76=\"541\",C76=\"542\",C76=\"591\",C76=\"714\",C76=\"719\"),\"\",IF(Fuhrparkliste!C85=\"\",\"0\",Fuhrparkliste!C85)))","v":""},{"$f":"IF(C76=\"\",\"\",IF(Fuhrparkliste!Z85=\"\",\"0\",VLOOKUP(Fuhrparkliste!Z85,ELEKTROMATRIXKEY,2,FALSE)))","v":""},{"$f":"IF(Fuhrparkliste!D85=\"\",\"\",Fuhrparkliste!D85)","v":""},{"$f":"IF(Fuhrparkliste!N85=\"\",\"\",VLOOKUP(Fuhrparkliste!N85,AUFBAUMATRIXKEY,2,FALSE))","v":""},{"$f":"IF(Fuhrparkliste!T85=\"\",\"\",Fuhrparkliste!T85)","v":""},{"$f":"IF(C76=\"\",\"\",IF(AND(Fuhrparkliste!M85=\"Ja\",C76=\"112\"),\"1\",\"0\"))","v":""},{"$f":"IF(Fuhrparkliste!H85=\"\",\"\",Fuhrparkliste!H85)","v":""},{"$f":"IF(Fuhrparkliste!J85=\"\",\"\",Fuhrparkliste!J85)","v":""},{"$f":"IF(C76<>\"112\",\"\",IF(Fuhrparkliste!K85=\"Ja\",\"1\",\"0\"))","v":""},{"$f":"IF(OR(Fuhrparkliste!L85=\"\",C76<>\"127\"),\"\",VLOOKUP(Fuhrparkliste!L85,Bedachungsart,2,FALSE))","v":""},{"$f":"IF(C76=\"\",\"\",IF(AND(Fuhrparkliste!X85=\"Ja\",C76=\"112\"),\"1\",\"0\"))","v":""},{"$f":"IF(C76=\"\",\"\",IF(AND(Fuhrparkliste!Y85=\"Ja\",OR(C76=\"112\",C76=\"251\")),\"1\",\"0\"))","v":""},"",{"$f":"IF(C76=\"\",\"\",IF(AND(Fuhrparkliste!W85=\"Ja\",C76=\"112\"),\"1\",\"0\"))","v":""},{"$f":"IF(C76=\"\",\"\",IF(AND(ISERROR(SEARCH(\"0??\",tblRisiken!C76)) =TRUE,ISERROR(SEARCH(\"1??\",tblRisiken!C76)) =TRUE),\"0\",IF(AND(Fuhrparkliste!U85=\"Ja\",VLOOKUP(Werte!P76,SFMATRIXKEY,3,FALSE)=\"Ja\"),\"1\",\"0\")))","v":""},{"$f":"IF(C76=\"\",\"\",IF(OR(AF76=\"00\",LEFT(AF76,1)=\"7\"),\"0\",IF(AND(ISERROR(SEARCH(\"0??\",C76)) =TRUE,ISERROR(SEARCH(\"1??\",C76)) =TRUE),\"0\",IF(AND(Fuhrparkliste!V85=\"Ja\",X76=\"1\",VLOOKUP(Werte!Q76,SFMATRIXKEY,3,FALSE)=\"Ja\"),\"1\",\"0\"))))","v":""},{"$f":"IF(C76=\"\",\"\",IF(AND(Fuhrparkliste!AA85=\"Ja\",C76=\"112\"),\"1\",\"0\"))","v":""},{"$f":"IF(Fuhrparkliste!AB85=\"\",\"\",VLOOKUP(Fuhrparkliste!AB85,MatrixVorVU,2,FALSE))","v":""},{"$f":"IF(Fuhrparkliste!AC85=\"\",\"\",Fuhrparkliste!AC85)","v":""},{"$f":"IF(C76=\"\",\"\",IF(Fuhrparkliste!O85=\"\",\"00\",VLOOKUP(Fuhrparkliste!O85,GEFAHRGUTMATRIXKEY,2,FALSE)))","v":""},"",{"$f":"IF(C76=\"\",\"\",IF(Werte!P76=\"\",\"F1\",VLOOKUP(Fuhrparkliste!P85,SFKOMPLETT,2,FALSE)))","v":""},{"$f":"IF(C76=\"\",\"\",IF(Fuhrparkliste!S85=\"\",\"00\",VLOOKUP(Fuhrparkliste!S85,KASKOMATRIXKEY,2,FALSE)))","v":""},{"$f":"IF(C76=\"\",\"\",IF(Werte!Q76=\"\",\"F1\",VLOOKUP(Fuhrparkliste!Q85,SFKOMPLETT,2,FALSE)))","v":""},{"$f":"IF(C76=\"\",\"\",Fuhrparkliste!R85)","v":""},{"$f":"SUBSTITUTE(Fuhrparkliste!E85,\" \",\"\")","v":""}]
["",{"$f":"IF(Fuhrparkliste!B86=\"\",\"\",IF(Fuhrparkliste!B86=\"112\",\"22\",\"26\"))","v":""},{"$f":"IF(Fuhrparkliste!B86=\"\",\"\",TRIM(IF(LEN(Fuhrparkliste!B86)=1,CONCATENATE(\"00\",Fuhrparkliste!B86),IF(LEN(Fuhrparkliste!B86)=2,CONCATENATE(\"0\",Fuhrparkliste!B86),CONCATENATE(Fuhrparkliste!B86,\" \")))))","v":""},"","",{"$f":"RIGHT(AI77,COUNT(RIGHT(AI77,COLUMN(76:76))*1))","v":""},{"$f":"IF(Fuhrparkliste!I86=\"\",\"\",Fuhrparkliste!I86)","v":""},{"$f":"IF(Fuhrparkliste!F86=\"\",\"\",IF(LEN(Fuhrparkliste!F86)=1,CONCATENATE(\"000\",Fuhrparkliste!F86),IF(LEN(Fuhrparkliste!F86)=2,CONCATENATE(\"00\",Fuhrparkliste!F86),IF(LEN(Fuhrparkliste!F86)=3,CONCATENATE(\"0\",Fuhrparkliste!F86),LEFT(Fuhrparkliste!F86,4)))))","v":""},{"$f":"IF(Fuhrparkliste!G86=\"\",\"\",IF(LEN(Fuhrparkliste!G86)=1,CONCATENATE(\"00\",Fuhrparkliste!G86),IF(LEN(Fuhrparkliste!G86)=2,CONCATENATE(\"0\",Fuhrparkliste!G86),LEFT(Fuhrparkliste!G86,3))))","v":""},{"$f":"IF(C77=\"\",\"\",IF(OR(C77=\"581\",C77=\"541\",C77=\"542\",C77=\"591\",C77=\"714\",C77=\"719\"),\"\",IF(Fuhrparkliste!C86=\"\",\"0\",Fuhrparkliste!C86)))","v":""},{"$f":"IF(C77=\"\",\"\",IF(Fuhrparkliste!Z86=\"\",\"0\",VLOOKUP(Fuhrparkliste!Z86,ELEKTROMATRIXKEY,2,FALSE)))","v":""},{"$f":"IF(Fuhrparkliste!D86=\"\",\"\",Fuhrparkliste!D86)","v":""},{"$f":"IF(Fuhrparkliste!N86=\"\",\"\",VLOOKUP(Fuhrparkliste!N86,AUFBAUMATRIXKEY,2,FALSE))","v":""},{"$f":"IF(Fuhrparkliste!T86=\"\",\"\",Fuhrparkliste!T86)","v":""},{"$f":"IF(C77=\"\",\"\",IF(AND(Fuhrparkliste!M86=\"Ja\",C77=\"112\"),\"1\",\"0\"))","v":""},{"$f":"IF(Fuhrparkliste!H86=\"\",\"\",Fuhrparkliste!H86)","v":""},{"$f":"IF(Fuhrparkliste!J86=\"\",\"\",Fuhrparkliste!J86)","v":""},{"$f":"IF(C77<>\"112\",\"\",IF(Fuhrparkliste!K86=\"Ja\",\"1\",\"0\"))","v":""},{"$f":"IF(OR(Fuhrparkliste!L86=\"\",C77<>\"127\"),\"\",VLOOKUP(Fuhrparkliste!L86,Bedachungsart,2,FALSE))","v":""},{"$f":"IF(C77=\"\",\"\",IF(AND(Fuhrparkliste!X86=\"Ja\",C77=\"112\"),\"1\",\"0\"))","v":""},{"$f":"IF(C77=\"\",\"\",IF(AND(Fuhrparkliste!Y86=\"Ja\",OR(C77=\"112\",C77=\"251\")),\"1\",\"0\"))","v":""},"",{"$f":"IF(C77=\"\",\"\",IF(AND(Fuhrparkliste!W86=\"Ja\",C77=\"112\"),\"1\",\"0\"))","v":""},{"$f":"IF(C77=\"\",\"\",IF(AND(ISERROR(SEARCH(\"0??\",tblRisiken!C77)) =TRUE,ISERROR(SEARCH(\"1??\",tblRisiken!C77)) =TRUE),\"0\",IF(AND(Fuhrparkliste!U86=\"Ja\",VLOOKUP(Werte!P77,SFMATRIXKEY,3,FALSE)=\"Ja\"),\"1\",\"0\")))","v":""},{"$f":"IF(C77=\"\",\"\",IF(OR(AF77=\"00\",LEFT(AF77,1)=\"7\"),\"0\",IF(AND(ISERROR(SEARCH(\"0??\",C77)) =TRUE,ISERROR(SEARCH(\"1??\",C77)) =TRUE),\"0\",IF(AND(Fuhrparkliste!V86=\"Ja\",X77=\"1\",VLOOKUP(Werte!Q77,SFMATRIXKEY,3,FALSE)=\"Ja\"),\"1\",\"0\"))))","v":""},{"$f":"IF(C77=\"\",\"\",IF(AND(Fuhrparkliste!AA86=\"Ja\",C77=\"112\"),\"1\",\"0\"))","v":""},{"$f":"IF(Fuhrparkliste!AB86=\"\",\"\",VLOOKUP(Fuhrparkliste!AB86,MatrixVorVU,2,FALSE))","v":""},{"$f":"IF(Fuhrparkliste!AC86=\"\",\"\",Fuhrparkliste!AC86)","v":""},{"$f":"IF(C77=\"\",\"\",IF(Fuhrparkliste!O86=\"\",\"00\",VLOOKUP(Fuhrparkliste!O86,GEFAHRGUTMATRIXKEY,2,FALSE)))","v":""},"",{"$f":"IF(C77=\"\",\"\",IF(Werte!P77=\"\",\"F1\",VLOOKUP(Fuhrparkliste!P86,SFKOMPLETT,2,FALSE)))","v":""},{"$f":"IF(C77=\"\",\"\",IF(Fuhrparkliste!S86=\"\",\"00\",VLOOKUP(Fuhrparkliste!S86,KASKOMATRIXKEY,2,FALSE)))","v":""},{"$f":"IF(C77=\"\",\"\",IF(Werte!Q77=\"\",\"F1\",VLOOKUP(Fuhrparkliste!Q86,SFKOMPLETT,2,FALSE)))","v":""},{"$f":"IF(C77=\"\",\"\",Fuhrparkliste!R86)","v":""},{"$f":"SUBSTITUTE(Fuhrparkliste!E86,\" \",\"\")","v":""}]
["",{"$f":"IF(Fuhrparkliste!B87=\"\",\"\",IF(Fuhrparkliste!B87=\"112\",\"22\",\"26\"))","v":""},{"$f":"IF(Fuhrparkliste!B87=\"\",\"\",TRIM(IF(LEN(Fuhrparkliste!B87)=1,CONCATENATE(\"00\",Fuhrparkliste!B87),IF(LEN(Fuhrparkliste!B87)=2,CONCATENATE(\"0\",Fuhrparkliste!B87),CONCATENATE(Fuhrparkliste!B87,\" \")))))","v":""},"","",{"$f":"RIGHT(AI78,COUNT(RIGHT(AI78,COLUMN(77:77))*1))","v":""},{"$f":"IF(Fuhrparkliste!I87=\"\",\"\",Fuhrparkliste!I87)","v":""},{"$f":"IF(Fuhrparkliste!F87=\"\",\"\",IF(LEN(Fuhrparkliste!F87)=1,CONCATENATE(\"000\",Fuhrparkliste!F87),IF(LEN(Fuhrparkliste!F87)=2,CONCATENATE(\"00\",Fuhrparkliste!F87),IF(LEN(Fuhrparkliste!F87)=3,CONCATENATE(\"0\",Fuhrparkliste!F87),LEFT(Fuhrparkliste!F87,4)))))","v":""},{"$f":"IF(Fuhrparkliste!G87=\"\",\"\",IF(LEN(Fuhrparkliste!G87)=1,CONCATENATE(\"00\",Fuhrparkliste!G87),IF(LEN(Fuhrparkliste!G87)=2,CONCATENATE(\"0\",Fuhrparkliste!G87),LEFT(Fuhrparkliste!G87,3))))","v":""},{"$f":"IF(C78=\"\",\"\",IF(OR(C78=\"581\",C78=\"541\",C78=\"542\",C78=\"591\",C78=\"714\",C78=\"719\"),\"\",IF(Fuhrparkliste!C87=\"\",\"0\",Fuhrparkliste!C87)))","v":""},{"$f":"IF(C78=\"\",\"\",IF(Fuhrparkliste!Z87=\"\",\"0\",VLOOKUP(Fuhrparkliste!Z87,ELEKTROMATRIXKEY,2,FALSE)))","v":""},{"$f":"IF(Fuhrparkliste!D87=\"\",\"\",Fuhrparkliste!D87)","v":""},{"$f":"IF(Fuhrparkliste!N87=\"\",\"\",VLOOKUP(Fuhrparkliste!N87,AUFBAUMATRIXKEY,2,FALSE))","v":""},{"$f":"IF(Fuhrparkliste!T87=\"\",\"\",Fuhrparkliste!T87)","v":""},{"$f":"IF(C78=\"\",\"\",IF(AND(Fuhrparkliste!M87=\"Ja\",C78=\"112\"),\"1\",\"0\"))","v":""},{"$f":"IF(Fuhrparkliste!H87=\"\",\"\",Fuhrparkliste!H87)","v":""},{"$f":"IF(Fuhrparkliste!J87=\"\",\"\",Fuhrparkliste!J87)","v":""},{"$f":"IF(C78<>\"112\",\"\",IF(Fuhrparkliste!K87=\"Ja\",\"1\",\"0\"))","v":""},{"$f":"IF(OR(Fuhrparkliste!L87=\"\",C78<>\"127\"),\"\",VLOOKUP(Fuhrparkliste!L87,Bedachungsart,2,FALSE))","v":""},{"$f":"IF(C78=\"\",\"\",IF(AND(Fuhrparkliste!X87=\"Ja\",C78=\"112\"),\"1\",\"0\"))","v":""},{"$f":"IF(C78=\"\",\"\",IF(AND(Fuhrparkliste!Y87=\"Ja\",OR(C78=\"112\",C78=\"251\")),\"1\",\"0\"))","v":""},"",{"$f":"IF(C78=\"\",\"\",IF(AND(Fuhrparkliste!W87=\"Ja\",C78=\"112\"),\"1\",\"0\"))","v":""},{"$f":"IF(C78=\"\",\"\",IF(AND(ISERROR(SEARCH(\"0??\",tblRisiken!C78)) =TRUE,ISERROR(SEARCH(\"1??\",tblRisiken!C78)) =TRUE),\"0\",IF(AND(Fuhrparkliste!U87=\"Ja\",VLOOKUP(Werte!P78,SFMATRIXKEY,3,FALSE)=\"Ja\"),\"1\",\"0\")))","v":""},{"$f":"IF(C78=\"\",\"\",IF(OR(AF78=\"00\",LEFT(AF78,1)=\"7\"),\"0\",IF(AND(ISERROR(SEARCH(\"0??\",C78)) =TRUE,ISERROR(SEARCH(\"1??\",C78)) =TRUE),\"0\",IF(AND(Fuhrparkliste!V87=\"Ja\",X78=\"1\",VLOOKUP(Werte!Q78,SFMATRIXKEY,3,FALSE)=\"Ja\"),\"1\",\"0\"))))","v":""},{"$f":"IF(C78=\"\",\"\",IF(AND(Fuhrparkliste!AA87=\"Ja\",C78=\"112\"),\"1\",\"0\"))","v":""},{"$f":"IF(Fuhrparkliste!AB87=\"\",\"\",VLOOKUP(Fuhrparkliste!AB87,MatrixVorVU,2,FALSE))","v":""},{"$f":"IF(Fuhrparkliste!AC87=\"\",\"\",Fuhrparkliste!AC87)","v":""},{"$f":"IF(C78=\"\",\"\",IF(Fuhrparkliste!O87=\"\",\"00\",VLOOKUP(Fuhrparkliste!O87,GEFAHRGUTMATRIXKEY,2,FALSE)))","v":""},"",{"$f":"IF(C78=\"\",\"\",IF(Werte!P78=\"\",\"F1\",VLOOKUP(Fuhrparkliste!P87,SFKOMPLETT,2,FALSE)))","v":""},{"$f":"IF(C78=\"\",\"\",IF(Fuhrparkliste!S87=\"\",\"00\",VLOOKUP(Fuhrparkliste!S87,KASKOMATRIXKEY,2,FALSE)))","v":""},{"$f":"IF(C78=\"\",\"\",IF(Werte!Q78=\"\",\"F1\",VLOOKUP(Fuhrparkliste!Q87,SFKOMPLETT,2,FALSE)))","v":""},{"$f":"IF(C78=\"\",\"\",Fuhrparkliste!R87)","v":""},{"$f":"SUBSTITUTE(Fuhrparkliste!E87,\" \",\"\")","v":""}]
["",{"$f":"IF(Fuhrparkliste!B88=\"\",\"\",IF(Fuhrparkliste!B88=\"112\",\"22\",\"26\"))","v":""},{"$f":"IF(Fuhrparkliste!B88=\"\",\"\",TRIM(IF(LEN(Fuhrparkliste!B88)=1,CONCATENATE(\"00\",Fuhrparkliste!B88),IF(LEN(Fuhrparkliste!B88)=2,CONCATENATE(\"0\",Fuhrparkliste!B88),CONCATENATE(Fuhrparkliste!B88,\" \")))))","v":""},"","",{"$f":"RIGHT(AI79,COUNT(RIGHT(AI79,COLUMN(78:78))*1))","v":""},{"$f":"IF(Fuhrparkliste!I88=\"\",\"\",Fuhrparkliste!I88)","v":""},{"$f":"IF(Fuhrparkliste!F88=\"\",\"\",IF(LEN(Fuhrparkliste!F88)=1,CONCATENATE(\"000\",Fuhrparkliste!F88),IF(LEN(Fuhrparkliste!F88)=2,CONCATENATE(\"00\",Fuhrparkliste!F88),IF(LEN(Fuhrparkliste!F88)=3,CONCATENATE(\"0\",Fuhrparkliste!F88),LEFT(Fuhrparkliste!F88,4)))))","v":""},{"$f":"IF(Fuhrparkliste!G88=\"\",\"\",IF(LEN(Fuhrparkliste!G88)=1,CONCATENATE(\"00\",Fuhrparkliste!G88),IF(LEN(Fuhrparkliste!G88)=2,CONCATENATE(\"0\",Fuhrparkliste!G88),LEFT(Fuhrparkliste!G88,3))))","v":""},{"$f":"IF(C79=\"\",\"\",IF(OR(C79=\"581\",C79=\"541\",C79=\"542\",C79=\"591\",C79=\"714\",C79=\"719\"),\"\",IF(Fuhrparkliste!C88=\"\",\"0\",Fuhrparkliste!C88)))","v":""},{"$f":"IF(C79=\"\",\"\",IF(Fuhrparkliste!Z88=\"\",\"0\",VLOOKUP(Fuhrparkliste!Z88,ELEKTROMATRIXKEY,2,FALSE)))","v":""},{"$f":"IF(Fuhrparkliste!D88=\"\",\"\",Fuhrparkliste!D88)","v":""},{"$f":"IF(Fuhrparkliste!N88=\"\",\"\",VLOOKUP(Fuhrparkliste!N88,AUFBAUMATRIXKEY,2,FALSE))","v":""},{"$f":"IF(Fuhrparkliste!T88=\"\",\"\",Fuhrparkliste!T88)","v":""},{"$f":"IF(C79=\"\",\"\",IF(AND(Fuhrparkliste!M88=\"Ja\",C79=\"112\"),\"1\",\"0\"))","v":""},{"$f":"IF(Fuhrparkliste!H88=\"\",\"\",Fuhrparkliste!H88)","v":""},{"$f":"IF(Fuhrparkliste!J88=\"\",\"\",Fuhrparkliste!J88)","v":""},{"$f":"IF(C79<>\"112\",\"\",IF(Fuhrparkliste!K88=\"Ja\",\"1\",\"0\"))","v":""},{"$f":"IF(OR(Fuhrparkliste!L88=\"\",C79<>\"127\"),\"\",VLOOKUP(Fuhrparkliste!L88,Bedachungsart,2,FALSE))","v":""},{"$f":"IF(C79=\"\",\"\",IF(AND(Fuhrparkliste!X88=\"Ja\",C79=\"112\"),\"1\",\"0\"))","v":""},{"$f":"IF(C79=\"\",\"\",IF(AND(Fuhrparkliste!Y88=\"Ja\",OR(C79=\"112\",C79=\"251\")),\"1\",\"0\"))","v":""},"",{"$f":"IF(C79=\"\",\"\",IF(AND(Fuhrparkliste!W88=\"Ja\",C79=\"112\"),\"1\",\"0\"))","v":""},{"$f":"IF(C79=\"\",\"\",IF(AND(ISERROR(SEARCH(\"0??\",tblRisiken!C79)) =TRUE,ISERROR(SEARCH(\"1??\",tblRisiken!C79)) =TRUE),\"0\",IF(AND(Fuhrparkliste!U88=\"Ja\",VLOOKUP(Werte!P79,SFMATRIXKEY,3,FALSE)=\"Ja\"),\"1\",\"0\")))","v":""},{"$f":"IF(C79=\"\",\"\",IF(OR(AF79=\"00\",LEFT(AF79,1)=\"7\"),\"0\",IF(AND(ISERROR(SEARCH(\"0??\",C79)) =TRUE,ISERROR(SEARCH(\"1??\",C79)) =TRUE),\"0\",IF(AND(Fuhrparkliste!V88=\"Ja\",X79=\"1\",VLOOKUP(Werte!Q79,SFMATRIXKEY,3,FALSE)=\"Ja\"),\"1\",\"0\"))))","v":""},{"$f":"IF(C79=\"\",\"\",IF(AND(Fuhrparkliste!AA88=\"Ja\",C79=\"112\"),\"1\",\"0\"))","v":""},{"$f":"IF(Fuhrparkliste!AB88=\"\",\"\",VLOOKUP(Fuhrparkliste!AB88,MatrixVorVU,2,FALSE))","v":""},{"$f":"IF(Fuhrparkliste!AC88=\"\",\"\",Fuhrparkliste!AC88)","v":""},{"$f":"IF(C79=\"\",\"\",IF(Fuhrparkliste!O88=\"\",\"00\",VLOOKUP(Fuhrparkliste!O88,GEFAHRGUTMATRIXKEY,2,FALSE)))","v":""},"",{"$f":"IF(C79=\"\",\"\",IF(Werte!P79=\"\",\"F1\",VLOOKUP(Fuhrparkliste!P88,SFKOMPLETT,2,FALSE)))","v":""},{"$f":"IF(C79=\"\",\"\",IF(Fuhrparkliste!S88=\"\",\"00\",VLOOKUP(Fuhrparkliste!S88,KASKOMATRIXKEY,2,FALSE)))","v":""},{"$f":"IF(C79=\"\",\"\",IF(Werte!Q79=\"\",\"F1\",VLOOKUP(Fuhrparkliste!Q88,SFKOMPLETT,2,FALSE)))","v":""},{"$f":"IF(C79=\"\",\"\",Fuhrparkliste!R88)","v":""},{"$f":"SUBSTITUTE(Fuhrparkliste!E88,\" \",\"\")","v":""}]
["",{"$f":"IF(Fuhrparkliste!B89=\"\",\"\",IF(Fuhrparkliste!B89=\"112\",\"22\",\"26\"))","v":""},{"$f":"IF(Fuhrparkliste!B89=\"\",\"\",TRIM(IF(LEN(Fuhrparkliste!B89)=1,CONCATENATE(\"00\",Fuhrparkliste!B89),IF(LEN(Fuhrparkliste!B89)=2,CONCATENATE(\"0\",Fuhrparkliste!B89),CONCATENATE(Fuhrparkliste!B89,\" \")))))","v":""},"","",{"$f":"RIGHT(AI80,COUNT(RIGHT(AI80,COLUMN(79:79))*1))","v":""},{"$f":"IF(Fuhrparkliste!I89=\"\",\"\",Fuhrparkliste!I89)","v":""},{"$f":"IF(Fuhrparkliste!F89=\"\",\"\",IF(LEN(Fuhrparkliste!F89)=1,CONCATENATE(\"000\",Fuhrparkliste!F89),IF(LEN(Fuhrparkliste!F89)=2,CONCATENATE(\"00\",Fuhrparkliste!F89),IF(LEN(Fuhrparkliste!F89)=3,CONCATENATE(\"0\",Fuhrparkliste!F89),LEFT(Fuhrparkliste!F89,4)))))","v":""},{"$f":"IF(Fuhrparkliste!G89=\"\",\"\",IF(LEN(Fuhrparkliste!G89)=1,CONCATENATE(\"00\",Fuhrparkliste!G89),IF(LEN(Fuhrparkliste!G89)=2,CONCATENATE(\"0\",Fuhrparkliste!G89),LEFT(Fuhrparkliste!G89,3))))","v":""},{"$f":"IF(C80=\"\",\"\",IF(OR(C80=\"581\",C80=\"541\",C80=\"542\",C80=\"591\",C80=\"714\",C80=\"719\"),\"\",IF(Fuhrparkliste!C89=\"\",\"0\",Fuhrparkliste!C89)))","v":""},{"$f":"IF(C80=\"\",\"\",IF(Fuhrparkliste!Z89=\"\",\"0\",VLOOKUP(Fuhrparkliste!Z89,ELEKTROMATRIXKEY,2,FALSE)))","v":""},{"$f":"IF(Fuhrparkliste!D89=\"\",\"\",Fuhrparkliste!D89)","v":""},{"$f":"IF(Fuhrparkliste!N89=\"\",\"\",VLOOKUP(Fuhrparkliste!N89,AUFBAUMATRIXKEY,2,FALSE))","v":""},{"$f":"IF(Fuhrparkliste!T89=\"\",\"\",Fuhrparkliste!T89)","v":""},{"$f":"IF(C80=\"\",\"\",IF(AND(Fuhrparkliste!M89=\"Ja\",C80=\"112\"),\"1\",\"0\"))","v":""},{"$f":"IF(Fuhrparkliste!H89=\"\",\"\",Fuhrparkliste!H89)","v":""},{"$f":"IF(Fuhrparkliste!J89=\"\",\"\",Fuhrparkliste!J89)","v":""},{"$f":"IF(C80<>\"112\",\"\",IF(Fuhrparkliste!K89=\"Ja\",\"1\",\"0\"))","v":""},{"$f":"IF(OR(Fuhrparkliste!L89=\"\",C80<>\"127\"),\"\",VLOOKUP(Fuhrparkliste!L89,Bedachungsart,2,FALSE))","v":""},{"$f":"IF(C80=\"\",\"\",IF(AND(Fuhrparkliste!X89=\"Ja\",C80=\"112\"),\"1\",\"0\"))","v":""},{"$f":"IF(C80=\"\",\"\",IF(AND(Fuhrparkliste!Y89=\"Ja\",OR(C80=\"112\",C80=\"251\")),\"1\",\"0\"))","v":""},"",{"$f":"IF(C80=\"\",\"\",IF(AND(Fuhrparkliste!W89=\"Ja\",C80=\"112\"),\"1\",\"0\"))","v":""},{"$f":"IF(C80=\"\",\"\",IF(AND(ISERROR(SEARCH(\"0??\",tblRisiken!C80)) =TRUE,ISERROR(SEARCH(\"1??\",tblRisiken!C80)) =TRUE),\"0\",IF(AND(Fuhrparkliste!U89=\"Ja\",VLOOKUP(Werte!P80,SFMATRIXKEY,3,FALSE)=\"Ja\"),\"1\",\"0\")))","v":""},{"$f":"IF(C80=\"\",\"\",IF(OR(AF80=\"00\",LEFT(AF80,1)=\"7\"),\"0\",IF(AND(ISERROR(SEARCH(\"0??\",C80)) =TRUE,ISERROR(SEARCH(\"1??\",C80)) =TRUE),\"0\",IF(AND(Fuhrparkliste!V89=\"Ja\",X80=\"1\",VLOOKUP(Werte!Q80,SFMATRIXKEY,3,FALSE)=\"Ja\"),\"1\",\"0\"))))","v":""},{"$f":"IF(C80=\"\",\"\",IF(AND(Fuhrparkliste!AA89=\"Ja\",C80=\"112\"),\"1\",\"0\"))","v":""},{"$f":"IF(Fuhrparkliste!AB89=\"\",\"\",VLOOKUP(Fuhrparkliste!AB89,MatrixVorVU,2,FALSE))","v":""},{"$f":"IF(Fuhrparkliste!AC89=\"\",\"\",Fuhrparkliste!AC89)","v":""},{"$f":"IF(C80=\"\",\"\",IF(Fuhrparkliste!O89=\"\",\"00\",VLOOKUP(Fuhrparkliste!O89,GEFAHRGUTMATRIXKEY,2,FALSE)))","v":""},"",{"$f":"IF(C80=\"\",\"\",IF(Werte!P80=\"\",\"F1\",VLOOKUP(Fuhrparkliste!P89,SFKOMPLETT,2,FALSE)))","v":""},{"$f":"IF(C80=\"\",\"\",IF(Fuhrparkliste!S89=\"\",\"00\",VLOOKUP(Fuhrparkliste!S89,KASKOMATRIXKEY,2,FALSE)))","v":""},{"$f":"IF(C80=\"\",\"\",IF(Werte!Q80=\"\",\"F1\",VLOOKUP(Fuhrparkliste!Q89,SFKOMPLETT,2,FALSE)))","v":""},{"$f":"IF(C80=\"\",\"\",Fuhrparkliste!R89)","v":""},{"$f":"SUBSTITUTE(Fuhrparkliste!E89,\" \",\"\")","v":""}]
["",{"$f":"IF(Fuhrparkliste!B90=\"\",\"\",IF(Fuhrparkliste!B90=\"112\",\"22\",\"26\"))","v":""},{"$f":"IF(Fuhrparkliste!B90=\"\",\"\",TRIM(IF(LEN(Fuhrparkliste!B90)=1,CONCATENATE(\"00\",Fuhrparkliste!B90),IF(LEN(Fuhrparkliste!B90)=2,CONCATENATE(\"0\",Fuhrparkliste!B90),CONCATENATE(Fuhrparkliste!B90,\" \")))))","v":""},"","",{"$f":"RIGHT(AI81,COUNT(RIGHT(AI81,COLUMN(80:80))*1))","v":""},{"$f":"IF(Fuhrparkliste!I90=\"\",\"\",Fuhrparkliste!I90)","v":""},{"$f":"IF(Fuhrparkliste!F90=\"\",\"\",IF(LEN(Fuhrparkliste!F90)=1,CONCATENATE(\"000\",Fuhrparkliste!F90),IF(LEN(Fuhrparkliste!F90)=2,CONCATENATE(\"00\",Fuhrparkliste!F90),IF(LEN(Fuhrparkliste!F90)=3,CONCATENATE(\"0\",Fuhrparkliste!F90),LEFT(Fuhrparkliste!F90,4)))))","v":""},{"$f":"IF(Fuhrparkliste!G90=\"\",\"\",IF(LEN(Fuhrparkliste!G90)=1,CONCATENATE(\"00\",Fuhrparkliste!G90),IF(LEN(Fuhrparkliste!G90)=2,CONCATENATE(\"0\",Fuhrparkliste!G90),LEFT(Fuhrparkliste!G90,3))))","v":""},{"$f":"IF(C81=\"\",\"\",IF(OR(C81=\"581\",C81=\"541\",C81=\"542\",C81=\"591\",C81=\"714\",C81=\"719\"),\"\",IF(Fuhrparkliste!C90=\"\",\"0\",Fuhrparkliste!C90)))","v":""},{"$f":"IF(C81=\"\",\"\",IF(Fuhrparkliste!Z90=\"\",\"0\",VLOOKUP(Fuhrparkliste!Z90,ELEKTROMATRIXKEY,2,FALSE)))","v":""},{"$f":"IF(Fuhrparkliste!D90=\"\",\"\",Fuhrparkliste!D90)","v":""},{"$f":"IF(Fuhrparkliste!N90=\"\",\"\",VLOOKUP(Fuhrparkliste!N90,AUFBAUMATRIXKEY,2,FALSE))","v":""},{"$f":"IF(Fuhrparkliste!T90=\"\",\"\",Fuhrparkliste!T90)","v":""},{"$f":"IF(C81=\"\",\"\",IF(AND(Fuhrparkliste!M90=\"Ja\",C81=\"112\"),\"1\",\"0\"))","v":""},{"$f":"IF(Fuhrparkliste!H90=\"\",\"\",Fuhrparkliste!H90)","v":""},{"$f":"IF(Fuhrparkliste!J90=\"\",\"\",Fuhrparkliste!J90)","v":""},{"$f":"IF(C81<>\"112\",\"\",IF(Fuhrparkliste!K90=\"Ja\",\"1\",\"0\"))","v":""},{"$f":"IF(OR(Fuhrparkliste!L90=\"\",C81<>\"127\"),\"\",VLOOKUP(Fuhrparkliste!L90,Bedachungsart,2,FALSE))","v":""},{"$f":"IF(C81=\"\",\"\",IF(AND(Fuhrparkliste!X90=\"Ja\",C81=\"112\"),\"1\",\"0\"))","v":""},{"$f":"IF(C81=\"\",\"\",IF(AND(Fuhrparkliste!Y90=\"Ja\",OR(C81=\"112\",C81=\"251\")),\"1\",\"0\"))","v":""},"",{"$f":"IF(C81=\"\",\"\",IF(AND(Fuhrparkliste!W90=\"Ja\",C81=\"112\"),\"1\",\"0\"))","v":""},{"$f":"IF(C81=\"\",\"\",IF(AND(ISERROR(SEARCH(\"0??\",tblRisiken!C81)) =TRUE,ISERROR(SEARCH(\"1??\",tblRisiken!C81)) =TRUE),\"0\",IF(AND(Fuhrparkliste!U90=\"Ja\",VLOOKUP(Werte!P81,SFMATRIXKEY,3,FALSE)=\"Ja\"),\"1\",\"0\")))","v":""},{"$f":"IF(C81=\"\",\"\",IF(OR(AF81=\"00\",LEFT(AF81,1)=\"7\"),\"0\",IF(AND(ISERROR(SEARCH(\"0??\",C81)) =TRUE,ISERROR(SEARCH(\"1??\",C81)) =TRUE),\"0\",IF(AND(Fuhrparkliste!V90=\"Ja\",X81=\"1\",VLOOKUP(Werte!Q81,SFMATRIXKEY,3,FALSE)=\"Ja\"),\"1\",\"0\"))))","v":""},{"$f":"IF(C81=\"\",\"\",IF(AND(Fuhrparkliste!AA90=\"Ja\",C81=\"112\"),\"1\",\"0\"))","v":""},{"$f":"IF(Fuhrparkliste!AB90=\"\",\"\",VLOOKUP(Fuhrparkliste!AB90,MatrixVorVU,2,FALSE))","v":""},{"$f":"IF(Fuhrparkliste!AC90=\"\",\"\",Fuhrparkliste!AC90)","v":""},{"$f":"IF(C81=\"\",\"\",IF(Fuhrparkliste!O90=\"\",\"00\",VLOOKUP(Fuhrparkliste!O90,GEFAHRGUTMATRIXKEY,2,FALSE)))","v":""},"",{"$f":"IF(C81=\"\",\"\",IF(Werte!P81=\"\",\"F1\",VLOOKUP(Fuhrparkliste!P90,SFKOMPLETT,2,FALSE)))","v":""},{"$f":"IF(C81=\"\",\"\",IF(Fuhrparkliste!S90=\"\",\"00\",VLOOKUP(Fuhrparkliste!S90,KASKOMATRIXKEY,2,FALSE)))","v":""},{"$f":"IF(C81=\"\",\"\",IF(Werte!Q81=\"\",\"F1\",VLOOKUP(Fuhrparkliste!Q90,SFKOMPLETT,2,FALSE)))","v":""},{"$f":"IF(C81=\"\",\"\",Fuhrparkliste!R90)","v":""},{"$f":"SUBSTITUTE(Fuhrparkliste!E90,\" \",\"\")","v":""}]
["",{"$f":"IF(Fuhrparkliste!B91=\"\",\"\",IF(Fuhrparkliste!B91=\"112\",\"22\",\"26\"))","v":""},{"$f":"IF(Fuhrparkliste!B91=\"\",\"\",TRIM(IF(LEN(Fuhrparkliste!B91)=1,CONCATENATE(\"00\",Fuhrparkliste!B91),IF(LEN(Fuhrparkliste!B91)=2,CONCATENATE(\"0\",Fuhrparkliste!B91),CONCATENATE(Fuhrparkliste!B91,\" \")))))","v":""},"","",{"$f":"RIGHT(AI82,COUNT(RIGHT(AI82,COLUMN(81:81))*1))","v":""},{"$f":"IF(Fuhrparkliste!I91=\"\",\"\",Fuhrparkliste!I91)","v":""},{"$f":"IF(Fuhrparkliste!F91=\"\",\"\",IF(LEN(Fuhrparkliste!F91)=1,CONCATENATE(\"000\",Fuhrparkliste!F91),IF(LEN(Fuhrparkliste!F91)=2,CONCATENATE(\"00\",Fuhrparkliste!F91),IF(LEN(Fuhrparkliste!F91)=3,CONCATENATE(\"0\",Fuhrparkliste!F91),LEFT(Fuhrparkliste!F91,4)))))","v":""},{"$f":"IF(Fuhrparkliste!G91=\"\",\"\",IF(LEN(Fuhrparkliste!G91)=1,CONCATENATE(\"00\",Fuhrparkliste!G91),IF(LEN(Fuhrparkliste!G91)=2,CONCATENATE(\"0\",Fuhrparkliste!G91),LEFT(Fuhrparkliste!G91,3))))","v":""},{"$f":"IF(C82=\"\",\"\",IF(OR(C82=\"581\",C82=\"541\",C82=\"542\",C82=\"591\",C82=\"714\",C82=\"719\"),\"\",IF(Fuhrparkliste!C91=\"\",\"0\",Fuhrparkliste!C91)))","v":""},{"$f":"IF(C82=\"\",\"\",IF(Fuhrparkliste!Z91=\"\",\"0\",VLOOKUP(Fuhrparkliste!Z91,ELEKTROMATRIXKEY,2,FALSE)))","v":""},{"$f":"IF(Fuhrparkliste!D91=\"\",\"\",Fuhrparkliste!D91)","v":""},{"$f":"IF(Fuhrparkliste!N91=\"\",\"\",VLOOKUP(Fuhrparkliste!N91,AUFBAUMATRIXKEY,2,FALSE))","v":""},{"$f":"IF(Fuhrparkliste!T91=\"\",\"\",Fuhrparkliste!T91)","v":""},{"$f":"IF(C82=\"\",\"\",IF(AND(Fuhrparkliste!M91=\"Ja\",C82=\"112\"),\"1\",\"0\"))","v":""},{"$f":"IF(Fuhrparkliste!H91=\"\",\"\",Fuhrparkliste!H91)","v":""},{"$f":"IF(Fuhrparkliste!J91=\"\",\"\",Fuhrparkliste!J91)","v":""},{"$f":"IF(C82<>\"112\",\"\",IF(Fuhrparkliste!K91=\"Ja\",\"1\",\"0\"))","v":""},{"$f":"IF(OR(Fuhrparkliste!L91=\"\",C82<>\"127\"),\"\",VLOOKUP(Fuhrparkliste!L91,Bedachungsart,2,FALSE))","v":""},{"$f":"IF(C82=\"\",\"\",IF(AND(Fuhrparkliste!X91=\"Ja\",C82=\"112\"),\"1\",\"0\"))","v":""},{"$f":"IF(C82=\"\",\"\",IF(AND(Fuhrparkliste!Y91=\"Ja\",OR(C82=\"112\",C82=\"251\")),\"1\",\"0\"))","v":""},"",{"$f":"IF(C82=\"\",\"\",IF(AND(Fuhrparkliste!W91=\"Ja\",C82=\"112\"),\"1\",\"0\"))","v":""},{"$f":"IF(C82=\"\",\"\",IF(AND(ISERROR(SEARCH(\"0??\",tblRisiken!C82)) =TRUE,ISERROR(SEARCH(\"1??\",tblRisiken!C82)) =TRUE),\"0\",IF(AND(Fuhrparkliste!U91=\"Ja\",VLOOKUP(Werte!P82,SFMATRIXKEY,3,FALSE)=\"Ja\"),\"1\",\"0\")))","v":""},{"$f":"IF(C82=\"\",\"\",IF(OR(AF82=\"00\",LEFT(AF82,1)=\"7\"),\"0\",IF(AND(ISERROR(SEARCH(\"0??\",C82)) =TRUE,ISERROR(SEARCH(\"1??\",C82)) =TRUE),\"0\",IF(AND(Fuhrparkliste!V91=\"Ja\",X82=\"1\",VLOOKUP(Werte!Q82,SFMATRIXKEY,3,FALSE)=\"Ja\"),\"1\",\"0\"))))","v":""},{"$f":"IF(C82=\"\",\"\",IF(AND(Fuhrparkliste!AA91=\"Ja\",C82=\"112\"),\"1\",\"0\"))","v":""},{"$f":"IF(Fuhrparkliste!AB91=\"\",\"\",VLOOKUP(Fuhrparkliste!AB91,MatrixVorVU,2,FALSE))","v":""},{"$f":"IF(Fuhrparkliste!AC91=\"\",\"\",Fuhrparkliste!AC91)","v":""},{"$f":"IF(C82=\"\",\"\",IF(Fuhrparkliste!O91=\"\",\"00\",VLOOKUP(Fuhrparkliste!O91,GEFAHRGUTMATRIXKEY,2,FALSE)))","v":""},"",{"$f":"IF(C82=\"\",\"\",IF(Werte!P82=\"\",\"F1\",VLOOKUP(Fuhrparkliste!P91,SFKOMPLETT,2,FALSE)))","v":""},{"$f":"IF(C82=\"\",\"\",IF(Fuhrparkliste!S91=\"\",\"00\",VLOOKUP(Fuhrparkliste!S91,KASKOMATRIXKEY,2,FALSE)))","v":""},{"$f":"IF(C82=\"\",\"\",IF(Werte!Q82=\"\",\"F1\",VLOOKUP(Fuhrparkliste!Q91,SFKOMPLETT,2,FALSE)))","v":""},{"$f":"IF(C82=\"\",\"\",Fuhrparkliste!R91)","v":""},{"$f":"SUBSTITUTE(Fuhrparkliste!E91,\" \",\"\")","v":""}]
["",{"$f":"IF(Fuhrparkliste!B92=\"\",\"\",IF(Fuhrparkliste!B92=\"112\",\"22\",\"26\"))","v":""},{"$f":"IF(Fuhrparkliste!B92=\"\",\"\",TRIM(IF(LEN(Fuhrparkliste!B92)=1,CONCATENATE(\"00\",Fuhrparkliste!B92),IF(LEN(Fuhrparkliste!B92)=2,CONCATENATE(\"0\",Fuhrparkliste!B92),CONCATENATE(Fuhrparkliste!B92,\" \")))))","v":""},"","",{"$f":"RIGHT(AI83,COUNT(RIGHT(AI83,COLUMN(82:82))*1))","v":""},{"$f":"IF(Fuhrparkliste!I92=\"\",\"\",Fuhrparkliste!I92)","v":""},{"$f":"IF(Fuhrparkliste!F92=\"\",\"\",IF(LEN(Fuhrparkliste!F92)=1,CONCATENATE(\"000\",Fuhrparkliste!F92),IF(LEN(Fuhrparkliste!F92)=2,CONCATENATE(\"00\",Fuhrparkliste!F92),IF(LEN(Fuhrparkliste!F92)=3,CONCATENATE(\"0\",Fuhrparkliste!F92),LEFT(Fuhrparkliste!F92,4)))))","v":""},{"$f":"IF(Fuhrparkliste!G92=\"\",\"\",IF(LEN(Fuhrparkliste!G92)=1,CONCATENATE(\"00\",Fuhrparkliste!G92),IF(LEN(Fuhrparkliste!G92)=2,CONCATENATE(\"0\",Fuhrparkliste!G92),LEFT(Fuhrparkliste!G92,3))))","v":""},{"$f":"IF(C83=\"\",\"\",IF(OR(C83=\"581\",C83=\"541\",C83=\"542\",C83=\"591\",C83=\"714\",C83=\"719\"),\"\",IF(Fuhrparkliste!C92=\"\",\"0\",Fuhrparkliste!C92)))","v":""},{"$f":"IF(C83=\"\",\"\",IF(Fuhrparkliste!Z92=\"\",\"0\",VLOOKUP(Fuhrparkliste!Z92,ELEKTROMATRIXKEY,2,FALSE)))","v":""},{"$f":"IF(Fuhrparkliste!D92=\"\",\"\",Fuhrparkliste!D92)","v":""},{"$f":"IF(Fuhrparkliste!N92=\"\",\"\",VLOOKUP(Fuhrparkliste!N92,AUFBAUMATRIXKEY,2,FALSE))","v":""},{"$f":"IF(Fuhrparkliste!T92=\"\",\"\",Fuhrparkliste!T92)","v":""},{"$f":"IF(C83=\"\",\"\",IF(AND(Fuhrparkliste!M92=\"Ja\",C83=\"112\"),\"1\",\"0\"))","v":""},{"$f":"IF(Fuhrparkliste!H92=\"\",\"\",Fuhrparkliste!H92)","v":""},{"$f":"IF(Fuhrparkliste!J92=\"\",\"\",Fuhrparkliste!J92)","v":""},{"$f":"IF(C83<>\"112\",\"\",IF(Fuhrparkliste!K92=\"Ja\",\"1\",\"0\"))","v":""},{"$f":"IF(OR(Fuhrparkliste!L92=\"\",C83<>\"127\"),\"\",VLOOKUP(Fuhrparkliste!L92,Bedachungsart,2,FALSE))","v":""},{"$f":"IF(C83=\"\",\"\",IF(AND(Fuhrparkliste!X92=\"Ja\",C83=\"112\"),\"1\",\"0\"))","v":""},{"$f":"IF(C83=\"\",\"\",IF(AND(Fuhrparkliste!Y92=\"Ja\",OR(C83=\"112\",C83=\"251\")),\"1\",\"0\"))","v":""},"",{"$f":"IF(C83=\"\",\"\",IF(AND(Fuhrparkliste!W92=\"Ja\",C83=\"112\"),\"1\",\"0\"))","v":""},{"$f":"IF(C83=\"\",\"\",IF(AND(ISERROR(SEARCH(\"0??\",tblRisiken!C83)) =TRUE,ISERROR(SEARCH(\"1??\",tblRisiken!C83)) =TRUE),\"0\",IF(AND(Fuhrparkliste!U92=\"Ja\",VLOOKUP(Werte!P83,SFMATRIXKEY,3,FALSE)=\"Ja\"),\"1\",\"0\")))","v":""},{"$f":"IF(C83=\"\",\"\",IF(OR(AF83=\"00\",LEFT(AF83,1)=\"7\"),\"0\",IF(AND(ISERROR(SEARCH(\"0??\",C83)) =TRUE,ISERROR(SEARCH(\"1??\",C83)) =TRUE),\"0\",IF(AND(Fuhrparkliste!V92=\"Ja\",X83=\"1\",VLOOKUP(Werte!Q83,SFMATRIXKEY,3,FALSE)=\"Ja\"),\"1\",\"0\"))))","v":""},{"$f":"IF(C83=\"\",\"\",IF(AND(Fuhrparkliste!AA92=\"Ja\",C83=\"112\"),\"1\",\"0\"))","v":""},{"$f":"IF(Fuhrparkliste!AB92=\"\",\"\",VLOOKUP(Fuhrparkliste!AB92,MatrixVorVU,2,FALSE))","v":""},{"$f":"IF(Fuhrparkliste!AC92=\"\",\"\",Fuhrparkliste!AC92)","v":""},{"$f":"IF(C83=\"\",\"\",IF(Fuhrparkliste!O92=\"\",\"00\",VLOOKUP(Fuhrparkliste!O92,GEFAHRGUTMATRIXKEY,2,FALSE)))","v":""},"",{"$f":"IF(C83=\"\",\"\",IF(Werte!P83=\"\",\"F1\",VLOOKUP(Fuhrparkliste!P92,SFKOMPLETT,2,FALSE)))","v":""},{"$f":"IF(C83=\"\",\"\",IF(Fuhrparkliste!S92=\"\",\"00\",VLOOKUP(Fuhrparkliste!S92,KASKOMATRIXKEY,2,FALSE)))","v":""},{"$f":"IF(C83=\"\",\"\",IF(Werte!Q83=\"\",\"F1\",VLOOKUP(Fuhrparkliste!Q92,SFKOMPLETT,2,FALSE)))","v":""},{"$f":"IF(C83=\"\",\"\",Fuhrparkliste!R92)","v":""},{"$f":"SUBSTITUTE(Fuhrparkliste!E92,\" \",\"\")","v":""}]
["",{"$f":"IF(Fuhrparkliste!B93=\"\",\"\",IF(Fuhrparkliste!B93=\"112\",\"22\",\"26\"))","v":""},{"$f":"IF(Fuhrparkliste!B93=\"\",\"\",TRIM(IF(LEN(Fuhrparkliste!B93)=1,CONCATENATE(\"00\",Fuhrparkliste!B93),IF(LEN(Fuhrparkliste!B93)=2,CONCATENATE(\"0\",Fuhrparkliste!B93),CONCATENATE(Fuhrparkliste!B93,\" \")))))","v":""},"","",{"$f":"RIGHT(AI84,COUNT(RIGHT(AI84,COLUMN(83:83))*1))","v":""},{"$f":"IF(Fuhrparkliste!I93=\"\",\"\",Fuhrparkliste!I93)","v":""},{"$f":"IF(Fuhrparkliste!F93=\"\",\"\",IF(LEN(Fuhrparkliste!F93)=1,CONCATENATE(\"000\",Fuhrparkliste!F93),IF(LEN(Fuhrparkliste!F93)=2,CONCATENATE(\"00\",Fuhrparkliste!F93),IF(LEN(Fuhrparkliste!F93)=3,CONCATENATE(\"0\",Fuhrparkliste!F93),LEFT(Fuhrparkliste!F93,4)))))","v":""},{"$f":"IF(Fuhrparkliste!G93=\"\",\"\",IF(LEN(Fuhrparkliste!G93)=1,CONCATENATE(\"00\",Fuhrparkliste!G93),IF(LEN(Fuhrparkliste!G93)=2,CONCATENATE(\"0\",Fuhrparkliste!G93),LEFT(Fuhrparkliste!G93,3))))","v":""},{"$f":"IF(C84=\"\",\"\",IF(OR(C84=\"581\",C84=\"541\",C84=\"542\",C84=\"591\",C84=\"714\",C84=\"719\"),\"\",IF(Fuhrparkliste!C93=\"\",\"0\",Fuhrparkliste!C93)))","v":""},{"$f":"IF(C84=\"\",\"\",IF(Fuhrparkliste!Z93=\"\",\"0\",VLOOKUP(Fuhrparkliste!Z93,ELEKTROMATRIXKEY,2,FALSE)))","v":""},{"$f":"IF(Fuhrparkliste!D93=\"\",\"\",Fuhrparkliste!D93)","v":""},{"$f":"IF(Fuhrparkliste!N93=\"\",\"\",VLOOKUP(Fuhrparkliste!N93,AUFBAUMATRIXKEY,2,FALSE))","v":""},{"$f":"IF(Fuhrparkliste!T93=\"\",\"\",Fuhrparkliste!T93)","v":""},{"$f":"IF(C84=\"\",\"\",IF(AND(Fuhrparkliste!M93=\"Ja\",C84=\"112\"),\"1\",\"0\"))","v":""},{"$f":"IF(Fuhrparkliste!H93=\"\",\"\",Fuhrparkliste!H93)","v":""},{"$f":"IF(Fuhrparkliste!J93=\"\",\"\",Fuhrparkliste!J93)","v":""},{"$f":"IF(C84<>\"112\",\"\",IF(Fuhrparkliste!K93=\"Ja\",\"1\",\"0\"))","v":""},{"$f":"IF(OR(Fuhrparkliste!L93=\"\",C84<>\"127\"),\"\",VLOOKUP(Fuhrparkliste!L93,Bedachungsart,2,FALSE))","v":""},{"$f":"IF(C84=\"\",\"\",IF(AND(Fuhrparkliste!X93=\"Ja\",C84=\"112\"),\"1\",\"0\"))","v":""},{"$f":"IF(C84=\"\",\"\",IF(AND(Fuhrparkliste!Y93=\"Ja\",OR(C84=\"112\",C84=\"251\")),\"1\",\"0\"))","v":""},"",{"$f":"IF(C84=\"\",\"\",IF(AND(Fuhrparkliste!W93=\"Ja\",C84=\"112\"),\"1\",\"0\"))","v":""},{"$f":"IF(C84=\"\",\"\",IF(AND(ISERROR(SEARCH(\"0??\",tblRisiken!C84)) =TRUE,ISERROR(SEARCH(\"1??\",tblRisiken!C84)) =TRUE),\"0\",IF(AND(Fuhrparkliste!U93=\"Ja\",VLOOKUP(Werte!P84,SFMATRIXKEY,3,FALSE)=\"Ja\"),\"1\",\"0\")))","v":""},{"$f":"IF(C84=\"\",\"\",IF(OR(AF84=\"00\",LEFT(AF84,1)=\"7\"),\"0\",IF(AND(ISERROR(SEARCH(\"0??\",C84)) =TRUE,ISERROR(SEARCH(\"1??\",C84)) =TRUE),\"0\",IF(AND(Fuhrparkliste!V93=\"Ja\",X84=\"1\",VLOOKUP(Werte!Q84,SFMATRIXKEY,3,FALSE)=\"Ja\"),\"1\",\"0\"))))","v":""},{"$f":"IF(C84=\"\",\"\",IF(AND(Fuhrparkliste!AA93=\"Ja\",C84=\"112\"),\"1\",\"0\"))","v":""},{"$f":"IF(Fuhrparkliste!AB93=\"\",\"\",VLOOKUP(Fuhrparkliste!AB93,MatrixVorVU,2,FALSE))","v":""},{"$f":"IF(Fuhrparkliste!AC93=\"\",\"\",Fuhrparkliste!AC93)","v":""},{"$f":"IF(C84=\"\",\"\",IF(Fuhrparkliste!O93=\"\",\"00\",VLOOKUP(Fuhrparkliste!O93,GEFAHRGUTMATRIXKEY,2,FALSE)))","v":""},"",{"$f":"IF(C84=\"\",\"\",IF(Werte!P84=\"\",\"F1\",VLOOKUP(Fuhrparkliste!P93,SFKOMPLETT,2,FALSE)))","v":""},{"$f":"IF(C84=\"\",\"\",IF(Fuhrparkliste!S93=\"\",\"00\",VLOOKUP(Fuhrparkliste!S93,KASKOMATRIXKEY,2,FALSE)))","v":""},{"$f":"IF(C84=\"\",\"\",IF(Werte!Q84=\"\",\"F1\",VLOOKUP(Fuhrparkliste!Q93,SFKOMPLETT,2,FALSE)))","v":""},{"$f":"IF(C84=\"\",\"\",Fuhrparkliste!R93)","v":""},{"$f":"SUBSTITUTE(Fuhrparkliste!E93,\" \",\"\")","v":""}]
["",{"$f":"IF(Fuhrparkliste!B94=\"\",\"\",IF(Fuhrparkliste!B94=\"112\",\"22\",\"26\"))","v":""},{"$f":"IF(Fuhrparkliste!B94=\"\",\"\",TRIM(IF(LEN(Fuhrparkliste!B94)=1,CONCATENATE(\"00\",Fuhrparkliste!B94),IF(LEN(Fuhrparkliste!B94)=2,CONCATENATE(\"0\",Fuhrparkliste!B94),CONCATENATE(Fuhrparkliste!B94,\" \")))))","v":""},"","",{"$f":"RIGHT(AI85,COUNT(RIGHT(AI85,COLUMN(84:84))*1))","v":""},{"$f":"IF(Fuhrparkliste!I94=\"\",\"\",Fuhrparkliste!I94)","v":""},{"$f":"IF(Fuhrparkliste!F94=\"\",\"\",IF(LEN(Fuhrparkliste!F94)=1,CONCATENATE(\"000\",Fuhrparkliste!F94),IF(LEN(Fuhrparkliste!F94)=2,CONCATENATE(\"00\",Fuhrparkliste!F94),IF(LEN(Fuhrparkliste!F94)=3,CONCATENATE(\"0\",Fuhrparkliste!F94),LEFT(Fuhrparkliste!F94,4)))))","v":""},{"$f":"IF(Fuhrparkliste!G94=\"\",\"\",IF(LEN(Fuhrparkliste!G94)=1,CONCATENATE(\"00\",Fuhrparkliste!G94),IF(LEN(Fuhrparkliste!G94)=2,CONCATENATE(\"0\",Fuhrparkliste!G94),LEFT(Fuhrparkliste!G94,3))))","v":""},{"$f":"IF(C85=\"\",\"\",IF(OR(C85=\"581\",C85=\"541\",C85=\"542\",C85=\"591\",C85=\"714\",C85=\"719\"),\"\",IF(Fuhrparkliste!C94=\"\",\"0\",Fuhrparkliste!C94)))","v":""},{"$f":"IF(C85=\"\",\"\",IF(Fuhrparkliste!Z94=\"\",\"0\",VLOOKUP(Fuhrparkliste!Z94,ELEKTROMATRIXKEY,2,FALSE)))","v":""},{"$f":"IF(Fuhrparkliste!D94=\"\",\"\",Fuhrparkliste!D94)","v":""},{"$f":"IF(Fuhrparkliste!N94=\"\",\"\",VLOOKUP(Fuhrparkliste!N94,AUFBAUMATRIXKEY,2,FALSE))","v":""},{"$f":"IF(Fuhrparkliste!T94=\"\",\"\",Fuhrparkliste!T94)","v":""},{"$f":"IF(C85=\"\",\"\",IF(AND(Fuhrparkliste!M94=\"Ja\",C85=\"112\"),\"1\",\"0\"))","v":""},{"$f":"IF(Fuhrparkliste!H94=\"\",\"\",Fuhrparkliste!H94)","v":""},{"$f":"IF(Fuhrparkliste!J94=\"\",\"\",Fuhrparkliste!J94)","v":""},{"$f":"IF(C85<>\"112\",\"\",IF(Fuhrparkliste!K94=\"Ja\",\"1\",\"0\"))","v":""},{"$f":"IF(OR(Fuhrparkliste!L94=\"\",C85<>\"127\"),\"\",VLOOKUP(Fuhrparkliste!L94,Bedachungsart,2,FALSE))","v":""},{"$f":"IF(C85=\"\",\"\",IF(AND(Fuhrparkliste!X94=\"Ja\",C85=\"112\"),\"1\",\"0\"))","v":""},{"$f":"IF(C85=\"\",\"\",IF(AND(Fuhrparkliste!Y94=\"Ja\",OR(C85=\"112\",C85=\"251\")),\"1\",\"0\"))","v":""},"",{"$f":"IF(C85=\"\",\"\",IF(AND(Fuhrparkliste!W94=\"Ja\",C85=\"112\"),\"1\",\"0\"))","v":""},{"$f":"IF(C85=\"\",\"\",IF(AND(ISERROR(SEARCH(\"0??\",tblRisiken!C85)) =TRUE,ISERROR(SEARCH(\"1??\",tblRisiken!C85)) =TRUE),\"0\",IF(AND(Fuhrparkliste!U94=\"Ja\",VLOOKUP(Werte!P85,SFMATRIXKEY,3,FALSE)=\"Ja\"),\"1\",\"0\")))","v":""},{"$f":"IF(C85=\"\",\"\",IF(OR(AF85=\"00\",LEFT(AF85,1)=\"7\"),\"0\",IF(AND(ISERROR(SEARCH(\"0??\",C85)) =TRUE,ISERROR(SEARCH(\"1??\",C85)) =TRUE),\"0\",IF(AND(Fuhrparkliste!V94=\"Ja\",X85=\"1\",VLOOKUP(Werte!Q85,SFMATRIXKEY,3,FALSE)=\"Ja\"),\"1\",\"0\"))))","v":""},{"$f":"IF(C85=\"\",\"\",IF(AND(Fuhrparkliste!AA94=\"Ja\",C85=\"112\"),\"1\",\"0\"))","v":""},{"$f":"IF(Fuhrparkliste!AB94=\"\",\"\",VLOOKUP(Fuhrparkliste!AB94,MatrixVorVU,2,FALSE))","v":""},{"$f":"IF(Fuhrparkliste!AC94=\"\",\"\",Fuhrparkliste!AC94)","v":""},{"$f":"IF(C85=\"\",\"\",IF(Fuhrparkliste!O94=\"\",\"00\",VLOOKUP(Fuhrparkliste!O94,GEFAHRGUTMATRIXKEY,2,FALSE)))","v":""},"",{"$f":"IF(C85=\"\",\"\",IF(Werte!P85=\"\",\"F1\",VLOOKUP(Fuhrparkliste!P94,SFKOMPLETT,2,FALSE)))","v":""},{"$f":"IF(C85=\"\",\"\",IF(Fuhrparkliste!S94=\"\",\"00\",VLOOKUP(Fuhrparkliste!S94,KASKOMATRIXKEY,2,FALSE)))","v":""},{"$f":"IF(C85=\"\",\"\",IF(Werte!Q85=\"\",\"F1\",VLOOKUP(Fuhrparkliste!Q94,SFKOMPLETT,2,FALSE)))","v":""},{"$f":"IF(C85=\"\",\"\",Fuhrparkliste!R94)","v":""},{"$f":"SUBSTITUTE(Fuhrparkliste!E94,\" \",\"\")","v":""}]
["",{"$f":"IF(Fuhrparkliste!B95=\"\",\"\",IF(Fuhrparkliste!B95=\"112\",\"22\",\"26\"))","v":""},{"$f":"IF(Fuhrparkliste!B95=\"\",\"\",TRIM(IF(LEN(Fuhrparkliste!B95)=1,CONCATENATE(\"00\",Fuhrparkliste!B95),IF(LEN(Fuhrparkliste!B95)=2,CONCATENATE(\"0\",Fuhrparkliste!B95),CONCATENATE(Fuhrparkliste!B95,\" \")))))","v":""},"","",{"$f":"RIGHT(AI86,COUNT(RIGHT(AI86,COLUMN(85:85))*1))","v":""},{"$f":"IF(Fuhrparkliste!I95=\"\",\"\",Fuhrparkliste!I95)","v":""},{"$f":"IF(Fuhrparkliste!F95=\"\",\"\",IF(LEN(Fuhrparkliste!F95)=1,CONCATENATE(\"000\",Fuhrparkliste!F95),IF(LEN(Fuhrparkliste!F95)=2,CONCATENATE(\"00\",Fuhrparkliste!F95),IF(LEN(Fuhrparkliste!F95)=3,CONCATENATE(\"0\",Fuhrparkliste!F95),LEFT(Fuhrparkliste!F95,4)))))","v":""},{"$f":"IF(Fuhrparkliste!G95=\"\",\"\",IF(LEN(Fuhrparkliste!G95)=1,CONCATENATE(\"00\",Fuhrparkliste!G95),IF(LEN(Fuhrparkliste!G95)=2,CONCATENATE(\"0\",Fuhrparkliste!G95),LEFT(Fuhrparkliste!G95,3))))","v":""},{"$f":"IF(C86=\"\",\"\",IF(OR(C86=\"581\",C86=\"541\",C86=\"542\",C86=\"591\",C86=\"714\",C86=\"719\"),\"\",IF(Fuhrparkliste!C95=\"\",\"0\",Fuhrparkliste!C95)))","v":""},{"$f":"IF(C86=\"\",\"\",IF(Fuhrparkliste!Z95=\"\",\"0\",VLOOKUP(Fuhrparkliste!Z95,ELEKTROMATRIXKEY,2,FALSE)))","v":""},{"$f":"IF(Fuhrparkliste!D95=\"\",\"\",Fuhrparkliste!D95)","v":""},{"$f":"IF(Fuhrparkliste!N95=\"\",\"\",VLOOKUP(Fuhrparkliste!N95,AUFBAUMATRIXKEY,2,FALSE))","v":""},{"$f":"IF(Fuhrparkliste!T95=\"\",\"\",Fuhrparkliste!T95)","v":""},{"$f":"IF(C86=\"\",\"\",IF(AND(Fuhrparkliste!M95=\"Ja\",C86=\"112\"),\"1\",\"0\"))","v":""},{"$f":"IF(Fuhrparkliste!H95=\"\",\"\",Fuhrparkliste!H95)","v":""},{"$f":"IF(Fuhrparkliste!J95=\"\",\"\",Fuhrparkliste!J95)","v":""},{"$f":"IF(C86<>\"112\",\"\",IF(Fuhrparkliste!K95=\"Ja\",\"1\",\"0\"))","v":""},{"$f":"IF(OR(Fuhrparkliste!L95=\"\",C86<>\"127\"),\"\",VLOOKUP(Fuhrparkliste!L95,Bedachungsart,2,FALSE))","v":""},{"$f":"IF(C86=\"\",\"\",IF(AND(Fuhrparkliste!X95=\"Ja\",C86=\"112\"),\"1\",\"0\"))","v":""},{"$f":"IF(C86=\"\",\"\",IF(AND(Fuhrparkliste!Y95=\"Ja\",OR(C86=\"112\",C86=\"251\")),\"1\",\"0\"))","v":""},"",{"$f":"IF(C86=\"\",\"\",IF(AND(Fuhrparkliste!W95=\"Ja\",C86=\"112\"),\"1\",\"0\"))","v":""},{"$f":"IF(C86=\"\",\"\",IF(AND(ISERROR(SEARCH(\"0??\",tblRisiken!C86)) =TRUE,ISERROR(SEARCH(\"1??\",tblRisiken!C86)) =TRUE),\"0\",IF(AND(Fuhrparkliste!U95=\"Ja\",VLOOKUP(Werte!P86,SFMATRIXKEY,3,FALSE)=\"Ja\"),\"1\",\"0\")))","v":""},{"$f":"IF(C86=\"\",\"\",IF(OR(AF86=\"00\",LEFT(AF86,1)=\"7\"),\"0\",IF(AND(ISERROR(SEARCH(\"0??\",C86)) =TRUE,ISERROR(SEARCH(\"1??\",C86)) =TRUE),\"0\",IF(AND(Fuhrparkliste!V95=\"Ja\",X86=\"1\",VLOOKUP(Werte!Q86,SFMATRIXKEY,3,FALSE)=\"Ja\"),\"1\",\"0\"))))","v":""},{"$f":"IF(C86=\"\",\"\",IF(AND(Fuhrparkliste!AA95=\"Ja\",C86=\"112\"),\"1\",\"0\"))","v":""},{"$f":"IF(Fuhrparkliste!AB95=\"\",\"\",VLOOKUP(Fuhrparkliste!AB95,MatrixVorVU,2,FALSE))","v":""},{"$f":"IF(Fuhrparkliste!AC95=\"\",\"\",Fuhrparkliste!AC95)","v":""},{"$f":"IF(C86=\"\",\"\",IF(Fuhrparkliste!O95=\"\",\"00\",VLOOKUP(Fuhrparkliste!O95,GEFAHRGUTMATRIXKEY,2,FALSE)))","v":""},"",{"$f":"IF(C86=\"\",\"\",IF(Werte!P86=\"\",\"F1\",VLOOKUP(Fuhrparkliste!P95,SFKOMPLETT,2,FALSE)))","v":""},{"$f":"IF(C86=\"\",\"\",IF(Fuhrparkliste!S95=\"\",\"00\",VLOOKUP(Fuhrparkliste!S95,KASKOMATRIXKEY,2,FALSE)))","v":""},{"$f":"IF(C86=\"\",\"\",IF(Werte!Q86=\"\",\"F1\",VLOOKUP(Fuhrparkliste!Q95,SFKOMPLETT,2,FALSE)))","v":""},{"$f":"IF(C86=\"\",\"\",Fuhrparkliste!R95)","v":""},{"$f":"SUBSTITUTE(Fuhrparkliste!E95,\" \",\"\")","v":""}]
["",{"$f":"IF(Fuhrparkliste!B96=\"\",\"\",IF(Fuhrparkliste!B96=\"112\",\"22\",\"26\"))","v":""},{"$f":"IF(Fuhrparkliste!B96=\"\",\"\",TRIM(IF(LEN(Fuhrparkliste!B96)=1,CONCATENATE(\"00\",Fuhrparkliste!B96),IF(LEN(Fuhrparkliste!B96)=2,CONCATENATE(\"0\",Fuhrparkliste!B96),CONCATENATE(Fuhrparkliste!B96,\" \")))))","v":""},"","",{"$f":"RIGHT(AI87,COUNT(RIGHT(AI87,COLUMN(86:86))*1))","v":""},{"$f":"IF(Fuhrparkliste!I96=\"\",\"\",Fuhrparkliste!I96)","v":""},{"$f":"IF(Fuhrparkliste!F96=\"\",\"\",IF(LEN(Fuhrparkliste!F96)=1,CONCATENATE(\"000\",Fuhrparkliste!F96),IF(LEN(Fuhrparkliste!F96)=2,CONCATENATE(\"00\",Fuhrparkliste!F96),IF(LEN(Fuhrparkliste!F96)=3,CONCATENATE(\"0\",Fuhrparkliste!F96),LEFT(Fuhrparkliste!F96,4)))))","v":""},{"$f":"IF(Fuhrparkliste!G96=\"\",\"\",IF(LEN(Fuhrparkliste!G96)=1,CONCATENATE(\"00\",Fuhrparkliste!G96),IF(LEN(Fuhrparkliste!G96)=2,CONCATENATE(\"0\",Fuhrparkliste!G96),LEFT(Fuhrparkliste!G96,3))))","v":""},{"$f":"IF(C87=\"\",\"\",IF(OR(C87=\"581\",C87=\"541\",C87=\"542\",C87=\"591\",C87=\"714\",C87=\"719\"),\"\",IF(Fuhrparkliste!C96=\"\",\"0\",Fuhrparkliste!C96)))","v":""},{"$f":"IF(C87=\"\",\"\",IF(Fuhrparkliste!Z96=\"\",\"0\",VLOOKUP(Fuhrparkliste!Z96,ELEKTROMATRIXKEY,2,FALSE)))","v":""},{"$f":"IF(Fuhrparkliste!D96=\"\",\"\",Fuhrparkliste!D96)","v":""},{"$f":"IF(Fuhrparkliste!N96=\"\",\"\",VLOOKUP(Fuhrparkliste!N96,AUFBAUMATRIXKEY,2,FALSE))","v":""},{"$f":"IF(Fuhrparkliste!T96=\"\",\"\",Fuhrparkliste!T96)","v":""},{"$f":"IF(C87=\"\",\"\",IF(AND(Fuhrparkliste!M96=\"Ja\",C87=\"112\"),\"1\",\"0\"))","v":""},{"$f":"IF(Fuhrparkliste!H96=\"\",\"\",Fuhrparkliste!H96)","v":""},{"$f":"IF(Fuhrparkliste!J96=\"\",\"\",Fuhrparkliste!J96)","v":""},{"$f":"IF(C87<>\"112\",\"\",IF(Fuhrparkliste!K96=\"Ja\",\"1\",\"0\"))","v":""},{"$f":"IF(OR(Fuhrparkliste!L96=\"\",C87<>\"127\"),\"\",VLOOKUP(Fuhrparkliste!L96,Bedachungsart,2,FALSE))","v":""},{"$f":"IF(C87=\"\",\"\",IF(AND(Fuhrparkliste!X96=\"Ja\",C87=\"112\"),\"1\",\"0\"))","v":""},{"$f":"IF(C87=\"\",\"\",IF(AND(Fuhrparkliste!Y96=\"Ja\",OR(C87=\"112\",C87=\"251\")),\"1\",\"0\"))","v":""},"",{"$f":"IF(C87=\"\",\"\",IF(AND(Fuhrparkliste!W96=\"Ja\",C87=\"112\"),\"1\",\"0\"))","v":""},{"$f":"IF(C87=\"\",\"\",IF(AND(ISERROR(SEARCH(\"0??\",tblRisiken!C87)) =TRUE,ISERROR(SEARCH(\"1??\",tblRisiken!C87)) =TRUE),\"0\",IF(AND(Fuhrparkliste!U96=\"Ja\",VLOOKUP(Werte!P87,SFMATRIXKEY,3,FALSE)=\"Ja\"),\"1\",\"0\")))","v":""},{"$f":"IF(C87=\"\",\"\",IF(OR(AF87=\"00\",LEFT(AF87,1)=\"7\"),\"0\",IF(AND(ISERROR(SEARCH(\"0??\",C87)) =TRUE,ISERROR(SEARCH(\"1??\",C87)) =TRUE),\"0\",IF(AND(Fuhrparkliste!V96=\"Ja\",X87=\"1\",VLOOKUP(Werte!Q87,SFMATRIXKEY,3,FALSE)=\"Ja\"),\"1\",\"0\"))))","v":""},{"$f":"IF(C87=\"\",\"\",IF(AND(Fuhrparkliste!AA96=\"Ja\",C87=\"112\"),\"1\",\"0\"))","v":""},{"$f":"IF(Fuhrparkliste!AB96=\"\",\"\",VLOOKUP(Fuhrparkliste!AB96,MatrixVorVU,2,FALSE))","v":""},{"$f":"IF(Fuhrparkliste!AC96=\"\",\"\",Fuhrparkliste!AC96)","v":""},{"$f":"IF(C87=\"\",\"\",IF(Fuhrparkliste!O96=\"\",\"00\",VLOOKUP(Fuhrparkliste!O96,GEFAHRGUTMATRIXKEY,2,FALSE)))","v":""},"",{"$f":"IF(C87=\"\",\"\",IF(Werte!P87=\"\",\"F1\",VLOOKUP(Fuhrparkliste!P96,SFKOMPLETT,2,FALSE)))","v":""},{"$f":"IF(C87=\"\",\"\",IF(Fuhrparkliste!S96=\"\",\"00\",VLOOKUP(Fuhrparkliste!S96,KASKOMATRIXKEY,2,FALSE)))","v":""},{"$f":"IF(C87=\"\",\"\",IF(Werte!Q87=\"\",\"F1\",VLOOKUP(Fuhrparkliste!Q96,SFKOMPLETT,2,FALSE)))","v":""},{"$f":"IF(C87=\"\",\"\",Fuhrparkliste!R96)","v":""},{"$f":"SUBSTITUTE(Fuhrparkliste!E96,\" \",\"\")","v":""}]
["",{"$f":"IF(Fuhrparkliste!B97=\"\",\"\",IF(Fuhrparkliste!B97=\"112\",\"22\",\"26\"))","v":""},{"$f":"IF(Fuhrparkliste!B97=\"\",\"\",TRIM(IF(LEN(Fuhrparkliste!B97)=1,CONCATENATE(\"00\",Fuhrparkliste!B97),IF(LEN(Fuhrparkliste!B97)=2,CONCATENATE(\"0\",Fuhrparkliste!B97),CONCATENATE(Fuhrparkliste!B97,\" \")))))","v":""},"","",{"$f":"RIGHT(AI88,COUNT(RIGHT(AI88,COLUMN(87:87))*1))","v":""},{"$f":"IF(Fuhrparkliste!I97=\"\",\"\",Fuhrparkliste!I97)","v":""},{"$f":"IF(Fuhrparkliste!F97=\"\",\"\",IF(LEN(Fuhrparkliste!F97)=1,CONCATENATE(\"000\",Fuhrparkliste!F97),IF(LEN(Fuhrparkliste!F97)=2,CONCATENATE(\"00\",Fuhrparkliste!F97),IF(LEN(Fuhrparkliste!F97)=3,CONCATENATE(\"0\",Fuhrparkliste!F97),LEFT(Fuhrparkliste!F97,4)))))","v":""},{"$f":"IF(Fuhrparkliste!G97=\"\",\"\",IF(LEN(Fuhrparkliste!G97)=1,CONCATENATE(\"00\",Fuhrparkliste!G97),IF(LEN(Fuhrparkliste!G97)=2,CONCATENATE(\"0\",Fuhrparkliste!G97),LEFT(Fuhrparkliste!G97,3))))","v":""},{"$f":"IF(C88=\"\",\"\",IF(OR(C88=\"581\",C88=\"541\",C88=\"542\",C88=\"591\",C88=\"714\",C88=\"719\"),\"\",IF(Fuhrparkliste!C97=\"\",\"0\",Fuhrparkliste!C97)))","v":""},{"$f":"IF(C88=\"\",\"\",IF(Fuhrparkliste!Z97=\"\",\"0\",VLOOKUP(Fuhrparkliste!Z97,ELEKTROMATRIXKEY,2,FALSE)))","v":""},{"$f":"IF(Fuhrparkliste!D97=\"\",\"\",Fuhrparkliste!D97)","v":""},{"$f":"IF(Fuhrparkliste!N97=\"\",\"\",VLOOKUP(Fuhrparkliste!N97,AUFBAUMATRIXKEY,2,FALSE))","v":""},{"$f":"IF(Fuhrparkliste!T97=\"\",\"\",Fuhrparkliste!T97)","v":""},{"$f":"IF(C88=\"\",\"\",IF(AND(Fuhrparkliste!M97=\"Ja\",C88=\"112\"),\"1\",\"0\"))","v":""},{"$f":"IF(Fuhrparkliste!H97=\"\",\"\",Fuhrparkliste!H97)","v":""},{"$f":"IF(Fuhrparkliste!J97=\"\",\"\",Fuhrparkliste!J97)","v":""},{"$f":"IF(C88<>\"112\",\"\",IF(Fuhrparkliste!K97=\"Ja\",\"1\",\"0\"))","v":""},{"$f":"IF(OR(Fuhrparkliste!L97=\"\",C88<>\"127\"),\"\",VLOOKUP(Fuhrparkliste!L97,Bedachungsart,2,FALSE))","v":""},{"$f":"IF(C88=\"\",\"\",IF(AND(Fuhrparkliste!X97=\"Ja\",C88=\"112\"),\"1\",\"0\"))","v":""},{"$f":"IF(C88=\"\",\"\",IF(AND(Fuhrparkliste!Y97=\"Ja\",OR(C88=\"112\",C88=\"251\")),\"1\",\"0\"))","v":""},"",{"$f":"IF(C88=\"\",\"\",IF(AND(Fuhrparkliste!W97=\"Ja\",C88=\"112\"),\"1\",\"0\"))","v":""},{"$f":"IF(C88=\"\",\"\",IF(AND(ISERROR(SEARCH(\"0??\",tblRisiken!C88)) =TRUE,ISERROR(SEARCH(\"1??\",tblRisiken!C88)) =TRUE),\"0\",IF(AND(Fuhrparkliste!U97=\"Ja\",VLOOKUP(Werte!P88,SFMATRIXKEY,3,FALSE)=\"Ja\"),\"1\",\"0\")))","v":""},{"$f":"IF(C88=\"\",\"\",IF(OR(AF88=\"00\",LEFT(AF88,1)=\"7\"),\"0\",IF(AND(ISERROR(SEARCH(\"0??\",C88)) =TRUE,ISERROR(SEARCH(\"1??\",C88)) =TRUE),\"0\",IF(AND(Fuhrparkliste!V97=\"Ja\",X88=\"1\",VLOOKUP(Werte!Q88,SFMATRIXKEY,3,FALSE)=\"Ja\"),\"1\",\"0\"))))","v":""},{"$f":"IF(C88=\"\",\"\",IF(AND(Fuhrparkliste!AA97=\"Ja\",C88=\"112\"),\"1\",\"0\"))","v":""},{"$f":"IF(Fuhrparkliste!AB97=\"\",\"\",VLOOKUP(Fuhrparkliste!AB97,MatrixVorVU,2,FALSE))","v":""},{"$f":"IF(Fuhrparkliste!AC97=\"\",\"\",Fuhrparkliste!AC97)","v":""},{"$f":"IF(C88=\"\",\"\",IF(Fuhrparkliste!O97=\"\",\"00\",VLOOKUP(Fuhrparkliste!O97,GEFAHRGUTMATRIXKEY,2,FALSE)))","v":""},"",{"$f":"IF(C88=\"\",\"\",IF(Werte!P88=\"\",\"F1\",VLOOKUP(Fuhrparkliste!P97,SFKOMPLETT,2,FALSE)))","v":""},{"$f":"IF(C88=\"\",\"\",IF(Fuhrparkliste!S97=\"\",\"00\",VLOOKUP(Fuhrparkliste!S97,KASKOMATRIXKEY,2,FALSE)))","v":""},{"$f":"IF(C88=\"\",\"\",IF(Werte!Q88=\"\",\"F1\",VLOOKUP(Fuhrparkliste!Q97,SFKOMPLETT,2,FALSE)))","v":""},{"$f":"IF(C88=\"\",\"\",Fuhrparkliste!R97)","v":""},{"$f":"SUBSTITUTE(Fuhrparkliste!E97,\" \",\"\")","v":""}]
["",{"$f":"IF(Fuhrparkliste!B98=\"\",\"\",IF(Fuhrparkliste!B98=\"112\",\"22\",\"26\"))","v":""},{"$f":"IF(Fuhrparkliste!B98=\"\",\"\",TRIM(IF(LEN(Fuhrparkliste!B98)=1,CONCATENATE(\"00\",Fuhrparkliste!B98),IF(LEN(Fuhrparkliste!B98)=2,CONCATENATE(\"0\",Fuhrparkliste!B98),CONCATENATE(Fuhrparkliste!B98,\" \")))))","v":""},"","",{"$f":"RIGHT(AI89,COUNT(RIGHT(AI89,COLUMN(88:88))*1))","v":""},{"$f":"IF(Fuhrparkliste!I98=\"\",\"\",Fuhrparkliste!I98)","v":""},{"$f":"IF(Fuhrparkliste!F98=\"\",\"\",IF(LEN(Fuhrparkliste!F98)=1,CONCATENATE(\"000\",Fuhrparkliste!F98),IF(LEN(Fuhrparkliste!F98)=2,CONCATENATE(\"00\",Fuhrparkliste!F98),IF(LEN(Fuhrparkliste!F98)=3,CONCATENATE(\"0\",Fuhrparkliste!F98),LEFT(Fuhrparkliste!F98,4)))))","v":""},{"$f":"IF(Fuhrparkliste!G98=\"\",\"\",IF(LEN(Fuhrparkliste!G98)=1,CONCATENATE(\"00\",Fuhrparkliste!G98),IF(LEN(Fuhrparkliste!G98)=2,CONCATENATE(\"0\",Fuhrparkliste!G98),LEFT(Fuhrparkliste!G98,3))))","v":""},{"$f":"IF(C89=\"\",\"\",IF(OR(C89=\"581\",C89=\"541\",C89=\"542\",C89=\"591\",C89=\"714\",C89=\"719\"),\"\",IF(Fuhrparkliste!C98=\"\",\"0\",Fuhrparkliste!C98)))","v":""},{"$f":"IF(C89=\"\",\"\",IF(Fuhrparkliste!Z98=\"\",\"0\",VLOOKUP(Fuhrparkliste!Z98,ELEKTROMATRIXKEY,2,FALSE)))","v":""},{"$f":"IF(Fuhrparkliste!D98=\"\",\"\",Fuhrparkliste!D98)","v":""},{"$f":"IF(Fuhrparkliste!N98=\"\",\"\",VLOOKUP(Fuhrparkliste!N98,AUFBAUMATRIXKEY,2,FALSE))","v":""},{"$f":"IF(Fuhrparkliste!T98=\"\",\"\",Fuhrparkliste!T98)","v":""},{"$f":"IF(C89=\"\",\"\",IF(AND(Fuhrparkliste!M98=\"Ja\",C89=\"112\"),\"1\",\"0\"))","v":""},{"$f":"IF(Fuhrparkliste!H98=\"\",\"\",Fuhrparkliste!H98)","v":""},{"$f":"IF(Fuhrparkliste!J98=\"\",\"\",Fuhrparkliste!J98)","v":""},{"$f":"IF(C89<>\"112\",\"\",IF(Fuhrparkliste!K98=\"Ja\",\"1\",\"0\"))","v":""},{"$f":"IF(OR(Fuhrparkliste!L98=\"\",C89<>\"127\"),\"\",VLOOKUP(Fuhrparkliste!L98,Bedachungsart,2,FALSE))","v":""},{"$f":"IF(C89=\"\",\"\",IF(AND(Fuhrparkliste!X98=\"Ja\",C89=\"112\"),\"1\",\"0\"))","v":""},{"$f":"IF(C89=\"\",\"\",IF(AND(Fuhrparkliste!Y98=\"Ja\",OR(C89=\"112\",C89=\"251\")),\"1\",\"0\"))","v":""},"",{"$f":"IF(C89=\"\",\"\",IF(AND(Fuhrparkliste!W98=\"Ja\",C89=\"112\"),\"1\",\"0\"))","v":""},{"$f":"IF(C89=\"\",\"\",IF(AND(ISERROR(SEARCH(\"0??\",tblRisiken!C89)) =TRUE,ISERROR(SEARCH(\"1??\",tblRisiken!C89)) =TRUE),\"0\",IF(AND(Fuhrparkliste!U98=\"Ja\",VLOOKUP(Werte!P89,SFMATRIXKEY,3,FALSE)=\"Ja\"),\"1\",\"0\")))","v":""},{"$f":"IF(C89=\"\",\"\",IF(OR(AF89=\"00\",LEFT(AF89,1)=\"7\"),\"0\",IF(AND(ISERROR(SEARCH(\"0??\",C89)) =TRUE,ISERROR(SEARCH(\"1??\",C89)) =TRUE),\"0\",IF(AND(Fuhrparkliste!V98=\"Ja\",X89=\"1\",VLOOKUP(Werte!Q89,SFMATRIXKEY,3,FALSE)=\"Ja\"),\"1\",\"0\"))))","v":""},{"$f":"IF(C89=\"\",\"\",IF(AND(Fuhrparkliste!AA98=\"Ja\",C89=\"112\"),\"1\",\"0\"))","v":""},{"$f":"IF(Fuhrparkliste!AB98=\"\",\"\",VLOOKUP(Fuhrparkliste!AB98,MatrixVorVU,2,FALSE))","v":""},{"$f":"IF(Fuhrparkliste!AC98=\"\",\"\",Fuhrparkliste!AC98)","v":""},{"$f":"IF(C89=\"\",\"\",IF(Fuhrparkliste!O98=\"\",\"00\",VLOOKUP(Fuhrparkliste!O98,GEFAHRGUTMATRIXKEY,2,FALSE)))","v":""},"",{"$f":"IF(C89=\"\",\"\",IF(Werte!P89=\"\",\"F1\",VLOOKUP(Fuhrparkliste!P98,SFKOMPLETT,2,FALSE)))","v":""},{"$f":"IF(C89=\"\",\"\",IF(Fuhrparkliste!S98=\"\",\"00\",VLOOKUP(Fuhrparkliste!S98,KASKOMATRIXKEY,2,FALSE)))","v":""},{"$f":"IF(C89=\"\",\"\",IF(Werte!Q89=\"\",\"F1\",VLOOKUP(Fuhrparkliste!Q98,SFKOMPLETT,2,FALSE)))","v":""},{"$f":"IF(C89=\"\",\"\",Fuhrparkliste!R98)","v":""},{"$f":"SUBSTITUTE(Fuhrparkliste!E98,\" \",\"\")","v":""}]
[{"$f":"IF(C90=\"\",\"\",CONCATENATE(\"\",A89+1))","v":""},{"$f":"IF(Fuhrparkliste!B99=\"\",\"\",IF(Fuhrparkliste!B99=\"112\",\"22\",\"26\"))","v":""},{"$f":"IF(Fuhrparkliste!B99=\"\",\"\",TRIM(IF(LEN(Fuhrparkliste!B99)=1,CONCATENATE(\"00\",Fuhrparkliste!B99),IF(LEN(Fuhrparkliste!B99)=2,CONCATENATE(\"0\",Fuhrparkliste!B99),CONCATENATE(Fuhrparkliste!B99,\" \")))))","v":""},"","",{"$f":"RIGHT(AI90,COUNT(RIGHT(AI90,COLUMN(89:89))*1))","v":""},{"$f":"IF(Fuhrparkliste!I99=\"\",\"\",Fuhrparkliste!I99)","v":""},{"$f":"IF(Fuhrparkliste!F99=\"\",\"\",IF(LEN(Fuhrparkliste!F99)=1,CONCATENATE(\"000\",Fuhrparkliste!F99),IF(LEN(Fuhrparkliste!F99)=2,CONCATENATE(\"00\",Fuhrparkliste!F99),IF(LEN(Fuhrparkliste!F99)=3,CONCATENATE(\"0\",Fuhrparkliste!F99),LEFT(Fuhrparkliste!F99,4)))))","v":""},{"$f":"IF(Fuhrparkliste!G99=\"\",\"\",IF(LEN(Fuhrparkliste!G99)=1,CONCATENATE(\"00\",Fuhrparkliste!G99),IF(LEN(Fuhrparkliste!G99)=2,CONCATENATE(\"0\",Fuhrparkliste!G99),LEFT(Fuhrparkliste!G99,3))))","v":""},{"$f":"IF(C90=\"\",\"\",IF(OR(C90=\"581\",C90=\"541\",C90=\"542\",C90=\"591\",C90=\"714\",C90=\"719\"),\"\",IF(Fuhrparkliste!C99=\"\",\"0\",Fuhrparkliste!C99)))","v":""},{"$f":"IF(C90=\"\",\"\",IF(Fuhrparkliste!Z99=\"\",\"0\",VLOOKUP(Fuhrparkliste!Z99,ELEKTROMATRIXKEY,2,FALSE)))","v":""},{"$f":"IF(Fuhrparkliste!D99=\"\",\"\",Fuhrparkliste!D99)","v":""},{"$f":"IF(Fuhrparkliste!N99=\"\",\"\",VLOOKUP(Fuhrparkliste!N99,AUFBAUMATRIXKEY,2,FALSE))","v":""},{"$f":"IF(Fuhrparkliste!T99=\"\",\"\",Fuhrparkliste!T99)","v":""},{"$f":"IF(C90=\"\",\"\",IF(AND(Fuhrparkliste!M99=\"Ja\",C90=\"112\"),\"1\",\"0\"))","v":""},{"$f":"IF(Fuhrparkliste!H99=\"\",\"\",Fuhrparkliste!H99)","v":""},{"$f":"IF(Fuhrparkliste!J99=\"\",\"\",Fuhrparkliste!J99)","v":""},{"$f":"IF(C90<>\"112\",\"\",IF(Fuhrparkliste!K99=\"Ja\",\"1\",\"0\"))","v":""},{"$f":"IF(OR(Fuhrparkliste!L99=\"\",C90<>\"127\"),\"\",VLOOKUP(Fuhrparkliste!L99,Bedachungsart,2,FALSE))","v":""},{"$f":"IF(C90=\"\",\"\",IF(AND(Fuhrparkliste!X99=\"Ja\",C90=\"112\"),\"1\",\"0\"))","v":""},{"$f":"IF(C90=\"\",\"\",IF(AND(Fuhrparkliste!Y99=\"Ja\",OR(C90=\"112\",C90=\"251\")),\"1\",\"0\"))","v":""},"",{"$f":"IF(C90=\"\",\"\",IF(AND(Fuhrparkliste!W99=\"Ja\",C90=\"112\"),\"1\",\"0\"))","v":""},{"$f":"IF(C90=\"\",\"\",IF(AND(ISERROR(SEARCH(\"0??\",tblRisiken!C90)) =TRUE,ISERROR(SEARCH(\"1??\",tblRisiken!C90)) =TRUE),\"0\",IF(AND(Fuhrparkliste!U99=\"Ja\",VLOOKUP(Werte!P90,SFMATRIXKEY,3,FALSE)=\"Ja\"),\"1\",\"0\")))","v":""},{"$f":"IF(C90=\"\",\"\",IF(OR(AF90=\"00\",LEFT(AF90,1)=\"7\"),\"0\",IF(AND(ISERROR(SEARCH(\"0??\",C90)) =TRUE,ISERROR(SEARCH(\"1??\",C90)) =TRUE),\"0\",IF(AND(Fuhrparkliste!V99=\"Ja\",X90=\"1\",VLOOKUP(Werte!Q90,SFMATRIXKEY,3,FALSE)=\"Ja\"),\"1\",\"0\"))))","v":""},{"$f":"IF(C90=\"\",\"\",IF(AND(Fuhrparkliste!AA99=\"Ja\",C90=\"112\"),\"1\",\"0\"))","v":""},{"$f":"IF(Fuhrparkliste!AB99=\"\",\"\",VLOOKUP(Fuhrparkliste!AB99,MatrixVorVU,2,FALSE))","v":""},{"$f":"IF(Fuhrparkliste!AC99=\"\",\"\",Fuhrparkliste!AC99)","v":""},{"$f":"IF(C90=\"\",\"\",IF(Fuhrparkliste!O99=\"\",\"00\",VLOOKUP(Fuhrparkliste!O99,GEFAHRGUTMATRIXKEY,2,FALSE)))","v":""},{"$f":"IF(C90=\"\",\"\",\"11\")","v":""},{"$f":"IF(C90=\"\",\"\",IF(Werte!P90=\"\",\"F1\",VLOOKUP(Fuhrparkliste!P99,SFKOMPLETT,2,FALSE)))","v":""},{"$f":"IF(C90=\"\",\"\",IF(Fuhrparkliste!S99=\"\",\"00\",VLOOKUP(Fuhrparkliste!S99,KASKOMATRIXKEY,2,FALSE)))","v":""},{"$f":"IF(C90=\"\",\"\",IF(Werte!Q90=\"\",\"F1\",VLOOKUP(Fuhrparkliste!Q99,SFKOMPLETT,2,FALSE)))","v":""},{"$f":"IF(C90=\"\",\"\",Fuhrparkliste!R99)","v":""},{"$f":"SUBSTITUTE(Fuhrparkliste!E99,\" \",\"\")","v":""}]
["",{"$f":"IF(Fuhrparkliste!B100=\"\",\"\",IF(Fuhrparkliste!B100=\"112\",\"22\",\"26\"))","v":""},{"$f":"IF(Fuhrparkliste!B100=\"\",\"\",TRIM(IF(LEN(Fuhrparkliste!B100)=1,CONCATENATE(\"00\",Fuhrparkliste!B100),IF(LEN(Fuhrparkliste!B100)=2,CONCATENATE(\"0\",Fuhrparkliste!B100),CONCATENATE(Fuhrparkliste!B100,\" \")))))","v":""},"","",{"$f":"RIGHT(AI91,COUNT(RIGHT(AI91,COLUMN(90:90))*1))","v":""},{"$f":"IF(Fuhrparkliste!I100=\"\",\"\",Fuhrparkliste!I100)","v":""},{"$f":"IF(Fuhrparkliste!F100=\"\",\"\",IF(LEN(Fuhrparkliste!F100)=1,CONCATENATE(\"000\",Fuhrparkliste!F100),IF(LEN(Fuhrparkliste!F100)=2,CONCATENATE(\"00\",Fuhrparkliste!F100),IF(LEN(Fuhrparkliste!F100)=3,CONCATENATE(\"0\",Fuhrparkliste!F100),LEFT(Fuhrparkliste!F100,4)))))","v":""},{"$f":"IF(Fuhrparkliste!G100=\"\",\"\",IF(LEN(Fuhrparkliste!G100)=1,CONCATENATE(\"00\",Fuhrparkliste!G100),IF(LEN(Fuhrparkliste!G100)=2,CONCATENATE(\"0\",Fuhrparkliste!G100),LEFT(Fuhrparkliste!G100,3))))","v":""},{"$f":"IF(C91=\"\",\"\",IF(OR(C91=\"581\",C91=\"541\",C91=\"542\",C91=\"591\",C91=\"714\",C91=\"719\"),\"\",IF(Fuhrparkliste!C100=\"\",\"0\",Fuhrparkliste!C100)))","v":""},{"$f":"IF(C91=\"\",\"\",IF(Fuhrparkliste!Z100=\"\",\"0\",VLOOKUP(Fuhrparkliste!Z100,ELEKTROMATRIXKEY,2,FALSE)))","v":""},{"$f":"IF(Fuhrparkliste!D100=\"\",\"\",Fuhrparkliste!D100)","v":""},{"$f":"IF(Fuhrparkliste!N100=\"\",\"\",VLOOKUP(Fuhrparkliste!N100,AUFBAUMATRIXKEY,2,FALSE))","v":""},{"$f":"IF(Fuhrparkliste!T100=\"\",\"\",Fuhrparkliste!T100)","v":""},{"$f":"IF(C91=\"\",\"\",IF(AND(Fuhrparkliste!M100=\"Ja\",C91=\"112\"),\"1\",\"0\"))","v":""},{"$f":"IF(Fuhrparkliste!H100=\"\",\"\",Fuhrparkliste!H100)","v":""},{"$f":"IF(Fuhrparkliste!J100=\"\",\"\",Fuhrparkliste!J100)","v":""},{"$f":"IF(C91<>\"112\",\"\",IF(Fuhrparkliste!K100=\"Ja\",\"1\",\"0\"))","v":""},{"$f":"IF(OR(Fuhrparkliste!L100=\"\",C91<>\"127\"),\"\",VLOOKUP(Fuhrparkliste!L100,Bedachungsart,2,FALSE))","v":""},{"$f":"IF(C91=\"\",\"\",IF(AND(Fuhrparkliste!X100=\"Ja\",C91=\"112\"),\"1\",\"0\"))","v":""},{"$f":"IF(C91=\"\",\"\",IF(AND(Fuhrparkliste!Y100=\"Ja\",OR(C91=\"112\",C91=\"251\")),\"1\",\"0\"))","v":""},"",{"$f":"IF(C91=\"\",\"\",IF(AND(Fuhrparkliste!W100=\"Ja\",C91=\"112\"),\"1\",\"0\"))","v":""},{"$f":"IF(C91=\"\",\"\",IF(AND(ISERROR(SEARCH(\"0??\",tblRisiken!C91)) =TRUE,ISERROR(SEARCH(\"1??\",tblRisiken!C91)) =TRUE),\"0\",IF(AND(Fuhrparkliste!U100=\"Ja\",VLOOKUP(Werte!P91,SFMATRIXKEY,3,FALSE)=\"Ja\"),\"1\",\"0\")))","v":""},{"$f":"IF(C91=\"\",\"\",IF(OR(AF91=\"00\",LEFT(AF91,1)=\"7\"),\"0\",IF(AND(ISERROR(SEARCH(\"0??\",C91)) =TRUE,ISERROR(SEARCH(\"1??\",C91)) =TRUE),\"0\",IF(AND(Fuhrparkliste!V100=\"Ja\",X91=\"1\",VLOOKUP(Werte!Q91,SFMATRIXKEY,3,FALSE)=\"Ja\"),\"1\",\"0\"))))","v":""},{"$f":"IF(C91=\"\",\"\",IF(AND(Fuhrparkliste!AA100=\"Ja\",C91=\"112\"),\"1\",\"0\"))","v":""},{"$f":"IF(Fuhrparkliste!AB100=\"\",\"\",VLOOKUP(Fuhrparkliste!AB100,MatrixVorVU,2,FALSE))","v":""},{"$f":"IF(Fuhrparkliste!AC100=\"\",\"\",Fuhrparkliste!AC100)","v":""},{"$f":"IF(C91=\"\",\"\",IF(Fuhrparkliste!O100=\"\",\"00\",VLOOKUP(Fuhrparkliste!O100,GEFAHRGUTMATRIXKEY,2,FALSE)))","v":""},"",{"$f":"IF(C91=\"\",\"\",IF(Werte!P91=\"\",\"F1\",VLOOKUP(Fuhrparkliste!P100,SFKOMPLETT,2,FALSE)))","v":""},{"$f":"IF(C91=\"\",\"\",IF(Fuhrparkliste!S100=\"\",\"00\",VLOOKUP(Fuhrparkliste!S100,KASKOMATRIXKEY,2,FALSE)))","v":""},{"$f":"IF(C91=\"\",\"\",IF(Werte!Q91=\"\",\"F1\",VLOOKUP(Fuhrparkliste!Q100,SFKOMPLETT,2,FALSE)))","v":""},{"$f":"IF(C91=\"\",\"\",Fuhrparkliste!R100)","v":""},{"$f":"SUBSTITUTE(Fuhrparkliste!E100,\" \",\"\")","v":""}]
["",{"$f":"IF(Fuhrparkliste!B101=\"\",\"\",IF(Fuhrparkliste!B101=\"112\",\"22\",\"26\"))","v":""},{"$f":"IF(Fuhrparkliste!B101=\"\",\"\",TRIM(IF(LEN(Fuhrparkliste!B101)=1,CONCATENATE(\"00\",Fuhrparkliste!B101),IF(LEN(Fuhrparkliste!B101)=2,CONCATENATE(\"0\",Fuhrparkliste!B101),CONCATENATE(Fuhrparkliste!B101,\" \")))))","v":""},"","",{"$f":"RIGHT(AI92,COUNT(RIGHT(AI92,COLUMN(91:91))*1))","v":""},{"$f":"IF(Fuhrparkliste!I101=\"\",\"\",Fuhrparkliste!I101)","v":""},{"$f":"IF(Fuhrparkliste!F101=\"\",\"\",IF(LEN(Fuhrparkliste!F101)=1,CONCATENATE(\"000\",Fuhrparkliste!F101),IF(LEN(Fuhrparkliste!F101)=2,CONCATENATE(\"00\",Fuhrparkliste!F101),IF(LEN(Fuhrparkliste!F101)=3,CONCATENATE(\"0\",Fuhrparkliste!F101),LEFT(Fuhrparkliste!F101,4)))))","v":""},{"$f":"IF(Fuhrparkliste!G101=\"\",\"\",IF(LEN(Fuhrparkliste!G101)=1,CONCATENATE(\"00\",Fuhrparkliste!G101),IF(LEN(Fuhrparkliste!G101)=2,CONCATENATE(\"0\",Fuhrparkliste!G101),LEFT(Fuhrparkliste!G101,3))))","v":""},{"$f":"IF(C92=\"\",\"\",IF(OR(C92=\"581\",C92=\"541\",C92=\"542\",C92=\"591\",C92=\"714\",C92=\"719\"),\"\",IF(Fuhrparkliste!C101=\"\",\"0\",Fuhrparkliste!C101)))","v":""},{"$f":"IF(C92=\"\",\"\",IF(Fuhrparkliste!Z101=\"\",\"0\",VLOOKUP(Fuhrparkliste!Z101,ELEKTROMATRIXKEY,2,FALSE)))","v":""},{"$f":"IF(Fuhrparkliste!D101=\"\",\"\",Fuhrparkliste!D101)","v":""},{"$f":"IF(Fuhrparkliste!N101=\"\",\"\",VLOOKUP(Fuhrparkliste!N101,AUFBAUMATRIXKEY,2,FALSE))","v":""},{"$f":"IF(Fuhrparkliste!T101=\"\",\"\",Fuhrparkliste!T101)","v":""},{"$f":"IF(C92=\"\",\"\",IF(AND(Fuhrparkliste!M101=\"Ja\",C92=\"112\"),\"1\",\"0\"))","v":""},{"$f":"IF(Fuhrparkliste!H101=\"\",\"\",Fuhrparkliste!H101)","v":""},{"$f":"IF(Fuhrparkliste!J101=\"\",\"\",Fuhrparkliste!J101)","v":""},{"$f":"IF(C92<>\"112\",\"\",IF(Fuhrparkliste!K101=\"Ja\",\"1\",\"0\"))","v":""},{"$f":"IF(OR(Fuhrparkliste!L101=\"\",C92<>\"127\"),\"\",VLOOKUP(Fuhrparkliste!L101,Bedachungsart,2,FALSE))","v":""},{"$f":"IF(C92=\"\",\"\",IF(AND(Fuhrparkliste!X101=\"Ja\",C92=\"112\"),\"1\",\"0\"))","v":""},{"$f":"IF(C92=\"\",\"\",IF(AND(Fuhrparkliste!Y101=\"Ja\",OR(C92=\"112\",C92=\"251\")),\"1\",\"0\"))","v":""},"",{"$f":"IF(C92=\"\",\"\",IF(AND(Fuhrparkliste!W101=\"Ja\",C92=\"112\"),\"1\",\"0\"))","v":""},{"$f":"IF(C92=\"\",\"\",IF(AND(ISERROR(SEARCH(\"0??\",tblRisiken!C92)) =TRUE,ISERROR(SEARCH(\"1??\",tblRisiken!C92)) =TRUE),\"0\",IF(AND(Fuhrparkliste!U101=\"Ja\",VLOOKUP(Werte!P92,SFMATRIXKEY,3,FALSE)=\"Ja\"),\"1\",\"0\")))","v":""},{"$f":"IF(C92=\"\",\"\",IF(OR(AF92=\"00\",LEFT(AF92,1)=\"7\"),\"0\",IF(AND(ISERROR(SEARCH(\"0??\",C92)) =TRUE,ISERROR(SEARCH(\"1??\",C92)) =TRUE),\"0\",IF(AND(Fuhrparkliste!V101=\"Ja\",X92=\"1\",VLOOKUP(Werte!Q92,SFMATRIXKEY,3,FALSE)=\"Ja\"),\"1\",\"0\"))))","v":""},{"$f":"IF(C92=\"\",\"\",IF(AND(Fuhrparkliste!AA101=\"Ja\",C92=\"112\"),\"1\",\"0\"))","v":""},{"$f":"IF(Fuhrparkliste!AB101=\"\",\"\",VLOOKUP(Fuhrparkliste!AB101,MatrixVorVU,2,FALSE))","v":""},{"$f":"IF(Fuhrparkliste!AC101=\"\",\"\",Fuhrparkliste!AC101)","v":""},{"$f":"IF(C92=\"\",\"\",IF(Fuhrparkliste!O101=\"\",\"00\",VLOOKUP(Fuhrparkliste!O101,GEFAHRGUTMATRIXKEY,2,FALSE)))","v":""},"",{"$f":"IF(C92=\"\",\"\",IF(Werte!P92=\"\",\"F1\",VLOOKUP(Fuhrparkliste!P101,SFKOMPLETT,2,FALSE)))","v":""},{"$f":"IF(C92=\"\",\"\",IF(Fuhrparkliste!S101=\"\",\"00\",VLOOKUP(Fuhrparkliste!S101,KASKOMATRIXKEY,2,FALSE)))","v":""},{"$f":"IF(C92=\"\",\"\",IF(Werte!Q92=\"\",\"F1\",VLOOKUP(Fuhrparkliste!Q101,SFKOMPLETT,2,FALSE)))","v":""},{"$f":"IF(C92=\"\",\"\",Fuhrparkliste!R101)","v":""},{"$f":"SUBSTITUTE(Fuhrparkliste!E101,\" \",\"\")","v":""}]
["",{"$f":"IF(Fuhrparkliste!B102=\"\",\"\",IF(Fuhrparkliste!B102=\"112\",\"22\",\"26\"))","v":""},{"$f":"IF(Fuhrparkliste!B102=\"\",\"\",TRIM(IF(LEN(Fuhrparkliste!B102)=1,CONCATENATE(\"00\",Fuhrparkliste!B102),IF(LEN(Fuhrparkliste!B102)=2,CONCATENATE(\"0\",Fuhrparkliste!B102),CONCATENATE(Fuhrparkliste!B102,\" \")))))","v":""},"","",{"$f":"RIGHT(AI93,COUNT(RIGHT(AI93,COLUMN(92:92))*1))","v":""},{"$f":"IF(Fuhrparkliste!I102=\"\",\"\",Fuhrparkliste!I102)","v":""},{"$f":"IF(Fuhrparkliste!F102=\"\",\"\",IF(LEN(Fuhrparkliste!F102)=1,CONCATENATE(\"000\",Fuhrparkliste!F102),IF(LEN(Fuhrparkliste!F102)=2,CONCATENATE(\"00\",Fuhrparkliste!F102),IF(LEN(Fuhrparkliste!F102)=3,CONCATENATE(\"0\",Fuhrparkliste!F102),LEFT(Fuhrparkliste!F102,4)))))","v":""},{"$f":"IF(Fuhrparkliste!G102=\"\",\"\",IF(LEN(Fuhrparkliste!G102)=1,CONCATENATE(\"00\",Fuhrparkliste!G102),IF(LEN(Fuhrparkliste!G102)=2,CONCATENATE(\"0\",Fuhrparkliste!G102),LEFT(Fuhrparkliste!G102,3))))","v":""},{"$f":"IF(C93=\"\",\"\",IF(OR(C93=\"581\",C93=\"541\",C93=\"542\",C93=\"591\",C93=\"714\",C93=\"719\"),\"\",IF(Fuhrparkliste!C102=\"\",\"0\",Fuhrparkliste!C102)))","v":""},{"$f":"IF(C93=\"\",\"\",IF(Fuhrparkliste!Z102=\"\",\"0\",VLOOKUP(Fuhrparkliste!Z102,ELEKTROMATRIXKEY,2,FALSE)))","v":""},{"$f":"IF(Fuhrparkliste!D102=\"\",\"\",Fuhrparkliste!D102)","v":""},{"$f":"IF(Fuhrparkliste!N102=\"\",\"\",VLOOKUP(Fuhrparkliste!N102,AUFBAUMATRIXKEY,2,FALSE))","v":""},{"$f":"IF(Fuhrparkliste!T102=\"\",\"\",Fuhrparkliste!T102)","v":""},{"$f":"IF(C93=\"\",\"\",IF(AND(Fuhrparkliste!M102=\"Ja\",C93=\"112\"),\"1\",\"0\"))","v":""},{"$f":"IF(Fuhrparkliste!H102=\"\",\"\",Fuhrparkliste!H102)","v":""},{"$f":"IF(Fuhrparkliste!J102=\"\",\"\",Fuhrparkliste!J102)","v":""},{"$f":"IF(C93<>\"112\",\"\",IF(Fuhrparkliste!K102=\"Ja\",\"1\",\"0\"))","v":""},{"$f":"IF(OR(Fuhrparkliste!L102=\"\",C93<>\"127\"),\"\",VLOOKUP(Fuhrparkliste!L102,Bedachungsart,2,FALSE))","v":""},{"$f":"IF(C93=\"\",\"\",IF(AND(Fuhrparkliste!X102=\"Ja\",C93=\"112\"),\"1\",\"0\"))","v":""},{"$f":"IF(C93=\"\",\"\",IF(AND(Fuhrparkliste!Y102=\"Ja\",OR(C93=\"112\",C93=\"251\")),\"1\",\"0\"))","v":""},"",{"$f":"IF(C93=\"\",\"\",IF(AND(Fuhrparkliste!W102=\"Ja\",C93=\"112\"),\"1\",\"0\"))","v":""},{"$f":"IF(C93=\"\",\"\",IF(AND(ISERROR(SEARCH(\"0??\",tblRisiken!C93)) =TRUE,ISERROR(SEARCH(\"1??\",tblRisiken!C93)) =TRUE),\"0\",IF(AND(Fuhrparkliste!U102=\"Ja\",VLOOKUP(Werte!P93,SFMATRIXKEY,3,FALSE)=\"Ja\"),\"1\",\"0\")))","v":""},{"$f":"IF(C93=\"\",\"\",IF(OR(AF93=\"00\",LEFT(AF93,1)=\"7\"),\"0\",IF(AND(ISERROR(SEARCH(\"0??\",C93)) =TRUE,ISERROR(SEARCH(\"1??\",C93)) =TRUE),\"0\",IF(AND(Fuhrparkliste!V102=\"Ja\",X93=\"1\",VLOOKUP(Werte!Q93,SFMATRIXKEY,3,FALSE)=\"Ja\"),\"1\",\"0\"))))","v":""},{"$f":"IF(C93=\"\",\"\",IF(AND(Fuhrparkliste!AA102=\"Ja\",C93=\"112\"),\"1\",\"0\"))","v":""},{"$f":"IF(Fuhrparkliste!AB102=\"\",\"\",VLOOKUP(Fuhrparkliste!AB102,MatrixVorVU,2,FALSE))","v":""},{"$f":"IF(Fuhrparkliste!AC102=\"\",\"\",Fuhrparkliste!AC102)","v":""},{"$f":"IF(C93=\"\",\"\",IF(Fuhrparkliste!O102=\"\",\"00\",VLOOKUP(Fuhrparkliste!O102,GEFAHRGUTMATRIXKEY,2,FALSE)))","v":""},"",{"$f":"IF(C93=\"\",\"\",IF(Werte!P93=\"\",\"F1\",VLOOKUP(Fuhrparkliste!P102,SFKOMPLETT,2,FALSE)))","v":""},{"$f":"IF(C93=\"\",\"\",IF(Fuhrparkliste!S102=\"\",\"00\",VLOOKUP(Fuhrparkliste!S102,KASKOMATRIXKEY,2,FALSE)))","v":""},{"$f":"IF(C93=\"\",\"\",IF(Werte!Q93=\"\",\"F1\",VLOOKUP(Fuhrparkliste!Q102,SFKOMPLETT,2,FALSE)))","v":""},{"$f":"IF(C93=\"\",\"\",Fuhrparkliste!R102)","v":""},{"$f":"SUBSTITUTE(Fuhrparkliste!E102,\" \",\"\")","v":""}]
["",{"$f":"IF(Fuhrparkliste!B103=\"\",\"\",IF(Fuhrparkliste!B103=\"112\",\"22\",\"26\"))","v":""},{"$f":"IF(Fuhrparkliste!B103=\"\",\"\",TRIM(IF(LEN(Fuhrparkliste!B103)=1,CONCATENATE(\"00\",Fuhrparkliste!B103),IF(LEN(Fuhrparkliste!B103)=2,CONCATENATE(\"0\",Fuhrparkliste!B103),CONCATENATE(Fuhrparkliste!B103,\" \")))))","v":""},"","",{"$f":"RIGHT(AI94,COUNT(RIGHT(AI94,COLUMN(93:93))*1))","v":""},{"$f":"IF(Fuhrparkliste!I103=\"\",\"\",Fuhrparkliste!I103)","v":""},{"$f":"IF(Fuhrparkliste!F103=\"\",\"\",IF(LEN(Fuhrparkliste!F103)=1,CONCATENATE(\"000\",Fuhrparkliste!F103),IF(LEN(Fuhrparkliste!F103)=2,CONCATENATE(\"00\",Fuhrparkliste!F103),IF(LEN(Fuhrparkliste!F103)=3,CONCATENATE(\"0\",Fuhrparkliste!F103),LEFT(Fuhrparkliste!F103,4)))))","v":""},{"$f":"IF(Fuhrparkliste!G103=\"\",\"\",IF(LEN(Fuhrparkliste!G103)=1,CONCATENATE(\"00\",Fuhrparkliste!G103),IF(LEN(Fuhrparkliste!G103)=2,CONCATENATE(\"0\",Fuhrparkliste!G103),LEFT(Fuhrparkliste!G103,3))))","v":""},{"$f":"IF(C94=\"\",\"\",IF(OR(C94=\"581\",C94=\"541\",C94=\"542\",C94=\"591\",C94=\"714\",C94=\"719\"),\"\",IF(Fuhrparkliste!C103=\"\",\"0\",Fuhrparkliste!C103)))","v":""},{"$f":"IF(C94=\"\",\"\",IF(Fuhrparkliste!Z103=\"\",\"0\",VLOOKUP(Fuhrparkliste!Z103,ELEKTROMATRIXKEY,2,FALSE)))","v":""},{"$f":"IF(Fuhrparkliste!D103=\"\",\"\",Fuhrparkliste!D103)","v":""},{"$f":"IF(Fuhrparkliste!N103=\"\",\"\",VLOOKUP(Fuhrparkliste!N103,AUFBAUMATRIXKEY,2,FALSE))","v":""},{"$f":"IF(Fuhrparkliste!T103=\"\",\"\",Fuhrparkliste!T103)","v":""},{"$f":"IF(C94=\"\",\"\",IF(AND(Fuhrparkliste!M103=\"Ja\",C94=\"112\"),\"1\",\"0\"))","v":""},{"$f":"IF(Fuhrparkliste!H103=\"\",\"\",Fuhrparkliste!H103)","v":""},{"$f":"IF(Fuhrparkliste!J103=\"\",\"\",Fuhrparkliste!J103)","v":""},{"$f":"IF(C94<>\"112\",\"\",IF(Fuhrparkliste!K103=\"Ja\",\"1\",\"0\"))","v":""},{"$f":"IF(OR(Fuhrparkliste!L103=\"\",C94<>\"127\"),\"\",VLOOKUP(Fuhrparkliste!L103,Bedachungsart,2,FALSE))","v":""},{"$f":"IF(C94=\"\",\"\",IF(AND(Fuhrparkliste!X103=\"Ja\",C94=\"112\"),\"1\",\"0\"))","v":""},{"$f":"IF(C94=\"\",\"\",IF(AND(Fuhrparkliste!Y103=\"Ja\",OR(C94=\"112\",C94=\"251\")),\"1\",\"0\"))","v":""},"",{"$f":"IF(C94=\"\",\"\",IF(AND(Fuhrparkliste!W103=\"Ja\",C94=\"112\"),\"1\",\"0\"))","v":""},{"$f":"IF(C94=\"\",\"\",IF(AND(ISERROR(SEARCH(\"0??\",tblRisiken!C94)) =TRUE,ISERROR(SEARCH(\"1??\",tblRisiken!C94)) =TRUE),\"0\",IF(AND(Fuhrparkliste!U103=\"Ja\",VLOOKUP(Werte!P94,SFMATRIXKEY,3,FALSE)=\"Ja\"),\"1\",\"0\")))","v":""},{"$f":"IF(C94=\"\",\"\",IF(OR(AF94=\"00\",LEFT(AF94,1)=\"7\"),\"0\",IF(AND(ISERROR(SEARCH(\"0??\",C94)) =TRUE,ISERROR(SEARCH(\"1??\",C94)) =TRUE),\"0\",IF(AND(Fuhrparkliste!V103=\"Ja\",X94=\"1\",VLOOKUP(Werte!Q94,SFMATRIXKEY,3,FALSE)=\"Ja\"),\"1\",\"0\"))))","v":""},{"$f":"IF(C94=\"\",\"\",IF(AND(Fuhrparkliste!AA103=\"Ja\",C94=\"112\"),\"1\",\"0\"))","v":""},{"$f":"IF(Fuhrparkliste!AB103=\"\",\"\",VLOOKUP(Fuhrparkliste!AB103,MatrixVorVU,2,FALSE))","v":""},{"$f":"IF(Fuhrparkliste!AC103=\"\",\"\",Fuhrparkliste!AC103)","v":""},{"$f":"IF(C94=\"\",\"\",IF(Fuhrparkliste!O103=\"\",\"00\",VLOOKUP(Fuhrparkliste!O103,GEFAHRGUTMATRIXKEY,2,FALSE)))","v":""},"",{"$f":"IF(C94=\"\",\"\",IF(Werte!P94=\"\",\"F1\",VLOOKUP(Fuhrparkliste!P103,SFKOMPLETT,2,FALSE)))","v":""},{"$f":"IF(C94=\"\",\"\",IF(Fuhrparkliste!S103=\"\",\"00\",VLOOKUP(Fuhrparkliste!S103,KASKOMATRIXKEY,2,FALSE)))","v":""},{"$f":"IF(C94=\"\",\"\",IF(Werte!Q94=\"\",\"F1\",VLOOKUP(Fuhrparkliste!Q103,SFKOMPLETT,2,FALSE)))","v":""},{"$f":"IF(C94=\"\",\"\",Fuhrparkliste!R103)","v":""},{"$f":"SUBSTITUTE(Fuhrparkliste!E103,\" \",\"\")","v":""}]
["",{"$f":"IF(Fuhrparkliste!B104=\"\",\"\",IF(Fuhrparkliste!B104=\"112\",\"22\",\"26\"))","v":""},{"$f":"IF(Fuhrparkliste!B104=\"\",\"\",TRIM(IF(LEN(Fuhrparkliste!B104)=1,CONCATENATE(\"00\",Fuhrparkliste!B104),IF(LEN(Fuhrparkliste!B104)=2,CONCATENATE(\"0\",Fuhrparkliste!B104),CONCATENATE(Fuhrparkliste!B104,\" \")))))","v":""},"","",{"$f":"RIGHT(AI95,COUNT(RIGHT(AI95,COLUMN(94:94))*1))","v":""},{"$f":"IF(Fuhrparkliste!I104=\"\",\"\",Fuhrparkliste!I104)","v":""},{"$f":"IF(Fuhrparkliste!F104=\"\",\"\",IF(LEN(Fuhrparkliste!F104)=1,CONCATENATE(\"000\",Fuhrparkliste!F104),IF(LEN(Fuhrparkliste!F104)=2,CONCATENATE(\"00\",Fuhrparkliste!F104),IF(LEN(Fuhrparkliste!F104)=3,CONCATENATE(\"0\",Fuhrparkliste!F104),LEFT(Fuhrparkliste!F104,4)))))","v":""},{"$f":"IF(Fuhrparkliste!G104=\"\",\"\",IF(LEN(Fuhrparkliste!G104)=1,CONCATENATE(\"00\",Fuhrparkliste!G104),IF(LEN(Fuhrparkliste!G104)=2,CONCATENATE(\"0\",Fuhrparkliste!G104),LEFT(Fuhrparkliste!G104,3))))","v":""},{"$f":"IF(C95=\"\",\"\",IF(OR(C95=\"581\",C95=\"541\",C95=\"542\",C95=\"591\",C95=\"714\",C95=\"719\"),\"\",IF(Fuhrparkliste!C104=\"\",\"0\",Fuhrparkliste!C104)))","v":""},{"$f":"IF(C95=\"\",\"\",IF(Fuhrparkliste!Z104=\"\",\"0\",VLOOKUP(Fuhrparkliste!Z104,ELEKTROMATRIXKEY,2,FALSE)))","v":""},{"$f":"IF(Fuhrparkliste!D104=\"\",\"\",Fuhrparkliste!D104)","v":""},{"$f":"IF(Fuhrparkliste!N104=\"\",\"\",VLOOKUP(Fuhrparkliste!N104,AUFBAUMATRIXKEY,2,FALSE))","v":""},{"$f":"IF(Fuhrparkliste!T104=\"\",\"\",Fuhrparkliste!T104)","v":""},{"$f":"IF(C95=\"\",\"\",IF(AND(Fuhrparkliste!M104=\"Ja\",C95=\"112\"),\"1\",\"0\"))","v":""},{"$f":"IF(Fuhrparkliste!H104=\"\",\"\",Fuhrparkliste!H104)","v":""},{"$f":"IF(Fuhrparkliste!J104=\"\",\"\",Fuhrparkliste!J104)","v":""},{"$f":"IF(C95<>\"112\",\"\",IF(Fuhrparkliste!K104=\"Ja\",\"1\",\"0\"))","v":""},{"$f":"IF(OR(Fuhrparkliste!L104=\"\",C95<>\"127\"),\"\",VLOOKUP(Fuhrparkliste!L104,Bedachungsart,2,FALSE))","v":""},{"$f":"IF(C95=\"\",\"\",IF(AND(Fuhrparkliste!X104=\"Ja\",C95=\"112\"),\"1\",\"0\"))","v":""},{"$f":"IF(C95=\"\",\"\",IF(AND(Fuhrparkliste!Y104=\"Ja\",OR(C95=\"112\",C95=\"251\")),\"1\",\"0\"))","v":""},"",{"$f":"IF(C95=\"\",\"\",IF(AND(Fuhrparkliste!W104=\"Ja\",C95=\"112\"),\"1\",\"0\"))","v":""},{"$f":"IF(C95=\"\",\"\",IF(AND(ISERROR(SEARCH(\"0??\",tblRisiken!C95)) =TRUE,ISERROR(SEARCH(\"1??\",tblRisiken!C95)) =TRUE),\"0\",IF(AND(Fuhrparkliste!U104=\"Ja\",VLOOKUP(Werte!P95,SFMATRIXKEY,3,FALSE)=\"Ja\"),\"1\",\"0\")))","v":""},{"$f":"IF(C95=\"\",\"\",IF(OR(AF95=\"00\",LEFT(AF95,1)=\"7\"),\"0\",IF(AND(ISERROR(SEARCH(\"0??\",C95)) =TRUE,ISERROR(SEARCH(\"1??\",C95)) =TRUE),\"0\",IF(AND(Fuhrparkliste!V104=\"Ja\",X95=\"1\",VLOOKUP(Werte!Q95,SFMATRIXKEY,3,FALSE)=\"Ja\"),\"1\",\"0\"))))","v":""},{"$f":"IF(C95=\"\",\"\",IF(AND(Fuhrparkliste!AA104=\"Ja\",C95=\"112\"),\"1\",\"0\"))","v":""},{"$f":"IF(Fuhrparkliste!AB104=\"\",\"\",VLOOKUP(Fuhrparkliste!AB104,MatrixVorVU,2,FALSE))","v":""},{"$f":"IF(Fuhrparkliste!AC104=\"\",\"\",Fuhrparkliste!AC104)","v":""},{"$f":"IF(C95=\"\",\"\",IF(Fuhrparkliste!O104=\"\",\"00\",VLOOKUP(Fuhrparkliste!O104,GEFAHRGUTMATRIXKEY,2,FALSE)))","v":""},"",{"$f":"IF(C95=\"\",\"\",IF(Werte!P95=\"\",\"F1\",VLOOKUP(Fuhrparkliste!P104,SFKOMPLETT,2,FALSE)))","v":""},{"$f":"IF(C95=\"\",\"\",IF(Fuhrparkliste!S104=\"\",\"00\",VLOOKUP(Fuhrparkliste!S104,KASKOMATRIXKEY,2,FALSE)))","v":""},{"$f":"IF(C95=\"\",\"\",IF(Werte!Q95=\"\",\"F1\",VLOOKUP(Fuhrparkliste!Q104,SFKOMPLETT,2,FALSE)))","v":""},{"$f":"IF(C95=\"\",\"\",Fuhrparkliste!R104)","v":""},{"$f":"SUBSTITUTE(Fuhrparkliste!E104,\" \",\"\")","v":""}]
["",{"$f":"IF(Fuhrparkliste!B105=\"\",\"\",IF(Fuhrparkliste!B105=\"112\",\"22\",\"26\"))","v":""},{"$f":"IF(Fuhrparkliste!B105=\"\",\"\",TRIM(IF(LEN(Fuhrparkliste!B105)=1,CONCATENATE(\"00\",Fuhrparkliste!B105),IF(LEN(Fuhrparkliste!B105)=2,CONCATENATE(\"0\",Fuhrparkliste!B105),CONCATENATE(Fuhrparkliste!B105,\" \")))))","v":""},"","",{"$f":"RIGHT(AI96,COUNT(RIGHT(AI96,COLUMN(95:95))*1))","v":""},{"$f":"IF(Fuhrparkliste!I105=\"\",\"\",Fuhrparkliste!I105)","v":""},{"$f":"IF(Fuhrparkliste!F105=\"\",\"\",IF(LEN(Fuhrparkliste!F105)=1,CONCATENATE(\"000\",Fuhrparkliste!F105),IF(LEN(Fuhrparkliste!F105)=2,CONCATENATE(\"00\",Fuhrparkliste!F105),IF(LEN(Fuhrparkliste!F105)=3,CONCATENATE(\"0\",Fuhrparkliste!F105),LEFT(Fuhrparkliste!F105,4)))))","v":""},{"$f":"IF(Fuhrparkliste!G105=\"\",\"\",IF(LEN(Fuhrparkliste!G105)=1,CONCATENATE(\"00\",Fuhrparkliste!G105),IF(LEN(Fuhrparkliste!G105)=2,CONCATENATE(\"0\",Fuhrparkliste!G105),LEFT(Fuhrparkliste!G105,3))))","v":""},{"$f":"IF(C96=\"\",\"\",IF(OR(C96=\"581\",C96=\"541\",C96=\"542\",C96=\"591\",C96=\"714\",C96=\"719\"),\"\",IF(Fuhrparkliste!C105=\"\",\"0\",Fuhrparkliste!C105)))","v":""},{"$f":"IF(C96=\"\",\"\",IF(Fuhrparkliste!Z105=\"\",\"0\",VLOOKUP(Fuhrparkliste!Z105,ELEKTROMATRIXKEY,2,FALSE)))","v":""},{"$f":"IF(Fuhrparkliste!D105=\"\",\"\",Fuhrparkliste!D105)","v":""},{"$f":"IF(Fuhrparkliste!N105=\"\",\"\",VLOOKUP(Fuhrparkliste!N105,AUFBAUMATRIXKEY,2,FALSE))","v":""},{"$f":"IF(Fuhrparkliste!T105=\"\",\"\",Fuhrparkliste!T105)","v":""},{"$f":"IF(C96=\"\",\"\",IF(AND(Fuhrparkliste!M105=\"Ja\",C96=\"112\"),\"1\",\"0\"))","v":""},{"$f":"IF(Fuhrparkliste!H105=\"\",\"\",Fuhrparkliste!H105)","v":""},{"$f":"IF(Fuhrparkliste!J105=\"\",\"\",Fuhrparkliste!J105)","v":""},{"$f":"IF(C96<>\"112\",\"\",IF(Fuhrparkliste!K105=\"Ja\",\"1\",\"0\"))","v":""},{"$f":"IF(OR(Fuhrparkliste!L105=\"\",C96<>\"127\"),\"\",VLOOKUP(Fuhrparkliste!L105,Bedachungsart,2,FALSE))","v":""},{"$f":"IF(C96=\"\",\"\",IF(AND(Fuhrparkliste!X105=\"Ja\",C96=\"112\"),\"1\",\"0\"))","v":""},{"$f":"IF(C96=\"\",\"\",IF(AND(Fuhrparkliste!Y105=\"Ja\",OR(C96=\"112\",C96=\"251\")),\"1\",\"0\"))","v":""},"",{"$f":"IF(C96=\"\",\"\",IF(AND(Fuhrparkliste!W105=\"Ja\",C96=\"112\"),\"1\",\"0\"))","v":""},{"$f":"IF(C96=\"\",\"\",IF(AND(ISERROR(SEARCH(\"0??\",tblRisiken!C96)) =TRUE,ISERROR(SEARCH(\"1??\",tblRisiken!C96)) =TRUE),\"0\",IF(AND(Fuhrparkliste!U105=\"Ja\",VLOOKUP(Werte!P96,SFMATRIXKEY,3,FALSE)=\"Ja\"),\"1\",\"0\")))","v":""},{"$f":"IF(C96=\"\",\"\",IF(OR(AF96=\"00\",LEFT(AF96,1)=\"7\"),\"0\",IF(AND(ISERROR(SEARCH(\"0??\",C96)) =TRUE,ISERROR(SEARCH(\"1??\",C96)) =TRUE),\"0\",IF(AND(Fuhrparkliste!V105=\"Ja\",X96=\"1\",VLOOKUP(Werte!Q96,SFMATRIXKEY,3,FALSE)=\"Ja\"),\"1\",\"0\"))))","v":""},{"$f":"IF(C96=\"\",\"\",IF(AND(Fuhrparkliste!AA105=\"Ja\",C96=\"112\"),\"1\",\"0\"))","v":""},{"$f":"IF(Fuhrparkliste!AB105=\"\",\"\",VLOOKUP(Fuhrparkliste!AB105,MatrixVorVU,2,FALSE))","v":""},{"$f":"IF(Fuhrparkliste!AC105=\"\",\"\",Fuhrparkliste!AC105)","v":""},{"$f":"IF(C96=\"\",\"\",IF(Fuhrparkliste!O105=\"\",\"00\",VLOOKUP(Fuhrparkliste!O105,GEFAHRGUTMATRIXKEY,2,FALSE)))","v":""},"",{"$f":"IF(C96=\"\",\"\",IF(Werte!P96=\"\",\"F1\",VLOOKUP(Fuhrparkliste!P105,SFKOMPLETT,2,FALSE)))","v":""},{"$f":"IF(C96=\"\",\"\",IF(Fuhrparkliste!S105=\"\",\"00\",VLOOKUP(Fuhrparkliste!S105,KASKOMATRIXKEY,2,FALSE)))","v":""},{"$f":"IF(C96=\"\",\"\",IF(Werte!Q96=\"\",\"F1\",VLOOKUP(Fuhrparkliste!Q105,SFKOMPLETT,2,FALSE)))","v":""},{"$f":"IF(C96=\"\",\"\",Fuhrparkliste!R105)","v":""},{"$f":"SUBSTITUTE(Fuhrparkliste!E105,\" \",\"\")","v":""}]
["",{"$f":"IF(Fuhrparkliste!B106=\"\",\"\",IF(Fuhrparkliste!B106=\"112\",\"22\",\"26\"))","v":""},{"$f":"IF(Fuhrparkliste!B106=\"\",\"\",TRIM(IF(LEN(Fuhrparkliste!B106)=1,CONCATENATE(\"00\",Fuhrparkliste!B106),IF(LEN(Fuhrparkliste!B106)=2,CONCATENATE(\"0\",Fuhrparkliste!B106),CONCATENATE(Fuhrparkliste!B106,\" \")))))","v":""},"","",{"$f":"RIGHT(AI97,COUNT(RIGHT(AI97,COLUMN(96:96))*1))","v":""},{"$f":"IF(Fuhrparkliste!I106=\"\",\"\",Fuhrparkliste!I106)","v":""},{"$f":"IF(Fuhrparkliste!F106=\"\",\"\",IF(LEN(Fuhrparkliste!F106)=1,CONCATENATE(\"000\",Fuhrparkliste!F106),IF(LEN(Fuhrparkliste!F106)=2,CONCATENATE(\"00\",Fuhrparkliste!F106),IF(LEN(Fuhrparkliste!F106)=3,CONCATENATE(\"0\",Fuhrparkliste!F106),LEFT(Fuhrparkliste!F106,4)))))","v":""},{"$f":"IF(Fuhrparkliste!G106=\"\",\"\",IF(LEN(Fuhrparkliste!G106)=1,CONCATENATE(\"00\",Fuhrparkliste!G106),IF(LEN(Fuhrparkliste!G106)=2,CONCATENATE(\"0\",Fuhrparkliste!G106),LEFT(Fuhrparkliste!G106,3))))","v":""},{"$f":"IF(C97=\"\",\"\",IF(OR(C97=\"581\",C97=\"541\",C97=\"542\",C97=\"591\",C97=\"714\",C97=\"719\"),\"\",IF(Fuhrparkliste!C106=\"\",\"0\",Fuhrparkliste!C106)))","v":""},{"$f":"IF(C97=\"\",\"\",IF(Fuhrparkliste!Z106=\"\",\"0\",VLOOKUP(Fuhrparkliste!Z106,ELEKTROMATRIXKEY,2,FALSE)))","v":""},{"$f":"IF(Fuhrparkliste!D106=\"\",\"\",Fuhrparkliste!D106)","v":""},{"$f":"IF(Fuhrparkliste!N106=\"\",\"\",VLOOKUP(Fuhrparkliste!N106,AUFBAUMATRIXKEY,2,FALSE))","v":""},{"$f":"IF(Fuhrparkliste!T106=\"\",\"\",Fuhrparkliste!T106)","v":""},{"$f":"IF(C97=\"\",\"\",IF(AND(Fuhrparkliste!M106=\"Ja\",C97=\"112\"),\"1\",\"0\"))","v":""},{"$f":"IF(Fuhrparkliste!H106=\"\",\"\",Fuhrparkliste!H106)","v":""},{"$f":"IF(Fuhrparkliste!J106=\"\",\"\",Fuhrparkliste!J106)","v":""},{"$f":"IF(C97<>\"112\",\"\",IF(Fuhrparkliste!K106=\"Ja\",\"1\",\"0\"))","v":""},{"$f":"IF(OR(Fuhrparkliste!L106=\"\",C97<>\"127\"),\"\",VLOOKUP(Fuhrparkliste!L106,Bedachungsart,2,FALSE))","v":""},{"$f":"IF(C97=\"\",\"\",IF(AND(Fuhrparkliste!X106=\"Ja\",C97=\"112\"),\"1\",\"0\"))","v":""},{"$f":"IF(C97=\"\",\"\",IF(AND(Fuhrparkliste!Y106=\"Ja\",OR(C97=\"112\",C97=\"251\")),\"1\",\"0\"))","v":""},"",{"$f":"IF(C97=\"\",\"\",IF(AND(Fuhrparkliste!W106=\"Ja\",C97=\"112\"),\"1\",\"0\"))","v":""},{"$f":"IF(C97=\"\",\"\",IF(AND(ISERROR(SEARCH(\"0??\",tblRisiken!C97)) =TRUE,ISERROR(SEARCH(\"1??\",tblRisiken!C97)) =TRUE),\"0\",IF(AND(Fuhrparkliste!U106=\"Ja\",VLOOKUP(Werte!P97,SFMATRIXKEY,3,FALSE)=\"Ja\"),\"1\",\"0\")))","v":""},{"$f":"IF(C97=\"\",\"\",IF(OR(AF97=\"00\",LEFT(AF97,1)=\"7\"),\"0\",IF(AND(ISERROR(SEARCH(\"0??\",C97)) =TRUE,ISERROR(SEARCH(\"1??\",C97)) =TRUE),\"0\",IF(AND(Fuhrparkliste!V106=\"Ja\",X97=\"1\",VLOOKUP(Werte!Q97,SFMATRIXKEY,3,FALSE)=\"Ja\"),\"1\",\"0\"))))","v":""},{"$f":"IF(C97=\"\",\"\",IF(AND(Fuhrparkliste!AA106=\"Ja\",C97=\"112\"),\"1\",\"0\"))","v":""},{"$f":"IF(Fuhrparkliste!AB106=\"\",\"\",VLOOKUP(Fuhrparkliste!AB106,MatrixVorVU,2,FALSE))","v":""},{"$f":"IF(Fuhrparkliste!AC106=\"\",\"\",Fuhrparkliste!AC106)","v":""},{"$f":"IF(C97=\"\",\"\",IF(Fuhrparkliste!O106=\"\",\"00\",VLOOKUP(Fuhrparkliste!O106,GEFAHRGUTMATRIXKEY,2,FALSE)))","v":""},"",{"$f":"IF(C97=\"\",\"\",IF(Werte!P97=\"\",\"F1\",VLOOKUP(Fuhrparkliste!P106,SFKOMPLETT,2,FALSE)))","v":""},{"$f":"IF(C97=\"\",\"\",IF(Fuhrparkliste!S106=\"\",\"00\",VLOOKUP(Fuhrparkliste!S106,KASKOMATRIXKEY,2,FALSE)))","v":""},{"$f":"IF(C97=\"\",\"\",IF(Werte!Q97=\"\",\"F1\",VLOOKUP(Fuhrparkliste!Q106,SFKOMPLETT,2,FALSE)))","v":""},{"$f":"IF(C97=\"\",\"\",Fuhrparkliste!R106)","v":""},{"$f":"SUBSTITUTE(Fuhrparkliste!E106,\" \",\"\")","v":""}]
["",{"$f":"IF(Fuhrparkliste!B107=\"\",\"\",IF(Fuhrparkliste!B107=\"112\",\"22\",\"26\"))","v":""},{"$f":"IF(Fuhrparkliste!B107=\"\",\"\",TRIM(IF(LEN(Fuhrparkliste!B107)=1,CONCATENATE(\"00\",Fuhrparkliste!B107),IF(LEN(Fuhrparkliste!B107)=2,CONCATENATE(\"0\",Fuhrparkliste!B107),CONCATENATE(Fuhrparkliste!B107,\" \")))))","v":""},"","",{"$f":"RIGHT(AI98,COUNT(RIGHT(AI98,COLUMN(97:97))*1))","v":""},{"$f":"IF(Fuhrparkliste!I107=\"\",\"\",Fuhrparkliste!I107)","v":""},{"$f":"IF(Fuhrparkliste!F107=\"\",\"\",IF(LEN(Fuhrparkliste!F107)=1,CONCATENATE(\"000\",Fuhrparkliste!F107),IF(LEN(Fuhrparkliste!F107)=2,CONCATENATE(\"00\",Fuhrparkliste!F107),IF(LEN(Fuhrparkliste!F107)=3,CONCATENATE(\"0\",Fuhrparkliste!F107),LEFT(Fuhrparkliste!F107,4)))))","v":""},{"$f":"IF(Fuhrparkliste!G107=\"\",\"\",IF(LEN(Fuhrparkliste!G107)=1,CONCATENATE(\"00\",Fuhrparkliste!G107),IF(LEN(Fuhrparkliste!G107)=2,CONCATENATE(\"0\",Fuhrparkliste!G107),LEFT(Fuhrparkliste!G107,3))))","v":""},{"$f":"IF(C98=\"\",\"\",IF(OR(C98=\"581\",C98=\"541\",C98=\"542\",C98=\"591\",C98=\"714\",C98=\"719\"),\"\",IF(Fuhrparkliste!C107=\"\",\"0\",Fuhrparkliste!C107)))","v":""},{"$f":"IF(C98=\"\",\"\",IF(Fuhrparkliste!Z107=\"\",\"0\",VLOOKUP(Fuhrparkliste!Z107,ELEKTROMATRIXKEY,2,FALSE)))","v":""},{"$f":"IF(Fuhrparkliste!D107=\"\",\"\",Fuhrparkliste!D107)","v":""},{"$f":"IF(Fuhrparkliste!N107=\"\",\"\",VLOOKUP(Fuhrparkliste!N107,AUFBAUMATRIXKEY,2,FALSE))","v":""},{"$f":"IF(Fuhrparkliste!T107=\"\",\"\",Fuhrparkliste!T107)","v":""},{"$f":"IF(C98=\"\",\"\",IF(AND(Fuhrparkliste!M107=\"Ja\",C98=\"112\"),\"1\",\"0\"))","v":""},{"$f":"IF(Fuhrparkliste!H107=\"\",\"\",Fuhrparkliste!H107)","v":""},{"$f":"IF(Fuhrparkliste!J107=\"\",\"\",Fuhrparkliste!J107)","v":""},{"$f":"IF(C98<>\"112\",\"\",IF(Fuhrparkliste!K107=\"Ja\",\"1\",\"0\"))","v":""},{"$f":"IF(OR(Fuhrparkliste!L107=\"\",C98<>\"127\"),\"\",VLOOKUP(Fuhrparkliste!L107,Bedachungsart,2,FALSE))","v":""},{"$f":"IF(C98=\"\",\"\",IF(AND(Fuhrparkliste!X107=\"Ja\",C98=\"112\"),\"1\",\"0\"))","v":""},{"$f":"IF(C98=\"\",\"\",IF(AND(Fuhrparkliste!Y107=\"Ja\",OR(C98=\"112\",C98=\"251\")),\"1\",\"0\"))","v":""},"",{"$f":"IF(C98=\"\",\"\",IF(AND(Fuhrparkliste!W107=\"Ja\",C98=\"112\"),\"1\",\"0\"))","v":""},{"$f":"IF(C98=\"\",\"\",IF(AND(ISERROR(SEARCH(\"0??\",tblRisiken!C98)) =TRUE,ISERROR(SEARCH(\"1??\",tblRisiken!C98)) =TRUE),\"0\",IF(AND(Fuhrparkliste!U107=\"Ja\",VLOOKUP(Werte!P98,SFMATRIXKEY,3,FALSE)=\"Ja\"),\"1\",\"0\")))","v":""},{"$f":"IF(C98=\"\",\"\",IF(OR(AF98=\"00\",LEFT(AF98,1)=\"7\"),\"0\",IF(AND(ISERROR(SEARCH(\"0??\",C98)) =TRUE,ISERROR(SEARCH(\"1??\",C98)) =TRUE),\"0\",IF(AND(Fuhrparkliste!V107=\"Ja\",X98=\"1\",VLOOKUP(Werte!Q98,SFMATRIXKEY,3,FALSE)=\"Ja\"),\"1\",\"0\"))))","v":""},{"$f":"IF(C98=\"\",\"\",IF(AND(Fuhrparkliste!AA107=\"Ja\",C98=\"112\"),\"1\",\"0\"))","v":""},{"$f":"IF(Fuhrparkliste!AB107=\"\",\"\",VLOOKUP(Fuhrparkliste!AB107,MatrixVorVU,2,FALSE))","v":""},{"$f":"IF(Fuhrparkliste!AC107=\"\",\"\",Fuhrparkliste!AC107)","v":""},{"$f":"IF(C98=\"\",\"\",IF(Fuhrparkliste!O107=\"\",\"00\",VLOOKUP(Fuhrparkliste!O107,GEFAHRGUTMATRIXKEY,2,FALSE)))","v":""},"",{"$f":"IF(C98=\"\",\"\",IF(Werte!P98=\"\",\"F1\",VLOOKUP(Fuhrparkliste!P107,SFKOMPLETT,2,FALSE)))","v":""},{"$f":"IF(C98=\"\",\"\",IF(Fuhrparkliste!S107=\"\",\"00\",VLOOKUP(Fuhrparkliste!S107,KASKOMATRIXKEY,2,FALSE)))","v":""},{"$f":"IF(C98=\"\",\"\",IF(Werte!Q98=\"\",\"F1\",VLOOKUP(Fuhrparkliste!Q107,SFKOMPLETT,2,FALSE)))","v":""},{"$f":"IF(C98=\"\",\"\",Fuhrparkliste!R107)","v":""},{"$f":"SUBSTITUTE(Fuhrparkliste!E107,\" \",\"\")","v":""}]
["",{"$f":"IF(Fuhrparkliste!B108=\"\",\"\",IF(Fuhrparkliste!B108=\"112\",\"22\",\"26\"))","v":""},{"$f":"IF(Fuhrparkliste!B108=\"\",\"\",TRIM(IF(LEN(Fuhrparkliste!B108)=1,CONCATENATE(\"00\",Fuhrparkliste!B108),IF(LEN(Fuhrparkliste!B108)=2,CONCATENATE(\"0\",Fuhrparkliste!B108),CONCATENATE(Fuhrparkliste!B108,\" \")))))","v":""},"","",{"$f":"RIGHT(AI99,COUNT(RIGHT(AI99,COLUMN(98:98))*1))","v":""},{"$f":"IF(Fuhrparkliste!I108=\"\",\"\",Fuhrparkliste!I108)","v":""},{"$f":"IF(Fuhrparkliste!F108=\"\",\"\",IF(LEN(Fuhrparkliste!F108)=1,CONCATENATE(\"000\",Fuhrparkliste!F108),IF(LEN(Fuhrparkliste!F108)=2,CONCATENATE(\"00\",Fuhrparkliste!F108),IF(LEN(Fuhrparkliste!F108)=3,CONCATENATE(\"0\",Fuhrparkliste!F108),LEFT(Fuhrparkliste!F108,4)))))","v":""},{"$f":"IF(Fuhrparkliste!G108=\"\",\"\",IF(LEN(Fuhrparkliste!G108)=1,CONCATENATE(\"00\",Fuhrparkliste!G108),IF(LEN(Fuhrparkliste!G108)=2,CONCATENATE(\"0\",Fuhrparkliste!G108),LEFT(Fuhrparkliste!G108,3))))","v":""},{"$f":"IF(C99=\"\",\"\",IF(OR(C99=\"581\",C99=\"541\",C99=\"542\",C99=\"591\",C99=\"714\",C99=\"719\"),\"\",IF(Fuhrparkliste!C108=\"\",\"0\",Fuhrparkliste!C108)))","v":""},{"$f":"IF(C99=\"\",\"\",IF(Fuhrparkliste!Z108=\"\",\"0\",VLOOKUP(Fuhrparkliste!Z108,ELEKTROMATRIXKEY,2,FALSE)))","v":""},{"$f":"IF(Fuhrparkliste!D108=\"\",\"\",Fuhrparkliste!D108)","v":""},{"$f":"IF(Fuhrparkliste!N108=\"\",\"\",VLOOKUP(Fuhrparkliste!N108,AUFBAUMATRIXKEY,2,FALSE))","v":""},{"$f":"IF(Fuhrparkliste!T108=\"\",\"\",Fuhrparkliste!T108)","v":""},{"$f":"IF(C99=\"\",\"\",IF(AND(Fuhrparkliste!M108=\"Ja\",C99=\"112\"),\"1\",\"0\"))","v":""},{"$f":"IF(Fuhrparkliste!H108=\"\",\"\",Fuhrparkliste!H108)","v":""},{"$f":"IF(Fuhrparkliste!J108=\"\",\"\",Fuhrparkliste!J108)","v":""},{"$f":"IF(C99<>\"112\",\"\",IF(Fuhrparkliste!K108=\"Ja\",\"1\",\"0\"))","v":""},{"$f":"IF(OR(Fuhrparkliste!L108=\"\",C99<>\"127\"),\"\",VLOOKUP(Fuhrparkliste!L108,Bedachungsart,2,FALSE))","v":""},{"$f":"IF(C99=\"\",\"\",IF(AND(Fuhrparkliste!X108=\"Ja\",C99=\"112\"),\"1\",\"0\"))","v":""},{"$f":"IF(C99=\"\",\"\",IF(AND(Fuhrparkliste!Y108=\"Ja\",OR(C99=\"112\",C99=\"251\")),\"1\",\"0\"))","v":""},"",{"$f":"IF(C99=\"\",\"\",IF(AND(Fuhrparkliste!W108=\"Ja\",C99=\"112\"),\"1\",\"0\"))","v":""},{"$f":"IF(C99=\"\",\"\",IF(AND(ISERROR(SEARCH(\"0??\",tblRisiken!C99)) =TRUE,ISERROR(SEARCH(\"1??\",tblRisiken!C99)) =TRUE),\"0\",IF(AND(Fuhrparkliste!U108=\"Ja\",VLOOKUP(Werte!P99,SFMATRIXKEY,3,FALSE)=\"Ja\"),\"1\",\"0\")))","v":""},{"$f":"IF(C99=\"\",\"\",IF(OR(AF99=\"00\",LEFT(AF99,1)=\"7\"),\"0\",IF(AND(ISERROR(SEARCH(\"0??\",C99)) =TRUE,ISERROR(SEARCH(\"1??\",C99)) =TRUE),\"0\",IF(AND(Fuhrparkliste!V108=\"Ja\",X99=\"1\",VLOOKUP(Werte!Q99,SFMATRIXKEY,3,FALSE)=\"Ja\"),\"1\",\"0\"))))","v":""},{"$f":"IF(C99=\"\",\"\",IF(AND(Fuhrparkliste!AA108=\"Ja\",C99=\"112\"),\"1\",\"0\"))","v":""},{"$f":"IF(Fuhrparkliste!AB108=\"\",\"\",VLOOKUP(Fuhrparkliste!AB108,MatrixVorVU,2,FALSE))","v":""},{"$f":"IF(Fuhrparkliste!AC108=\"\",\"\",Fuhrparkliste!AC108)","v":""},{"$f":"IF(C99=\"\",\"\",IF(Fuhrparkliste!O108=\"\",\"00\",VLOOKUP(Fuhrparkliste!O108,GEFAHRGUTMATRIXKEY,2,FALSE)))","v":""},"",{"$f":"IF(C99=\"\",\"\",IF(Werte!P99=\"\",\"F1\",VLOOKUP(Fuhrparkliste!P108,SFKOMPLETT,2,FALSE)))","v":""},{"$f":"IF(C99=\"\",\"\",IF(Fuhrparkliste!S108=\"\",\"00\",VLOOKUP(Fuhrparkliste!S108,KASKOMATRIXKEY,2,FALSE)))","v":""},{"$f":"IF(C99=\"\",\"\",IF(Werte!Q99=\"\",\"F1\",VLOOKUP(Fuhrparkliste!Q108,SFKOMPLETT,2,FALSE)))","v":""},{"$f":"IF(C99=\"\",\"\",Fuhrparkliste!R108)","v":""},{"$f":"SUBSTITUTE(Fuhrparkliste!E108,\" \",\"\")","v":""}]
["",{"$f":"IF(Fuhrparkliste!B109=\"\",\"\",IF(Fuhrparkliste!B109=\"112\",\"22\",\"26\"))","v":""},{"$f":"IF(Fuhrparkliste!B109=\"\",\"\",TRIM(IF(LEN(Fuhrparkliste!B109)=1,CONCATENATE(\"00\",Fuhrparkliste!B109),IF(LEN(Fuhrparkliste!B109)=2,CONCATENATE(\"0\",Fuhrparkliste!B109),CONCATENATE(Fuhrparkliste!B109,\" \")))))","v":""},"","",{"$f":"RIGHT(AI100,COUNT(RIGHT(AI100,COLUMN(99:99))*1))","v":""},{"$f":"IF(Fuhrparkliste!I109=\"\",\"\",Fuhrparkliste!I109)","v":""},{"$f":"IF(Fuhrparkliste!F109=\"\",\"\",IF(LEN(Fuhrparkliste!F109)=1,CONCATENATE(\"000\",Fuhrparkliste!F109),IF(LEN(Fuhrparkliste!F109)=2,CONCATENATE(\"00\",Fuhrparkliste!F109),IF(LEN(Fuhrparkliste!F109)=3,CONCATENATE(\"0\",Fuhrparkliste!F109),LEFT(Fuhrparkliste!F109,4)))))","v":""},{"$f":"IF(Fuhrparkliste!G109=\"\",\"\",IF(LEN(Fuhrparkliste!G109)=1,CONCATENATE(\"00\",Fuhrparkliste!G109),IF(LEN(Fuhrparkliste!G109)=2,CONCATENATE(\"0\",Fuhrparkliste!G109),LEFT(Fuhrparkliste!G109,3))))","v":""},{"$f":"IF(C100=\"\",\"\",IF(OR(C100=\"581\",C100=\"541\",C100=\"542\",C100=\"591\",C100=\"714\",C100=\"719\"),\"\",IF(Fuhrparkliste!C109=\"\",\"0\",Fuhrparkliste!C109)))","v":""},{"$f":"IF(C100=\"\",\"\",IF(Fuhrparkliste!Z109=\"\",\"0\",VLOOKUP(Fuhrparkliste!Z109,ELEKTROMATRIXKEY,2,FALSE)))","v":""},{"$f":"IF(Fuhrparkliste!D109=\"\",\"\",Fuhrparkliste!D109)","v":""},{"$f":"IF(Fuhrparkliste!N109=\"\",\"\",VLOOKUP(Fuhrparkliste!N109,AUFBAUMATRIXKEY,2,FALSE))","v":""},{"$f":"IF(Fuhrparkliste!T109=\"\",\"\",Fuhrparkliste!T109)","v":""},{"$f":"IF(C100=\"\",\"\",IF(AND(Fuhrparkliste!M109=\"Ja\",C100=\"112\"),\"1\",\"0\"))","v":""},{"$f":"IF(Fuhrparkliste!H109=\"\",\"\",Fuhrparkliste!H109)","v":""},{"$f":"IF(Fuhrparkliste!J109=\"\",\"\",Fuhrparkliste!J109)","v":""},{"$f":"IF(C100<>\"112\",\"\",IF(Fuhrparkliste!K109=\"Ja\",\"1\",\"0\"))","v":""},{"$f":"IF(OR(Fuhrparkliste!L109=\"\",C100<>\"127\"),\"\",VLOOKUP(Fuhrparkliste!L109,Bedachungsart,2,FALSE))","v":""},{"$f":"IF(C100=\"\",\"\",IF(AND(Fuhrparkliste!X109=\"Ja\",C100=\"112\"),\"1\",\"0\"))","v":""},{"$f":"IF(C100=\"\",\"\",IF(AND(Fuhrparkliste!Y109=\"Ja\",OR(C100=\"112\",C100=\"251\")),\"1\",\"0\"))","v":""},"",{"$f":"IF(C100=\"\",\"\",IF(AND(Fuhrparkliste!W109=\"Ja\",C100=\"112\"),\"1\",\"0\"))","v":""},{"$f":"IF(C100=\"\",\"\",IF(AND(ISERROR(SEARCH(\"0??\",tblRisiken!C100)) =TRUE,ISERROR(SEARCH(\"1??\",tblRisiken!C100)) =TRUE),\"0\",IF(AND(Fuhrparkliste!U109=\"Ja\",VLOOKUP(Werte!P100,SFMATRIXKEY,3,FALSE)=\"Ja\"),\"1\",\"0\")))","v":""},{"$f":"IF(C100=\"\",\"\",IF(OR(AF100=\"00\",LEFT(AF100,1)=\"7\"),\"0\",IF(AND(ISERROR(SEARCH(\"0??\",C100)) =TRUE,ISERROR(SEARCH(\"1??\",C100)) =TRUE),\"0\",IF(AND(Fuhrparkliste!V109=\"Ja\",X100=\"1\",VLOOKUP(Werte!Q100,SFMATRIXKEY,3,FALSE)=\"Ja\"),\"1\",\"0\"))))","v":""},{"$f":"IF(C100=\"\",\"\",IF(AND(Fuhrparkliste!AA109=\"Ja\",C100=\"112\"),\"1\",\"0\"))","v":""},{"$f":"IF(Fuhrparkliste!AB109=\"\",\"\",VLOOKUP(Fuhrparkliste!AB109,MatrixVorVU,2,FALSE))","v":""},{"$f":"IF(Fuhrparkliste!AC109=\"\",\"\",Fuhrparkliste!AC109)","v":""},{"$f":"IF(C100=\"\",\"\",IF(Fuhrparkliste!O109=\"\",\"00\",VLOOKUP(Fuhrparkliste!O109,GEFAHRGUTMATRIXKEY,2,FALSE)))","v":""},"",{"$f":"IF(C100=\"\",\"\",IF(Werte!P100=\"\",\"F1\",VLOOKUP(Fuhrparkliste!P109,SFKOMPLETT,2,FALSE)))","v":""},{"$f":"IF(C100=\"\",\"\",IF(Fuhrparkliste!S109=\"\",\"00\",VLOOKUP(Fuhrparkliste!S109,KASKOMATRIXKEY,2,FALSE)))","v":""},{"$f":"IF(C100=\"\",\"\",IF(Werte!Q100=\"\",\"F1\",VLOOKUP(Fuhrparkliste!Q109,SFKOMPLETT,2,FALSE)))","v":""},{"$f":"IF(C100=\"\",\"\",Fuhrparkliste!R109)","v":""},{"$f":"SUBSTITUTE(Fuhrparkliste!E109,\" \",\"\")","v":""}]
[{"$f":"IF(C101=\"\",\"\",CONCATENATE(\"\",A100+1))","v":""},{"$f":"IF(Fuhrparkliste!B110=\"\",\"\",IF(Fuhrparkliste!B110=\"112\",\"22\",\"26\"))","v":""},{"$f":"IF(Fuhrparkliste!B110=\"\",\"\",TRIM(IF(LEN(Fuhrparkliste!B110)=1,CONCATENATE(\"00\",Fuhrparkliste!B110),IF(LEN(Fuhrparkliste!B110)=2,CONCATENATE(\"0\",Fuhrparkliste!B110),CONCATENATE(Fuhrparkliste!B110,\" \")))))","v":""},"","",{"$f":"RIGHT(AI101,COUNT(RIGHT(AI101,COLUMN(100:100))*1))","v":""},{"$f":"IF(Fuhrparkliste!I110=\"\",\"\",Fuhrparkliste!I110)","v":""},{"$f":"IF(Fuhrparkliste!F110=\"\",\"\",IF(LEN(Fuhrparkliste!F110)=1,CONCATENATE(\"000\",Fuhrparkliste!F110),IF(LEN(Fuhrparkliste!F110)=2,CONCATENATE(\"00\",Fuhrparkliste!F110),IF(LEN(Fuhrparkliste!F110)=3,CONCATENATE(\"0\",Fuhrparkliste!F110),LEFT(Fuhrparkliste!F110,4)))))","v":""},{"$f":"IF(Fuhrparkliste!G110=\"\",\"\",IF(LEN(Fuhrparkliste!G110)=1,CONCATENATE(\"00\",Fuhrparkliste!G110),IF(LEN(Fuhrparkliste!G110)=2,CONCATENATE(\"0\",Fuhrparkliste!G110),LEFT(Fuhrparkliste!G110,3))))","v":""},{"$f":"IF(C101=\"\",\"\",IF(OR(C101=\"581\",C101=\"541\",C101=\"542\",C101=\"591\",C101=\"714\",C101=\"719\"),\"\",IF(Fuhrparkliste!C110=\"\",\"0\",Fuhrparkliste!C110)))","v":""},{"$f":"IF(C101=\"\",\"\",IF(Fuhrparkliste!Z110=\"\",\"0\",VLOOKUP(Fuhrparkliste!Z110,ELEKTROMATRIXKEY,2,FALSE)))","v":""},{"$f":"IF(Fuhrparkliste!D110=\"\",\"\",Fuhrparkliste!D110)","v":""},{"$f":"IF(Fuhrparkliste!N110=\"\",\"\",VLOOKUP(Fuhrparkliste!N110,AUFBAUMATRIXKEY,2,FALSE))","v":""},{"$f":"IF(Fuhrparkliste!T110=\"\",\"\",Fuhrparkliste!T110)","v":""},{"$f":"IF(C101=\"\",\"\",IF(AND(Fuhrparkliste!M110=\"Ja\",C101=\"112\"),\"1\",\"0\"))","v":""},{"$f":"IF(Fuhrparkliste!H110=\"\",\"\",Fuhrparkliste!H110)","v":""},{"$f":"IF(Fuhrparkliste!J110=\"\",\"\",Fuhrparkliste!J110)","v":""},{"$f":"IF(C101<>\"112\",\"\",IF(Fuhrparkliste!K110=\"Ja\",\"1\",\"0\"))","v":""},{"$f":"IF(OR(Fuhrparkliste!L110=\"\",C101<>\"127\"),\"\",VLOOKUP(Fuhrparkliste!L110,Bedachungsart,2,FALSE))","v":""},{"$f":"IF(C101=\"\",\"\",IF(AND(Fuhrparkliste!X110=\"Ja\",C101=\"112\"),\"1\",\"0\"))","v":""},{"$f":"IF(C101=\"\",\"\",IF(AND(Fuhrparkliste!Y110=\"Ja\",OR(C101=\"112\",C101=\"251\")),\"1\",\"0\"))","v":""},"",{"$f":"IF(C101=\"\",\"\",IF(AND(Fuhrparkliste!W110=\"Ja\",C101=\"112\"),\"1\",\"0\"))","v":""},{"$f":"IF(C101=\"\",\"\",IF(AND(ISERROR(SEARCH(\"0??\",tblRisiken!C101)) =TRUE,ISERROR(SEARCH(\"1??\",tblRisiken!C101)) =TRUE),\"0\",IF(AND(Fuhrparkliste!U110=\"Ja\",VLOOKUP(Werte!P101,SFMATRIXKEY,3,FALSE)=\"Ja\"),\"1\",\"0\")))","v":""},{"$f":"IF(C101=\"\",\"\",IF(OR(AF101=\"00\",LEFT(AF101,1)=\"7\"),\"0\",IF(AND(ISERROR(SEARCH(\"0??\",C101)) =TRUE,ISERROR(SEARCH(\"1??\",C101)) =TRUE),\"0\",IF(AND(Fuhrparkliste!V110=\"Ja\",X101=\"1\",VLOOKUP(Werte!Q101,SFMATRIXKEY,3,FALSE)=\"Ja\"),\"1\",\"0\"))))","v":""},{"$f":"IF(C101=\"\",\"\",IF(AND(Fuhrparkliste!AA110=\"Ja\",C101=\"112\"),\"1\",\"0\"))","v":""},{"$f":"IF(Fuhrparkliste!AB110=\"\",\"\",VLOOKUP(Fuhrparkliste!AB110,MatrixVorVU,2,FALSE))","v":""},{"$f":"IF(Fuhrparkliste!AC110=\"\",\"\",Fuhrparkliste!AC110)","v":""},{"$f":"IF(C101=\"\",\"\",IF(Fuhrparkliste!O110=\"\",\"00\",VLOOKUP(Fuhrparkliste!O110,GEFAHRGUTMATRIXKEY,2,FALSE)))","v":""},{"$f":"IF(C101=\"\",\"\",\"11\")","v":""},{"$f":"IF(C101=\"\",\"\",IF(Werte!P101=\"\",\"F1\",VLOOKUP(Fuhrparkliste!P110,SFKOMPLETT,2,FALSE)))","v":""},{"$f":"IF(C101=\"\",\"\",IF(Fuhrparkliste!S110=\"\",\"00\",VLOOKUP(Fuhrparkliste!S110,KASKOMATRIXKEY,2,FALSE)))","v":""},{"$f":"IF(C101=\"\",\"\",IF(Werte!Q101=\"\",\"F1\",VLOOKUP(Fuhrparkliste!Q110,SFKOMPLETT,2,FALSE)))","v":""},{"$f":"IF(C101=\"\",\"\",Fuhrparkliste!R110)","v":""},{"$f":"SUBSTITUTE(Fuhrparkliste!E110,\" \",\"\")","v":""}]

{"sheet":"Infos","index":5,"n_rows":8,"n_cols":1,"rows_kept":8,"cut":false,"hidden":true,"merged":[]}
["Bei neuem Feld"]
["Ausgeblendete Tabelle befüllen"]
["Namensdefinition prüfen und ggf. erweitern (z.B. IMPORTMATRIX)"]
["In Konverter Tabelle das neue Feld aufnehmen"]
["In Konverter Anfügeabfrage das Feld verknüpfen"]
[]
["Bei neuer Version"]
["Typklassen in Konverter aktualisieren"]

{"sheet":"tptool","index":6,"n_rows":101,"n_cols":26,"rows_kept":101,"cut":false,"hidden":true,"merged":[]}
["Anzahl","WKZ","KW","Gesamtgewicht/Nutzlast","amtl. Kenn-zeichen","Stadt/Land/Neutral","HSN","TSN","KH Typkl.","VK Typkl.","TK Typkl.","km-Klasse","Garage","Aufbauart","Gefahr-gut","KH Deck-ung","KH\nSFR-Klasse","Kasko Deckung","VK \nSFR-Klasse","Neuwert\nin EURO","Plaetze","akz","akz1","akz2","akz3",{"$f":"SUM(A:A)","v":0}]
[{"$f":"IF(B2=\"\",\"\",1)","v":""},{"$f":"tblRisiken!C2","v":""},{"$f":"tblRisiken!J2","v":""},{"$f":"IF(Fuhrparkliste!D11=\"\",\"\",Fuhrparkliste!D11)","v":""},{"$f":"IF(B2=\"\",\"\",TRIM(CONCATENATE(W2,\"-\",X2,\" \",Y2)))","v":""},{"$f":"IF(B2=\"\",\"\",IF(ISERROR(VLOOKUP(W2,REGIOSLMATRIX,2,FALSE)),\"N\",\"\"))","v":""},{"$f":"tblRisiken!H2","v":""},{"$f":"tblRisiken!I2","v":""},null,null,null,{"$f":"IF(OR(B2=\"\",Fuhrparkliste!J11=\"\"),\"\",ROUND(Fuhrparkliste!J11/1000,0))","v":""},{"$f":"IF(B2=\"112\",\"2\",\"\")","v":""},{"$f":"IF(Fuhrparkliste!N11=\"\",\"\",VLOOKUP(Fuhrparkliste!N11,AUFBAUMATRIXKEY,2,FALSE))","v":""},{"$f":"IF(B2=\"\",\"\",IF(OR(tblRisiken!AC2=\"03\",tblRisiken!AC2=\"04\"),\"04\",IF(B2=\"541\",\"00\",\"02\")))","v":""},{"$f":"IF(B2=\"\",\"\",\"3\")","v":""},{"$f":"tblRisiken!AE2","v":""},{"$f":"tblRisiken!AF2","v":""},{"$f":"tblRisiken!AG2","v":""},{"$f":"tblRisiken!N2","v":""},null,{"$f":"SUBSTITUTE(Fuhrparkliste!E11,\" \",\"\")","v":""},{"$f":"IF(B2=\"\",\"\",IF(ISERROR(SEARCH(\"-\",V2)),LEFT(V2,15),LEFT(V2,SEARCH(\"-\",V2)-1)))","v":""},{"$f":"IF(ISERROR(MID(V2,LEN(W2)+2,LEN(V2)-LEN(W2)-LEN(Y2)-1)),\"\",MID(V2,LEN(W2)+2,LEN(V2)-LEN(W2)-LEN(Y2)-1))","v":""},{"$f":"RIGHT(V2,COUNT(RIGHT(V2,COLUMN(1:1))*1))","v":""}]
[{"$f":"IF(B3=\"\",\"\",1)","v":""},{"$f":"tblRisiken!C3","v":""},{"$f":"tblRisiken!J3","v":""},{"$f":"IF(Fuhrparkliste!D12=\"\",\"\",Fuhrparkliste!D12)","v":""},{"$f":"IF(B3=\"\",\"\",TRIM(CONCATENATE(W3,\"-\",X3,\" \",Y3)))","v":""},"",{"$f":"tblRisiken!H3","v":""},{"$f":"tblRisiken!I3","v":""},null,null,null,{"$f":"IF(OR(B3=\"\",Fuhrparkliste!J12=\"\"),\"\",ROUND(Fuhrparkliste!J12/1000,0))","v":""},{"$f":"IF(B3=\"112\",\"2\",\"\")","v":""},{"$f":"IF(Fuhrparkliste!N12=\"\",\"\",VLOOKUP(Fuhrparkliste!N12,AUFBAUMATRIXKEY,2,FALSE))","v":""},{"$f":"IF(B3=\"\",\"\",IF(OR(tblRisiken!AC3=\"03\",tblRisiken!AC3=\"04\"),\"04\",IF(B3=\"541\",\"00\",\"02\")))","v":""},{"$f":"IF(B3=\"\",\"\",\"3\")","v":""},{"$f":"tblRisiken!AE3","v":""},{"$f":"tblRisiken!AF3","v":""},{"$f":"tblRisiken!AG3","v":""},{"$f":"tblRisiken!N3","v":""},null,{"$f":"SUBSTITUTE(Fuhrparkliste!E12,\" \",\"\")","v":""},{"$f":"IF(B3=\"\",\"\",IF(ISERROR(SEARCH(\"-\",V3)),LEFT(V3,15),LEFT(V3,SEARCH(\"-\",V3)-1)))","v":""},{"$f":"IF(ISERROR(MID(V3,LEN(W3)+2,LEN(V3)-LEN(W3)-LEN(Y3)-1)),\"\",MID(V3,LEN(W3)+2,LEN(V3)-LEN(W3)-LEN(Y3)-1))","v":""},{"$f":"RIGHT(V3,COUNT(RIGHT(V3,COLUMN(2:2))*1))","v":""}]
["",{"$f":"tblRisiken!C4","v":""},{"$f":"tblRisiken!J4","v":""},{"$f":"IF(Fuhrparkliste!D13=\"\",\"\",Fuhrparkliste!D13)","v":""},"","",{"$f":"tblRisiken!H4","v":""},{"$f":"tblRisiken!I4","v":""},null,null,null,{"$f":"IF(OR(B4=\"\",Fuhrparkliste!J13=\"\"),\"\",ROUND(Fuhrparkliste!J13/1000,0))","v":""},{"$f":"IF(B4=\"112\",\"2\",\"\")","v":""},{"$f":"IF(Fuhrparkliste!N13=\"\",\"\",VLOOKUP(Fuhrparkliste!N13,AUFBAUMATRIXKEY,2,FALSE))","v":""},{"$f":"IF(B4=\"\",\"\",IF(OR(tblRisiken!AC4=\"03\",tblRisiken!AC4=\"04\"),\"04\",IF(B4=\"541\",\"00\",\"02\")))","v":""},{"$f":"IF(B4=\"\",\"\",\"3\")","v":""},{"$f":"tblRisiken!AE4","v":""},{"$f":"tblRisiken!AF4","v":""},{"$f":"tblRisiken!AG4","v":""},{"$f":"tblRisiken!N4","v":""},null,{"$f":"SUBSTITUTE(Fuhrparkliste!E13,\" \",\"\")","v":""},{"$f":"IF(B4=\"\",\"\",IF(ISERROR(SEARCH(\"-\",V4)),LEFT(V4,15),LEFT(V4,SEARCH(\"-\",V4)-1)))","v":""},{"$f":"IF(ISERROR(MID(V4,LEN(W4)+2,LEN(V4)-LEN(W4)-LEN(Y4)-1)),\"\",MID(V4,LEN(W4)+2,LEN(V4)-LEN(W4)-LEN(Y4)-1))","v":""},{"$f":"RIGHT(V4,COUNT(RIGHT(V4,COLUMN(3:3))*1))","v":""}]
["",{"$f":"tblRisiken!C5","v":""},{"$f":"tblRisiken!J5","v":""},{"$f":"IF(Fuhrparkliste!D14=\"\",\"\",Fuhrparkliste!D14)","v":""},"","",{"$f":"tblRisiken!H5","v":""},{"$f":"tblRisiken!I5","v":""},null,null,null,{"$f":"IF(OR(B5=\"\",Fuhrparkliste!J14=\"\"),\"\",ROUND(Fuhrparkliste!J14/1000,0))","v":""},{"$f":"IF(B5=\"112\",\"2\",\"\")","v":""},{"$f":"IF(Fuhrparkliste!N14=\"\",\"\",VLOOKUP(Fuhrparkliste!N14,AUFBAUMATRIXKEY,2,FALSE))","v":""},{"$f":"IF(B5=\"\",\"\",IF(OR(tblRisiken!AC5=\"03\",tblRisiken!AC5=\"04\"),\"04\",IF(B5=\"541\",\"00\",\"02\")))","v":""},{"$f":"IF(B5=\"\",\"\",\"3\")","v":""},{"$f":"tblRisiken!AE5","v":""},{"$f":"tblRisiken!AF5","v":""},{"$f":"tblRisiken!AG5","v":""},{"$f":"tblRisiken!N5","v":""},null,{"$f":"SUBSTITUTE(Fuhrparkliste!E14,\" \",\"\")","v":""},"","",{"$f":"RIGHT(V5,COUNT(RIGHT(V5,COLUMN(4:4))*1))","v":""}]
["",{"$f":"tblRisiken!C6","v":""},{"$f":"tblRisiken!J6","v":""},{"$f":"IF(Fuhrparkliste!D15=\"\",\"\",Fuhrparkliste!D15)","v":""},"","",{"$f":"tblRisiken!H6","v":""},{"$f":"tblRisiken!I6","v":""},null,null,null,{"$f":"IF(OR(B6=\"\",Fuhrparkliste!J15=\"\"),\"\",ROUND(Fuhrparkliste!J15/1000,0))","v":""},{"$f":"IF(B6=\"112\",\"2\",\"\")","v":""},{"$f":"IF(Fuhrparkliste!N15=\"\",\"\",VLOOKUP(Fuhrparkliste!N15,AUFBAUMATRIXKEY,2,FALSE))","v":""},{"$f":"IF(B6=\"\",\"\",IF(OR(tblRisiken!AC6=\"03\",tblRisiken!AC6=\"04\"),\"04\",IF(B6=\"541\",\"00\",\"02\")))","v":""},{"$f":"IF(B6=\"\",\"\",\"3\")","v":""},{"$f":"tblRisiken!AE6","v":""},{"$f":"tblRisiken!AF6","v":""},{"$f":"tblRisiken!AG6","v":""},{"$f":"tblRisiken!N6","v":""},null,{"$f":"SUBSTITUTE(Fuhrparkliste!E15,\" \",\"\")","v":""},"","",{"$f":"RIGHT(V6,COUNT(RIGHT(V6,COLUMN(5:5))*1))","v":""}]
["",{"$f":"tblRisiken!C7","v":""},{"$f":"tblRisiken!J7","v":""},{"$f":"IF(Fuhrparkliste!D16=\"\",\"\",Fuhrparkliste!D16)","v":""},"","",{"$f":"tblRisiken!H7","v":""},{"$f":"tblRisiken!I7","v":""},null,null,null,{"$f":"IF(OR(B7=\"\",Fuhrparkliste!J16=\"\"),\"\",ROUND(Fuhrparkliste!J16/1000,0))","v":""},{"$f":"IF(B7=\"112\",\"2\",\"\")","v":""},{"$f":"IF(Fuhrparkliste!N16=\"\",\"\",VLOOKUP(Fuhrparkliste!N16,AUFBAUMATRIXKEY,2,FALSE))","v":""},{"$f":"IF(B7=\"\",\"\",IF(OR(tblRisiken!AC7=\"03\",tblRisiken!AC7=\"04\"),\"04\",IF(B7=\"541\",\"00\",\"02\")))","v":""},{"$f":"IF(B7=\"\",\"\",\"3\")","v":""},{"$f":"tblRisiken!AE7","v":""},{"$f":"tblRisiken!AF7","v":""},{"$f":"tblRisiken!AG7","v":""},{"$f":"tblRisiken!N7","v":""},null,{"$f":"SUBSTITUTE(Fuhrparkliste!E16,\" \",\"\")","v":""},"","",{"$f":"RIGHT(V7,COUNT(RIGHT(V7,COLUMN(6:6))*1))","v":""}]
["",{"$f":"tblRisiken!C8","v":""},{"$f":"tblRisiken!J8","v":""},{"$f":"IF(Fuhrparkliste!D17=\"\",\"\",Fuhrparkliste!D17)","v":""},"","",{"$f":"tblRisiken!H8","v":""},{"$f":"tblRisiken!I8","v":""},null,null,null,{"$f":"IF(OR(B8=\"\",Fuhrparkliste!J17=\"\"),\"\",ROUND(Fuhrparkliste!J17/1000,0))","v":""},"",{"$f":"IF(Fuhrparkliste!N17=\"\",\"\",VLOOKUP(Fuhrparkliste!N17,AUFBAUMATRIXKEY,2,FALSE))","v":""},{"$f":"IF(B8=\"\",\"\",IF(OR(tblRisiken!AC8=\"03\",tblRisiken!AC8=\"04\"),\"04\",IF(B8=\"541\",\"00\",\"02\")))","v":""},"",{"$f":"tblRisiken!AE8","v":""},{"$f":"tblRisiken!AF8","v":""},{"$f":"tblRisiken!AG8","v":""},{"$f":"tblRisiken!N8","v":""},null,{"$f":"SUBSTITUTE(Fuhrparkliste!E17,\" \",\"\")","v":""},"","",{"$f":"RIGHT(V8,COUNT(RIGHT(V8,COLUMN(7:7))*1))","v":""}]
["",{"$f":"tblRisiken!C9","v":""},{"$f":"tblRisiken!J9","v":""},{"$f":"IF(Fuhrparkliste!D18=\"\",\"\",Fuhrparkliste!D18)","v":""},"","",{"$f":"tblRisiken!H9","v":""},{"$f":"tblRisiken!I9","v":""},null,null,null,{"$f":"IF(OR(B9=\"\",Fuhrparkliste!J18=\"\"),\"\",ROUND(Fuhrparkliste!J18/1000,0))","v":""},"",{"$f":"IF(Fuhrparkliste!N18=\"\",\"\",VLOOKUP(Fuhrparkliste!N18,AUFBAUMATRIXKEY,2,FALSE))","v":""},{"$f":"IF(B9=\"\",\"\",IF(OR(tblRisiken!AC9=\"03\",tblRisiken!AC9=\"04\"),\"04\",IF(B9=\"541\",\"00\",\"02\")))","v":""},"",{"$f":"tblRisiken!AE9","v":""},{"$f":"tblRisiken!AF9","v":""},{"$f":"tblRisiken!AG9","v":""},{"$f":"tblRisiken!N9","v":""},null,{"$f":"SUBSTITUTE(Fuhrparkliste!E18,\" \",\"\")","v":""},"","",{"$f":"RIGHT(V9,COUNT(RIGHT(V9,COLUMN(8:8))*1))","v":""}]
["",{"$f":"tblRisiken!C10","v":""},{"$f":"tblRisiken!J10","v":""},{"$f":"IF(Fuhrparkliste!D19=\"\",\"\",Fuhrparkliste!D19)","v":""},"","",{"$f":"tblRisiken!H10","v":""},{"$f":"tblRisiken!I10","v":""},null,null,null,{"$f":"IF(OR(B10=\"\",Fuhrparkliste!J19=\"\"),\"\",ROUND(Fuhrparkliste!J19/1000,0))","v":""},"",{"$f":"IF(Fuhrparkliste!N19=\"\",\"\",VLOOKUP(Fuhrparkliste!N19,AUFBAUMATRIXKEY,2,FALSE))","v":""},{"$f":"IF(B10=\"\",\"\",IF(OR(tblRisiken!AC10=\"03\",tblRisiken!AC10=\"04\"),\"04\",IF(B10=\"541\",\"00\",\"02\")))","v":""},"",{"$f":"tblRisiken!AE10","v":""},{"$f":"tblRisiken!AF10","v":""},{"$f":"tblRisiken!AG10","v":""},{"$f":"tblRisiken!N10","v":""},null,{"$f":"SUBSTITUTE(Fuhrparkliste!E19,\" \",\"\")","v":""},"","",{"$f":"RIGHT(V10,COUNT(RIGHT(V10,COLUMN(9:9))*1))","v":""}]
["",{"$f":"tblRisiken!C11","v":""},{"$f":"tblRisiken!J11","v":""},{"$f":"IF(Fuhrparkliste!D20=\"\",\"\",Fuhrparkliste!D20)","v":""},"","",{"$f":"tblRisiken!H11","v":""},{"$f":"tblRisiken!I11","v":""},null,null,null,{"$f":"IF(OR(B11=\"\",Fuhrparkliste!J20=\"\"),\"\",ROUND(Fuhrparkliste!J20/1000,0))","v":""},"",{"$f":"IF(Fuhrparkliste!N20=\"\",\"\",VLOOKUP(Fuhrparkliste!N20,AUFBAUMATRIXKEY,2,FALSE))","v":""},{"$f":"IF(B11=\"\",\"\",IF(OR(tblRisiken!AC11=\"03\",tblRisiken!AC11=\"04\"),\"04\",IF(B11=\"541\",\"00\",\"02\")))","v":""},"",{"$f":"tblRisiken!AE11","v":""},{"$f":"tblRisiken!AF11","v":""},{"$f":"tblRisiken!AG11","v":""},{"$f":"tblRisiken!N11","v":""},null,{"$f":"SUBSTITUTE(Fuhrparkliste!E20,\" \",\"\")","v":""},"","",{"$f":"RIGHT(V11,COUNT(RIGHT(V11,COLUMN(10:10))*1))","v":""}]
["",{"$f":"tblRisiken!C12","v":""},{"$f":"tblRisiken!J12","v":""},{"$f":"IF(Fuhrparkliste!D21=\"\",\"\",Fuhrparkliste!D21)","v":""},"","",{"$f":"tblRisiken!H12","v":""},{"$f":"tblRisiken!I12","v":""},null,null,null,{"$f":"IF(OR(B12=\"\",Fuhrparkliste!J21=\"\"),\"\",ROUND(Fuhrparkliste!J21/1000,0))","v":""},"",{"$f":"IF(Fuhrparkliste!N21=\"\",\"\",VLOOKUP(Fuhrparkliste!N21,AUFBAUMATRIXKEY,2,FALSE))","v":""},{"$f":"IF(B12=\"\",\"\",IF(OR(tblRisiken!AC12=\"03\",tblRisiken!AC12=\"04\"),\"04\",IF(B12=\"541\",\"00\",\"02\")))","v":""},"",{"$f":"tblRisiken!AE12","v":""},{"$f":"tblRisiken!AF12","v":""},{"$f":"tblRisiken!AG12","v":""},{"$f":"tblRisiken!N12","v":""},null,{"$f":"SUBSTITUTE(Fuhrparkliste!E21,\" \",\"\")","v":""},"","",{"$f":"RIGHT(V12,COUNT(RIGHT(V12,COLUMN(11:11))*1))","v":""}]
["",{"$f":"tblRisiken!C13","v":""},{"$f":"tblRisiken!J13","v":""},{"$f":"IF(Fuhrparkliste!D22=\"\",\"\",Fuhrparkliste!D22)","v":""},"","",{"$f":"tblRisiken!H13","v":""},{"$f":"tblRisiken!I13","v":""},null,null,null,{"$f":"IF(OR(B13=\"\",Fuhrparkliste!J22=\"\"),\"\",ROUND(Fuhrparkliste!J22/1000,0))","v":""},"",{"$f":"IF(Fuhrparkliste!N22=\"\",\"\",VLOOKUP(Fuhrparkliste!N22,AUFBAUMATRIXKEY,2,FALSE))","v":""},{"$f":"IF(B13=\"\",\"\",IF(OR(tblRisiken!AC13=\"03\",tblRisiken!AC13=\"04\"),\"04\",IF(B13=\"541\",\"00\",\"02\")))","v":""},"",{"$f":"tblRisiken!AE13","v":""},{"$f":"tblRisiken!AF13","v":""},{"$f":"tblRisiken!AG13","v":""},{"$f":"tblRisiken!N13","v":""},null,{"$f":"SUBSTITUTE(Fuhrparkliste!E22,\" \",\"\")","v":""},"","",{"$f":"RIGHT(V13,COUNT(RIGHT(V13,COLUMN(12:12))*1))","v":""}]
["",{"$f":"tblRisiken!C14","v":""},{"$f":"tblRisiken!J14","v":""},{"$f":"IF(Fuhrparkliste!D23=\"\",\"\",Fuhrparkliste!D23)","v":""},"","",{"$f":"tblRisiken!H14","v":""},{"$f":"tblRisiken!I14","v":""},null,null,null,{"$f":"IF(OR(B14=\"\",Fuhrparkliste!J23=\"\"),\"\",ROUND(Fuhrparkliste!J23/1000,0))","v":""},"",{"$f":"IF(Fuhrparkliste!N23=\"\",\"\",VLOOKUP(Fuhrparkliste!N23,AUFBAUMATRIXKEY,2,FALSE))","v":""},{"$f":"IF(B14=\"\",\"\",IF(OR(tblRisiken!AC14=\"03\",tblRisiken!AC14=\"04\"),\"04\",IF(B14=\"541\",\"00\",\"02\")))","v":""},"",{"$f":"tblRisiken!AE14","v":""},{"$f":"tblRisiken!AF14","v":""},{"$f":"tblRisiken!AG14","v":""},{"$f":"tblRisiken!N14","v":""},null,{"$f":"SUBSTITUTE(Fuhrparkliste!E23,\" \",\"\")","v":""},"","",{"$f":"RIGHT(V14,COUNT(RIGHT(V14,COLUMN(13:13))*1))","v":""}]
["",{"$f":"tblRisiken!C15","v":""},{"$f":"tblRisiken!J15","v":""},{"$f":"IF(Fuhrparkliste!D24=\"\",\"\",Fuhrparkliste!D24)","v":""},"","",{"$f":"tblRisiken!H15","v":""},{"$f":"tblRisiken!I15","v":""},null,null,null,{"$f":"IF(OR(B15=\"\",Fuhrparkliste!J24=\"\"),\"\",ROUND(Fuhrparkliste!J24/1000,0))","v":""},"",{"$f":"IF(Fuhrparkliste!N24=\"\",\"\",VLOOKUP(Fuhrparkliste!N24,AUFBAUMATRIXKEY,2,FALSE))","v":""},{"$f":"IF(B15=\"\",\"\",IF(OR(tblRisiken!AC15=\"03\",tblRisiken!AC15=\"04\"),\"04\",IF(B15=\"541\",\"00\",\"02\")))","v":""},"",{"$f":"tblRisiken!AE15","v":""},{"$f":"tblRisiken!AF15","v":""},{"$f":"tblRisiken!AG15","v":""},{"$f":"tblRisiken!N15","v":""},null,{"$f":"SUBSTITUTE(Fuhrparkliste!E24,\" \",\"\")","v":""},"","",{"$f":"RIGHT(V15,COUNT(RIGHT(V15,COLUMN(14:14))*1))","v":""}]
["",{"$f":"tblRisiken!C16","v":""},{"$f":"tblRisiken!J16","v":""},{"$f":"IF(Fuhrparkliste!D25=\"\",\"\",Fuhrparkliste!D25)","v":""},"","",{"$f":"tblRisiken!H16","v":""},{"$f":"tblRisiken!I16","v":""},null,null,null,{"$f":"IF(OR(B16=\"\",Fuhrparkliste!J25=\"\"),\"\",ROUND(Fuhrparkliste!J25/1000,0))","v":""},"",{"$f":"IF(Fuhrparkliste!N25=\"\",\"\",VLOOKUP(Fuhrparkliste!N25,AUFBAUMATRIXKEY,2,FALSE))","v":""},{"$f":"IF(B16=\"\",\"\",IF(OR(tblRisiken!AC16=\"03\",tblRisiken!AC16=\"04\"),\"04\",IF(B16=\"541\",\"00\",\"02\")))","v":""},"",{"$f":"tblRisiken!AE16","v":""},{"$f":"tblRisiken!AF16","v":""},{"$f":"tblRisiken!AG16","v":""},{"$f":"tblRisiken!N16","v":""},null,{"$f":"SUBSTITUTE(Fuhrparkliste!E25,\" \",\"\")","v":""},"","",{"$f":"RIGHT(V16,COUNT(RIGHT(V16,COLUMN(15:15))*1))","v":""}]
["",{"$f":"tblRisiken!C17","v":""},{"$f":"tblRisiken!J17","v":""},{"$f":"IF(Fuhrparkliste!D26=\"\",\"\",Fuhrparkliste!D26)","v":""},"","",{"$f":"tblRisiken!H17","v":""},{"$f":"tblRisiken!I17","v":""},null,null,null,{"$f":"IF(OR(B17=\"\",Fuhrparkliste!J26=\"\"),\"\",ROUND(Fuhrparkliste!J26/1000,0))","v":""},"",{"$f":"IF(Fuhrparkliste!N26=\"\",\"\",VLOOKUP(Fuhrparkliste!N26,AUFBAUMATRIXKEY,2,FALSE))","v":""},{"$f":"IF(B17=\"\",\"\",IF(OR(tblRisiken!AC17=\"03\",tblRisiken!AC17=\"04\"),\"04\",IF(B17=\"541\",\"00\",\"02\")))","v":""},"",{"$f":"tblRisiken!AE17","v":""},{"$f":"tblRisiken!AF17","v":""},{"$f":"tblRisiken!AG17","v":""},{"$f":"tblRisiken!N17","v":""},null,{"$f":"SUBSTITUTE(Fuhrparkliste!E26,\" \",\"\")","v":""},"","",{"$f":"RIGHT(V17,COUNT(RIGHT(V17,COLUMN(16:16))*1))","v":""}]
["",{"$f":"tblRisiken!C18","v":""},{"$f":"tblRisiken!J18","v":""},{"$f":"IF(Fuhrparkliste!D27=\"\",\"\",Fuhrparkliste!D27)","v":""},"","",{"$f":"tblRisiken!H18","v":""},{"$f":"tblRisiken!I18","v":""},null,null,null,{"$f":"IF(OR(B18=\"\",Fuhrparkliste!J27=\"\"),\"\",ROUND(Fuhrparkliste!J27/1000,0))","v":""},"",{"$f":"IF(Fuhrparkliste!N27=\"\",\"\",VLOOKUP(Fuhrparkliste!N27,AUFBAUMATRIXKEY,2,FALSE))","v":""},{"$f":"IF(B18=\"\",\"\",IF(OR(tblRisiken!AC18=\"03\",tblRisiken!AC18=\"04\"),\"04\",IF(B18=\"541\",\"00\",\"02\")))","v":""},"",{"$f":"tblRisiken!AE18","v":""},{"$f":"tblRisiken!AF18","v":""},{"$f":"tblRisiken!AG18","v":""},{"$f":"tblRisiken!N18","v":""},null,{"$f":"SUBSTITUTE(Fuhrparkliste!E27,\" \",\"\")","v":""},"","",{"$f":"RIGHT(V18,COUNT(RIGHT(V18,COLUMN(17:17))*1))","v":""}]
["",{"$f":"tblRisiken!C19","v":""},{"$f":"tblRisiken!J19","v":""},{"$f":"IF(Fuhrparkliste!D28=\"\",\"\",Fuhrparkliste!D28)","v":""},"","",{"$f":"tblRisiken!H19","v":""},{"$f":"tblRisiken!I19","v":""},null,null,null,{"$f":"IF(OR(B19=\"\",Fuhrparkliste!J28=\"\"),\"\",ROUND(Fuhrparkliste!J28/1000,0))","v":""},"",{"$f":"IF(Fuhrparkliste!N28=\"\",\"\",VLOOKUP(Fuhrparkliste!N28,AUFBAUMATRIXKEY,2,FALSE))","v":""},{"$f":"IF(B19=\"\",\"\",IF(OR(tblRisiken!AC19=\"03\",tblRisiken!AC19=\"04\"),\"04\",IF(B19=\"541\",\"00\",\"02\")))","v":""},"",{"$f":"tblRisiken!AE19","v":""},{"$f":"tblRisiken!AF19","v":""},{"$f":"tblRisiken!AG19","v":""},{"$f":"tblRisiken!N19","v":""},null,{"$f":"SUBSTITUTE(Fuhrparkliste!E28,\" \",\"\")","v":""},"","",{"$f":"RIGHT(V19,COUNT(RIGHT(V19,COLUMN(18:18))*1))","v":""}]
["",{"$f":"tblRisiken!C20","v":""},{"$f":"tblRisiken!J20","v":""},{"$f":"IF(Fuhrparkliste!D29=\"\",\"\",Fuhrparkliste!D29)","v":""},"","",{"$f":"tblRisiken!H20","v":""},{"$f":"tblRisiken!I20","v":""},null,null,null,{"$f":"IF(OR(B20=\"\",Fuhrparkliste!J29=\"\"),\"\",ROUND(Fuhrparkliste!J29/1000,0))","v":""},"",{"$f":"IF(Fuhrparkliste!N29=\"\",\"\",VLOOKUP(Fuhrparkliste!N29,AUFBAUMATRIXKEY,2,FALSE))","v":""},{"$f":"IF(B20=\"\",\"\",IF(OR(tblRisiken!AC20=\"03\",tblRisiken!AC20=\"04\"),\"04\",IF(B20=\"541\",\"00\",\"02\")))","v":""},"",{"$f":"tblRisiken!AE20","v":""},{"$f":"tblRisiken!AF20","v":""},{"$f":"tblRisiken!AG20","v":""},{"$f":"tblRisiken!N20","v":""},null,{"$f":"SUBSTITUTE(Fuhrparkliste!E29,\" \",\"\")","v":""},"","",{"$f":"RIGHT(V20,COUNT(RIGHT(V20,COLUMN(19:19))*1))","v":""}]
["",{"$f":"tblRisiken!C21","v":""},{"$f":"tblRisiken!J21","v":""},{"$f":"IF(Fuhrparkliste!D30=\"\",\"\",Fuhrparkliste!D30)","v":""},"","",{"$f":"tblRisiken!H21","v":""},{"$f":"tblRisiken!I21","v":""},null,null,null,{"$f":"IF(OR(B21=\"\",Fuhrparkliste!J30=\"\"),\"\",ROUND(Fuhrparkliste!J30/1000,0))","v":""},"",{"$f":"IF(Fuhrparkliste!N30=\"\",\"\",VLOOKUP(Fuhrparkliste!N30,AUFBAUMATRIXKEY,2,FALSE))","v":""},{"$f":"IF(B21=\"\",\"\",IF(OR(tblRisiken!AC21=\"03\",tblRisiken!AC21=\"04\"),\"04\",IF(B21=\"541\",\"00\",\"02\")))","v":""},"",{"$f":"tblRisiken!AE21","v":""},{"$f":"tblRisiken!AF21","v":""},{"$f":"tblRisiken!AG21","v":""},{"$f":"tblRisiken!N21","v":""},null,{"$f":"SUBSTITUTE(Fuhrparkliste!E30,\" \",\"\")","v":""},"","",{"$f":"RIGHT(V21,COUNT(RIGHT(V21,COLUMN(20:20))*1))","v":""}]
["",{"$f":"tblRisiken!C22","v":""},{"$f":"tblRisiken!J22","v":""},{"$f":"IF(Fuhrparkliste!D31=\"\",\"\",Fuhrparkliste!D31)","v":""},"","",{"$f":"tblRisiken!H22","v":""},{"$f":"tblRisiken!I22","v":""},null,null,null,{"$f":"IF(OR(B22=\"\",Fuhrparkliste!J31=\"\"),\"\",ROUND(Fuhrparkliste!J31/1000,0))","v":""},"",{"$f":"IF(Fuhrparkliste!N31=\"\",\"\",VLOOKUP(Fuhrparkliste!N31,AUFBAUMATRIXKEY,2,FALSE))","v":""},{"$f":"IF(B22=\"\",\"\",IF(OR(tblRisiken!AC22=\"03\",tblRisiken!AC22=\"04\"),\"04\",IF(B22=\"541\",\"00\",\"02\")))","v":""},"",{"$f":"tblRisiken!AE22","v":""},{"$f":"tblRisiken!AF22","v":""},{"$f":"tblRisiken!AG22","v":""},{"$f":"tblRisiken!N22","v":""},null,{"$f":"SUBSTITUTE(Fuhrparkliste!E31,\" \",\"\")","v":""},"","",{"$f":"RIGHT(V22,COUNT(RIGHT(V22,COLUMN(21:21))*1))","v":""}]
["",{"$f":"tblRisiken!C23","v":""},{"$f":"tblRisiken!J23","v":""},{"$f":"IF(Fuhrparkliste!D32=\"\",\"\",Fuhrparkliste!D32)","v":""},"","",{"$f":"tblRisiken!H23","v":""},{"$f":"tblRisiken!I23","v":""},null,null,null,{"$f":"IF(OR(B23=\"\",Fuhrparkliste!J32=\"\"),\"\",ROUND(Fuhrparkliste!J32/1000,0))","v":""},"",{"$f":"IF(Fuhrparkliste!N32=\"\",\"\",VLOOKUP(Fuhrparkliste!N32,AUFBAUMATRIXKEY,2,FALSE))","v":""},{"$f":"IF(B23=\"\",\"\",IF(OR(tblRisiken!AC23=\"03\",tblRisiken!AC23=\"04\"),\"04\",IF(B23=\"541\",\"00\",\"02\")))","v":""},"",{"$f":"tblRisiken!AE23","v":""},{"$f":"tblRisiken!AF23","v":""},{"$f":"tblRisiken!AG23","v":""},{"$f":"tblRisiken!N23","v":""},null,{"$f":"SUBSTITUTE(Fuhrparkliste!E32,\" \",\"\")","v":""},"","",{"$f":"RIGHT(V23,COUNT(RIGHT(V23,COLUMN(22:22))*1))","v":""}]
["",{"$f":"tblRisiken!C24","v":""},{"$f":"tblRisiken!J24","v":""},{"$f":"IF(Fuhrparkliste!D33=\"\",\"\",Fuhrparkliste!D33)","v":""},"","",{"$f":"tblRisiken!H24","v":""},{"$f":"tblRisiken!I24","v":""},null,null,null,{"$f":"IF(OR(B24=\"\",Fuhrparkliste!J33=\"\"),\"\",ROUND(Fuhrparkliste!J33/1000,0))","v":""},"",{"$f":"IF(Fuhrparkliste!N33=\"\",\"\",VLOOKUP(Fuhrparkliste!N33,AUFBAUMATRIXKEY,2,FALSE))","v":""},{"$f":"IF(B24=\"\",\"\",IF(OR(tblRisiken!AC24=\"03\",tblRisiken!AC24=\"04\"),\"04\",IF(B24=\"541\",\"00\",\"02\")))","v":""},"",{"$f":"tblRisiken!AE24","v":""},{"$f":"tblRisiken!AF24","v":""},{"$f":"tblRisiken!AG24","v":""},{"$f":"tblRisiken!N24","v":""},null,{"$f":"SUBSTITUTE(Fuhrparkliste!E33,\" \",\"\")","v":""},"","",{"$f":"RIGHT(V24,COUNT(RIGHT(V24,COLUMN(23:23))*1))","v":""}]
["",{"$f":"tblRisiken!C25","v":""},{"$f":"tblRisiken!J25","v":""},{"$f":"IF(Fuhrparkliste!D34=\"\",\"\",Fuhrparkliste!D34)","v":""},"","",{"$f":"tblRisiken!H25","v":""},{"$f":"tblRisiken!I25","v":""},null,null,null,{"$f":"IF(OR(B25=\"\",Fuhrparkliste!J34=\"\"),\"\",ROUND(Fuhrparkliste!J34/1000,0))","v":""},"",{"$f":"IF(Fuhrparkliste!N34=\"\",\"\",VLOOKUP(Fuhrparkliste!N34,AUFBAUMATRIXKEY,2,FALSE))","v":""},{"$f":"IF(B25=\"\",\"\",IF(OR(tblRisiken!AC25=\"03\",tblRisiken!AC25=\"04\"),\"04\",IF(B25=\"541\",\"00\",\"02\")))","v":""},"",{"$f":"tblRisiken!AE25","v":""},{"$f":"tblRisiken!AF25","v":""},{"$f":"tblRisiken!AG25","v":""},{"$f":"tblRisiken!N25","v":""},null,{"$f":"SUBSTITUTE(Fuhrparkliste!E34,\" \",\"\")","v":""},"","",{"$f":"RIGHT(V25,COUNT(RIGHT(V25,COLUMN(24:24))*1))","v":""}]
["",{"$f":"tblRisiken!C26","v":""},{"$f":"tblRisiken!J26","v":""},{"$f":"IF(Fuhrparkliste!D35=\"\",\"\",Fuhrparkliste!D35)","v":""},"","",{"$f":"tblRisiken!H26","v":""},{"$f":"tblRisiken!I26","v":""},null,null,null,{"$f":"IF(OR(B26=\"\",Fuhrparkliste!J35=\"\"),\"\",ROUND(Fuhrparkliste!J35/1000,0))","v":""},"",{"$f":"IF(Fuhrparkliste!N35=\"\",\"\",VLOOKUP(Fuhrparkliste!N35,AUFBAUMATRIXKEY,2,FALSE))","v":""},{"$f":"IF(B26=\"\",\"\",IF(OR(tblRisiken!AC26=\"03\",tblRisiken!AC26=\"04\"),\"04\",IF(B26=\"541\",\"00\",\"02\")))","v":""},"",{"$f":"tblRisiken!AE26","v":""},{"$f":"tblRisiken!AF26","v":""},{"$f":"tblRisiken!AG26","v":""},{"$f":"tblRisiken!N26","v":""},null,{"$f":"SUBSTITUTE(Fuhrparkliste!E35,\" \",\"\")","v":""},"","",{"$f":"RIGHT(V26,COUNT(RIGHT(V26,COLUMN(25:25))*1))","v":""}]
["",{"$f":"tblRisiken!C27","v":""},{"$f":"tblRisiken!J27","v":""},{"$f":"IF(Fuhrparkliste!D36=\"\",\"\",Fuhrparkliste!D36)","v":""},"","",{"$f":"tblRisiken!H27","v":""},{"$f":"tblRisiken!I27","v":""},null,null,null,{"$f":"IF(OR(B27=\"\",Fuhrparkliste!J36=\"\"),\"\",ROUND(Fuhrparkliste!J36/1000,0))","v":""},"",{"$f":"IF(Fuhrparkliste!N36=\"\",\"\",VLOOKUP(Fuhrparkliste!N36,AUFBAUMATRIXKEY,2,FALSE))","v":""},{"$f":"IF(B27=\"\",\"\",IF(OR(tblRisiken!AC27=\"03\",tblRisiken!AC27=\"04\"),\"04\",IF(B27=\"541\",\"00\",\"02\")))","v":""},"",{"$f":"tblRisiken!AE27","v":""},{"$f":"tblRisiken!AF27","v":""},{"$f":"tblRisiken!AG27","v":""},{"$f":"tblRisiken!N27","v":""},null,{"$f":"SUBSTITUTE(Fuhrparkliste!E36,\" \",\"\")","v":""},"","",{"$f":"RIGHT(V27,COUNT(RIGHT(V27,COLUMN(26:26))*1))","v":""}]
["",{"$f":"tblRisiken!C28","v":""},{"$f":"tblRisiken!J28","v":""},{"$f":"IF(Fuhrparkliste!D37=\"\",\"\",Fuhrparkliste!D37)","v":""},"","",{"$f":"tblRisiken!H28","v":""},{"$f":"tblRisiken!I28","v":""},null,null,null,{"$f":"IF(OR(B28=\"\",Fuhrparkliste!J37=\"\"),\"\",ROUND(Fuhrparkliste!J37/1000,0))","v":""},"",{"$f":"IF(Fuhrparkliste!N37=\"\",\"\",VLOOKUP(Fuhrparkliste!N37,AUFBAUMATRIXKEY,2,FALSE))","v":""},{"$f":"IF(B28=\"\",\"\",IF(OR(tblRisiken!AC28=\"03\",tblRisiken!AC28=\"04\"),\"04\",IF(B28=\"541\",\"00\",\"02\")))","v":""},"",{"$f":"tblRisiken!AE28","v":""},{"$f":"tblRisiken!AF28","v":""},{"$f":"tblRisiken!AG28","v":""},{"$f":"tblRisiken!N28","v":""},null,{"$f":"SUBSTITUTE(Fuhrparkliste!E37,\" \",\"\")","v":""},"","",{"$f":"RIGHT(V28,COUNT(RIGHT(V28,COLUMN(27:27))*1))","v":""}]
["",{"$f":"tblRisiken!C29","v":""},{"$f":"tblRisiken!J29","v":""},{"$f":"IF(Fuhrparkliste!D38=\"\",\"\",Fuhrparkliste!D38)","v":""},"","",{"$f":"tblRisiken!H29","v":""},{"$f":"tblRisiken!I29","v":""},null,null,null,{"$f":"IF(OR(B29=\"\",Fuhrparkliste!J38=\"\"),\"\",ROUND(Fuhrparkliste!J38/1000,0))","v":""},"",{"$f":"IF(Fuhrparkliste!N38=\"\",\"\",VLOOKUP(Fuhrparkliste!N38,AUFBAUMATRIXKEY,2,FALSE))","v":""},{"$f":"IF(B29=\"\",\"\",IF(OR(tblRisiken!AC29=\"03\",tblRisiken!AC29=\"04\"),\"04\",IF(B29=\"541\",\"00\",\"02\")))","v":""},"",{"$f":"tblRisiken!AE29","v":""},{"$f":"tblRisiken!AF29","v":""},{"$f":"tblRisiken!AG29","v":""},{"$f":"tblRisiken!N29","v":""},null,{"$f":"SUBSTITUTE(Fuhrparkliste!E38,\" \",\"\")","v":""},"","",{"$f":"RIGHT(V29,COUNT(RIGHT(V29,COLUMN(28:28))*1))","v":""}]
["",{"$f":"tblRisiken!C30","v":""},{"$f":"tblRisiken!J30","v":""},{"$f":"IF(Fuhrparkliste!D39=\"\",\"\",Fuhrparkliste!D39)","v":""},"","",{"$f":"tblRisiken!H30","v":""},{"$f":"tblRisiken!I30","v":""},null,null,null,{"$f":"IF(OR(B30=\"\",Fuhrparkliste!J39=\"\"),\"\",ROUND(Fuhrparkliste!J39/1000,0))","v":""},"",{"$f":"IF(Fuhrparkliste!N39=\"\",\"\",VLOOKUP(Fuhrparkliste!N39,AUFBAUMATRIXKEY,2,FALSE))","v":""},{"$f":"IF(B30=\"\",\"\",IF(OR(tblRisiken!AC30=\"03\",tblRisiken!AC30=\"04\"),\"04\",IF(B30=\"541\",\"00\",\"02\")))","v":""},"",{"$f":"tblRisiken!AE30","v":""},{"$f":"tblRisiken!AF30","v":""},{"$f":"tblRisiken!AG30","v":""},{"$f":"tblRisiken!N30","v":""},null,{"$f":"SUBSTITUTE(Fuhrparkliste!E39,\" \",\"\")","v":""},"","",{"$f":"RIGHT(V30,COUNT(RIGHT(V30,COLUMN(29:29))*1))","v":""}]
["",{"$f":"tblRisiken!C31","v":""},{"$f":"tblRisiken!J31","v":""},{"$f":"IF(Fuhrparkliste!D40=\"\",\"\",Fuhrparkliste!D40)","v":""},"","",{"$f":"tblRisiken!H31","v":""},{"$f":"tblRisiken!I31","v":""},null,null,null,{"$f":"IF(OR(B31=\"\",Fuhrparkliste!J40=\"\"),\"\",ROUND(Fuhrparkliste!J40/1000,0))","v":""},"",{"$f":"IF(Fuhrparkliste!N40=\"\",\"\",VLOOKUP(Fuhrparkliste!N40,AUFBAUMATRIXKEY,2,FALSE))","v":""},{"$f":"IF(B31=\"\",\"\",IF(OR(tblRisiken!AC31=\"03\",tblRisiken!AC31=\"04\"),\"04\",IF(B31=\"541\",\"00\",\"02\")))","v":""},"",{"$f":"tblRisiken!AE31","v":""},{"$f":"tblRisiken!AF31","v":""},{"$f":"tblRisiken!AG31","v":""},{"$f":"tblRisiken!N31","v":""},null,{"$f":"SUBSTITUTE(Fuhrparkliste!E40,\" \",\"\")","v":""},"","",{"$f":"RIGHT(V31,COUNT(RIGHT(V31,COLUMN(30:30))*1))","v":""}]
["",{"$f":"tblRisiken!C32","v":""},{"$f":"tblRisiken!J32","v":""},{"$f":"IF(Fuhrparkliste!D41=\"\",\"\",Fuhrparkliste!D41)","v":""},"","",{"$f":"tblRisiken!H32","v":""},{"$f":"tblRisiken!I32","v":""},null,null,null,{"$f":"IF(OR(B32=\"\",Fuhrparkliste!J41=\"\"),\"\",ROUND(Fuhrparkliste!J41/1000,0))","v":""},"",{"$f":"IF(Fuhrparkliste!N41=\"\",\"\",VLOOKUP(Fuhrparkliste!N41,AUFBAUMATRIXKEY,2,FALSE))","v":""},{"$f":"IF(B32=\"\",\"\",IF(OR(tblRisiken!AC32=\"03\",tblRisiken!AC32=\"04\"),\"04\",IF(B32=\"541\",\"00\",\"02\")))","v":""},"",{"$f":"tblRisiken!AE32","v":""},{"$f":"tblRisiken!AF32","v":""},{"$f":"tblRisiken!AG32","v":""},{"$f":"tblRisiken!N32","v":""},null,{"$f":"SUBSTITUTE(Fuhrparkliste!E41,\" \",\"\")","v":""},"","",{"$f":"RIGHT(V32,COUNT(RIGHT(V32,COLUMN(31:31))*1))","v":""}]
["",{"$f":"tblRisiken!C33","v":""},{"$f":"tblRisiken!J33","v":""},{"$f":"IF(Fuhrparkliste!D42=\"\",\"\",Fuhrparkliste!D42)","v":""},"","",{"$f":"tblRisiken!H33","v":""},{"$f":"tblRisiken!I33","v":""},null,null,null,{"$f":"IF(OR(B33=\"\",Fuhrparkliste!J42=\"\"),\"\",ROUND(Fuhrparkliste!J42/1000,0))","v":""},"",{"$f":"IF(Fuhrparkliste!N42=\"\",\"\",VLOOKUP(Fuhrparkliste!N42,AUFBAUMATRIXKEY,2,FALSE))","v":""},{"$f":"IF(B33=\"\",\"\",IF(OR(tblRisiken!AC33=\"03\",tblRisiken!AC33=\"04\"),\"04\",IF(B33=\"541\",\"00\",\"02\")))","v":""},"",{"$f":"tblRisiken!AE33","v":""},{"$f":"tblRisiken!AF33","v":""},{"$f":"tblRisiken!AG33","v":""},{"$f":"tblRisiken!N33","v":""},null,{"$f":"SUBSTITUTE(Fuhrparkliste!E42,\" \",\"\")","v":""},"","",{"$f":"RIGHT(V33,COUNT(RIGHT(V33,COLUMN(32:32))*1))","v":""}]
["",{"$f":"tblRisiken!C34","v":""},{"$f":"tblRisiken!J34","v":""},{"$f":"IF(Fuhrparkliste!D43=\"\",\"\",Fuhrparkliste!D43)","v":""},"",{"$f":"IF(B34=\"\",\"\",IF(ISERROR(VLOOKUP(W34,REGIOSLMATRIX,2,FALSE)),\"N\",\"\"))","v":""},{"$f":"tblRisiken!H34","v":""},{"$f":"tblRisiken!I34","v":""},null,null,null,{"$f":"IF(OR(B34=\"\",Fuhrparkliste!J43=\"\"),\"\",ROUND(Fuhrparkliste!J43/1000,0))","v":""},"",{"$f":"IF(Fuhrparkliste!N43=\"\",\"\",VLOOKUP(Fuhrparkliste!N43,AUFBAUMATRIXKEY,2,FALSE))","v":""},{"$f":"IF(B34=\"\",\"\",IF(OR(tblRisiken!AC34=\"03\",tblRisiken!AC34=\"04\"),\"04\",IF(B34=\"541\",\"00\",\"02\")))","v":""},"",{"$f":"tblRisiken!AE34","v":""},{"$f":"tblRisiken!AF34","v":""},{"$f":"tblRisiken!AG34","v":""},{"$f":"tblRisiken!N34","v":""},null,{"$f":"SUBSTITUTE(Fuhrparkliste!E43,\" \",\"\")","v":""},"","",{"$f":"RIGHT(V34,COUNT(RIGHT(V34,COLUMN(33:33))*1))","v":""}]
["",{"$f":"tblRisiken!C35","v":""},{"$f":"tblRisiken!J35","v":""},{"$f":"IF(Fuhrparkliste!D44=\"\",\"\",Fuhrparkliste!D44)","v":""},"","",{"$f":"tblRisiken!H35","v":""},{"$f":"tblRisiken!I35","v":""},null,null,null,{"$f":"IF(OR(B35=\"\",Fuhrparkliste!J44=\"\"),\"\",ROUND(Fuhrparkliste!J44/1000,0))","v":""},"",{"$f":"IF(Fuhrparkliste!N44=\"\",\"\",VLOOKUP(Fuhrparkliste!N44,AUFBAUMATRIXKEY,2,FALSE))","v":""},{"$f":"IF(B35=\"\",\"\",IF(OR(tblRisiken!AC35=\"03\",tblRisiken!AC35=\"04\"),\"04\",IF(B35=\"541\",\"00\",\"02\")))","v":""},"",{"$f":"tblRisiken!AE35","v":""},{"$f":"tblRisiken!AF35","v":""},{"$f":"tblRisiken!AG35","v":""},{"$f":"tblRisiken!N35","v":""},null,{"$f":"SUBSTITUTE(Fuhrparkliste!E44,\" \",\"\")","v":""},"","",{"$f":"RIGHT(V35,COUNT(RIGHT(V35,COLUMN(34:34))*1))","v":""}]
["",{"$f":"tblRisiken!C36","v":""},{"$f":"tblRisiken!J36","v":""},{"$f":"IF(Fuhrparkliste!D45=\"\",\"\",Fuhrparkliste!D45)","v":""},"","",{"$f":"tblRisiken!H36","v":""},{"$f":"tblRisiken!I36","v":""},null,null,null,{"$f":"IF(OR(B36=\"\",Fuhrparkliste!J45=\"\"),\"\",ROUND(Fuhrparkliste!J45/1000,0))","v":""},"",{"$f":"IF(Fuhrparkliste!N45=\"\",\"\",VLOOKUP(Fuhrparkliste!N45,AUFBAUMATRIXKEY,2,FALSE))","v":""},{"$f":"IF(B36=\"\",\"\",IF(OR(tblRisiken!AC36=\"03\",tblRisiken!AC36=\"04\"),\"04\",IF(B36=\"541\",\"00\",\"02\")))","v":""},"",{"$f":"tblRisiken!AE36","v":""},{"$f":"tblRisiken!AF36","v":""},{"$f":"tblRisiken!AG36","v":""},{"$f":"tblRisiken!N36","v":""},null,{"$f":"SUBSTITUTE(Fuhrparkliste!E45,\" \",\"\")","v":""},"","",{"$f":"RIGHT(V36,COUNT(RIGHT(V36,COLUMN(35:35))*1))","v":""}]
["",{"$f":"tblRisiken!C37","v":""},{"$f":"tblRisiken!J37","v":""},{"$f":"IF(Fuhrparkliste!D46=\"\",\"\",Fuhrparkliste!D46)","v":""},"","",{"$f":"tblRisiken!H37","v":""},{"$f":"tblRisiken!I37","v":""},null,null,null,{"$f":"IF(OR(B37=\"\",Fuhrparkliste!J46=\"\"),\"\",ROUND(Fuhrparkliste!J46/1000,0))","v":""},"",{"$f":"IF(Fuhrparkliste!N46=\"\",\"\",VLOOKUP(Fuhrparkliste!N46,AUFBAUMATRIXKEY,2,FALSE))","v":""},{"$f":"IF(B37=\"\",\"\",IF(OR(tblRisiken!AC37=\"03\",tblRisiken!AC37=\"04\"),\"04\",IF(B37=\"541\",\"00\",\"02\")))","v":""},"",{"$f":"tblRisiken!AE37","v":""},{"$f":"tblRisiken!AF37","v":""},{"$f":"tblRisiken!AG37","v":""},{"$f":"tblRisiken!N37","v":""},null,{"$f":"SUBSTITUTE(Fuhrparkliste!E46,\" \",\"\")","v":""},"","",{"$f":"RIGHT(V37,COUNT(RIGHT(V37,COLUMN(36:36))*1))","v":""}]
["",{"$f":"tblRisiken!C38","v":""},{"$f":"tblRisiken!J38","v":""},{"$f":"IF(Fuhrparkliste!D47=\"\",\"\",Fuhrparkliste!D47)","v":""},"","",{"$f":"tblRisiken!H38","v":""},{"$f":"tblRisiken!I38","v":""},null,null,null,{"$f":"IF(OR(B38=\"\",Fuhrparkliste!J47=\"\"),\"\",ROUND(Fuhrparkliste!J47/1000,0))","v":""},"",{"$f":"IF(Fuhrparkliste!N47=\"\",\"\",VLOOKUP(Fuhrparkliste!N47,AUFBAUMATRIXKEY,2,FALSE))","v":""},{"$f":"IF(B38=\"\",\"\",IF(OR(tblRisiken!AC38=\"03\",tblRisiken!AC38=\"04\"),\"04\",IF(B38=\"541\",\"00\",\"02\")))","v":""},"",{"$f":"tblRisiken!AE38","v":""},{"$f":"tblRisiken!AF38","v":""},{"$f":"tblRisiken!AG38","v":""},{"$f":"tblRisiken!N38","v":""},null,{"$f":"SUBSTITUTE(Fuhrparkliste!E47,\" \",\"\")","v":""},"","",{"$f":"RIGHT(V38,COUNT(RIGHT(V38,COLUMN(37:37))*1))","v":""}]
["",{"$f":"tblRisiken!C39","v":""},{"$f":"tblRisiken!J39","v":""},{"$f":"IF(Fuhrparkliste!D48=\"\",\"\",Fuhrparkliste!D48)","v":""},"","",{"$f":"tblRisiken!H39","v":""},{"$f":"tblRisiken!I39","v":""},null,null,null,{"$f":"IF(OR(B39=\"\",Fuhrparkliste!J48=\"\"),\"\",ROUND(Fuhrparkliste!J48/1000,0))","v":""},"",{"$f":"IF(Fuhrparkliste!N48=\"\",\"\",VLOOKUP(Fuhrparkliste!N48,AUFBAUMATRIXKEY,2,FALSE))","v":""},{"$f":"IF(B39=\"\",\"\",IF(OR(tblRisiken!AC39=\"03\",tblRisiken!AC39=\"04\"),\"04\",IF(B39=\"541\",\"00\",\"02\")))","v":""},"",{"$f":"tblRisiken!AE39","v":""},{"$f":"tblRisiken!AF39","v":""},{"$f":"tblRisiken!AG39","v":""},{"$f":"tblRisiken!N39","v":""},null,{"$f":"SUBSTITUTE(Fuhrparkliste!E48,\" \",\"\")","v":""},"","",{"$f":"RIGHT(V39,COUNT(RIGHT(V39,COLUMN(38:38))*1))","v":""}]
["",{"$f":"tblRisiken!C40","v":""},{"$f":"tblRisiken!J40","v":""},{"$f":"IF(Fuhrparkliste!D49=\"\",\"\",Fuhrparkliste!D49)","v":""},"","",{"$f":"tblRisiken!H40","v":""},{"$f":"tblRisiken!I40","v":""},null,null,null,{"$f":"IF(OR(B40=\"\",Fuhrparkliste!J49=\"\"),\"\",ROUND(Fuhrparkliste!J49/1000,0))","v":""},"",{"$f":"IF(Fuhrparkliste!N49=\"\",\"\",VLOOKUP(Fuhrparkliste!N49,AUFBAUMATRIXKEY,2,FALSE))","v":""},{"$f":"IF(B40=\"\",\"\",IF(OR(tblRisiken!AC40=\"03\",tblRisiken!AC40=\"04\"),\"04\",IF(B40=\"541\",\"00\",\"02\")))","v":""},"",{"$f":"tblRisiken!AE40","v":""},{"$f":"tblRisiken!AF40","v":""},{"$f":"tblRisiken!AG40","v":""},{"$f":"tblRisiken!N40","v":""},null,{"$f":"SUBSTITUTE(Fuhrparkliste!E49,\" \",\"\")","v":""},"","",{"$f":"RIGHT(V40,COUNT(RIGHT(V40,COLUMN(39:39))*1))","v":""}]
["",{"$f":"tblRisiken!C41","v":""},{"$f":"tblRisiken!J41","v":""},{"$f":"IF(Fuhrparkliste!D50=\"\",\"\",Fuhrparkliste!D50)","v":""},"","",{"$f":"tblRisiken!H41","v":""},{"$f":"tblRisiken!I41","v":""},null,null,null,{"$f":"IF(OR(B41=\"\",Fuhrparkliste!J50=\"\"),\"\",ROUND(Fuhrparkliste!J50/1000,0))","v":""},"",{"$f":"IF(Fuhrparkliste!N50=\"\",\"\",VLOOKUP(Fuhrparkliste!N50,AUFBAUMATRIXKEY,2,FALSE))","v":""},{"$f":"IF(B41=\"\",\"\",IF(OR(tblRisiken!AC41=\"03\",tblRisiken!AC41=\"04\"),\"04\",IF(B41=\"541\",\"00\",\"02\")))","v":""},"",{"$f":"tblRisiken!AE41","v":""},{"$f":"tblRisiken!AF41","v":""},{"$f":"tblRisiken!AG41","v":""},{"$f":"tblRisiken!N41","v":""},null,{"$f":"SUBSTITUTE(Fuhrparkliste!E50,\" \",\"\")","v":""},"","",{"$f":"RIGHT(V41,COUNT(RIGHT(V41,COLUMN(40:40))*1))","v":""}]
["",{"$f":"tblRisiken!C42","v":""},{"$f":"tblRisiken!J42","v":""},{"$f":"IF(Fuhrparkliste!D51=\"\",\"\",Fuhrparkliste!D51)","v":""},"","",{"$f":"tblRisiken!H42","v":""},{"$f":"tblRisiken!I42","v":""},null,null,null,{"$f":"IF(OR(B42=\"\",Fuhrparkliste!J51=\"\"),\"\",ROUND(Fuhrparkliste!J51/1000,0))","v":""},"",{"$f":"IF(Fuhrparkliste!N51=\"\",\"\",VLOOKUP(Fuhrparkliste!N51,AUFBAUMATRIXKEY,2,FALSE))","v":""},{"$f":"IF(B42=\"\",\"\",IF(OR(tblRisiken!AC42=\"03\",tblRisiken!AC42=\"04\"),\"04\",IF(B42=\"541\",\"00\",\"02\")))","v":""},"",{"$f":"tblRisiken!AE42","v":""},{"$f":"tblRisiken!AF42","v":""},{"$f":"tblRisiken!AG42","v":""},{"$f":"tblRisiken!N42","v":""},null,{"$f":"SUBSTITUTE(Fuhrparkliste!E51,\" \",\"\")","v":""},"","",{"$f":"RIGHT(V42,COUNT(RIGHT(V42,COLUMN(41:41))*1))","v":""}]
["",{"$f":"tblRisiken!C43","v":""},{"$f":"tblRisiken!J43","v":""},{"$f":"IF(Fuhrparkliste!D52=\"\",\"\",Fuhrparkliste!D52)","v":""},"","",{"$f":"tblRisiken!H43","v":""},{"$f":"tblRisiken!I43","v":""},null,null,null,{"$f":"IF(OR(B43=\"\",Fuhrparkliste!J52=\"\"),\"\",ROUND(Fuhrparkliste!J52/1000,0))","v":""},"",{"$f":"IF(Fuhrparkliste!N52=\"\",\"\",VLOOKUP(Fuhrparkliste!N52,AUFBAUMATRIXKEY,2,FALSE))","v":""},{"$f":"IF(B43=\"\",\"\",IF(OR(tblRisiken!AC43=\"03\",tblRisiken!AC43=\"04\"),\"04\",IF(B43=\"541\",\"00\",\"02\")))","v":""},"",{"$f":"tblRisiken!AE43","v":""},{"$f":"tblRisiken!AF43","v":""},{"$f":"tblRisiken!AG43","v":""},{"$f":"tblRisiken!N43","v":""},null,{"$f":"SUBSTITUTE(Fuhrparkliste!E52,\" \",\"\")","v":""},"","",{"$f":"RIGHT(V43,COUNT(RIGHT(V43,COLUMN(42:42))*1))","v":""}]
["",{"$f":"tblRisiken!C44","v":""},{"$f":"tblRisiken!J44","v":""},{"$f":"IF(Fuhrparkliste!D53=\"\",\"\",Fuhrparkliste!D53)","v":""},"","",{"$f":"tblRisiken!H44","v":""},{"$f":"tblRisiken!I44","v":""},null,null,null,{"$f":"IF(OR(B44=\"\",Fuhrparkliste!J53=\"\"),\"\",ROUND(Fuhrparkliste!J53/1000,0))","v":""},"",{"$f":"IF(Fuhrparkliste!N53=\"\",\"\",VLOOKUP(Fuhrparkliste!N53,AUFBAUMATRIXKEY,2,FALSE))","v":""},{"$f":"IF(B44=\"\",\"\",IF(OR(tblRisiken!AC44=\"03\",tblRisiken!AC44=\"04\"),\"04\",IF(B44=\"541\",\"00\",\"02\")))","v":""},"",{"$f":"tblRisiken!AE44","v":""},{"$f":"tblRisiken!AF44","v":""},{"$f":"tblRisiken!AG44","v":""},{"$f":"tblRisiken!N44","v":""},null,{"$f":"SUBSTITUTE(Fuhrparkliste!E53,\" \",\"\")","v":""},"","",{"$f":"RIGHT(V44,COUNT(RIGHT(V44,COLUMN(43:43))*1))","v":""}]
["",{"$f":"tblRisiken!C45","v":""},{"$f":"tblRisiken!J45","v":""},{"$f":"IF(Fuhrparkliste!D54=\"\",\"\",Fuhrparkliste!D54)","v":""},"","",{"$f":"tblRisiken!H45","v":""},{"$f":"tblRisiken!I45","v":""},null,null,null,{"$f":"IF(OR(B45=\"\",Fuhrparkliste!J54=\"\"),\"\",ROUND(Fuhrparkliste!J54/1000,0))","v":""},"",{"$f":"IF(Fuhrparkliste!N54=\"\",\"\",VLOOKUP(Fuhrparkliste!N54,AUFBAUMATRIXKEY,2,FALSE))","v":""},{"$f":"IF(B45=\"\",\"\",IF(OR(tblRisiken!AC45=\"03\",tblRisiken!AC45=\"04\"),\"04\",IF(B45=\"541\",\"00\",\"02\")))","v":""},"",{"$f":"tblRisiken!AE45","v":""},{"$f":"tblRisiken!AF45","v":""},{"$f":"tblRisiken!AG45","v":""},{"$f":"tblRisiken!N45","v":""},null,{"$f":"SUBSTITUTE(Fuhrparkliste!E54,\" \",\"\")","v":""},"","",{"$f":"RIGHT(V45,COUNT(RIGHT(V45,COLUMN(44:44))*1))","v":""}]
["",{"$f":"tblRisiken!C46","v":""},{"$f":"tblRisiken!J46","v":""},{"$f":"IF(Fuhrparkliste!D55=\"\",\"\",Fuhrparkliste!D55)","v":""},"","",{"$f":"tblRisiken!H46","v":""},{"$f":"tblRisiken!I46","v":""},null,null,null,{"$f":"IF(OR(B46=\"\",Fuhrparkliste!J55=\"\"),\"\",ROUND(Fuhrparkliste!J55/1000,0))","v":""},"",{"$f":"IF(Fuhrparkliste!N55=\"\",\"\",VLOOKUP(Fuhrparkliste!N55,AUFBAUMATRIXKEY,2,FALSE))","v":""},{"$f":"IF(B46=\"\",\"\",IF(OR(tblRisiken!AC46=\"03\",tblRisiken!AC46=\"04\"),\"04\",IF(B46=\"541\",\"00\",\"02\")))","v":""},"",{"$f":"tblRisiken!AE46","v":""},{"$f":"tblRisiken!AF46","v":""},{"$f":"tblRisiken!AG46","v":""},{"$f":"tblRisiken!N46","v":""},null,{"$f":"SUBSTITUTE(Fuhrparkliste!E55,\" \",\"\")","v":""},"","",{"$f":"RIGHT(V46,COUNT(RIGHT(V46,COLUMN(45:45))*1))","v":""}]
["",{"$f":"tblRisiken!C47","v":""},{"$f":"tblRisiken!J47","v":""},{"$f":"IF(Fuhrparkliste!D56=\"\",\"\",Fuhrparkliste!D56)","v":""},"","",{"$f":"tblRisiken!H47","v":""},{"$f":"tblRisiken!I47","v":""},null,null,null,{"$f":"IF(OR(B47=\"\",Fuhrparkliste!J56=\"\"),\"\",ROUND(Fuhrparkliste!J56/1000,0))","v":""},"",{"$f":"IF(Fuhrparkliste!N56=\"\",\"\",VLOOKUP(Fuhrparkliste!N56,AUFBAUMATRIXKEY,2,FALSE))","v":""},{"$f":"IF(B47=\"\",\"\",IF(OR(tblRisiken!AC47=\"03\",tblRisiken!AC47=\"04\"),\"04\",IF(B47=\"541\",\"00\",\"02\")))","v":""},"",{"$f":"tblRisiken!AE47","v":""},{"$f":"tblRisiken!AF47","v":""},{"$f":"tblRisiken!AG47","v":""},{"$f":"tblRisiken!N47","v":""},null,{"$f":"SUBSTITUTE(Fuhrparkliste!E56,\" \",\"\")","v":""},"","",{"$f":"RIGHT(V47,COUNT(RIGHT(V47,COLUMN(46:46))*1))","v":""}]
["",{"$f":"tblRisiken!C48","v":""},{"$f":"tblRisiken!J48","v":""},{"$f":"IF(Fuhrparkliste!D57=\"\",\"\",Fuhrparkliste!D57)","v":""},"","",{"$f":"tblRisiken!H48","v":""},{"$f":"tblRisiken!I48","v":""},null,null,null,{"$f":"IF(OR(B48=\"\",Fuhrparkliste!J57=\"\"),\"\",ROUND(Fuhrparkliste!J57/1000,0))","v":""},"",{"$f":"IF(Fuhrparkliste!N57=\"\",\"\",VLOOKUP(Fuhrparkliste!N57,AUFBAUMATRIXKEY,2,FALSE))","v":""},{"$f":"IF(B48=\"\",\"\",IF(OR(tblRisiken!AC48=\"03\",tblRisiken!AC48=\"04\"),\"04\",IF(B48=\"541\",\"00\",\"02\")))","v":""},"",{"$f":"tblRisiken!AE48","v":""},{"$f":"tblRisiken!AF48","v":""},{"$f":"tblRisiken!AG48","v":""},{"$f":"tblRisiken!N48","v":""},null,{"$f":"SUBSTITUTE(Fuhrparkliste!E57,\" \",\"\")","v":""},"","",{"$f":"RIGHT(V48,COUNT(RIGHT(V48,COLUMN(47:47))*1))","v":""}]
["",{"$f":"tblRisiken!C49","v":""},{"$f":"tblRisiken!J49","v":""},{"$f":"IF(Fuhrparkliste!D58=\"\",\"\",Fuhrparkliste!D58)","v":""},"","",{"$f":"tblRisiken!H49","v":""},{"$f":"tblRisiken!I49","v":""},null,null,null,{"$f":"IF(OR(B49=\"\",Fuhrparkliste!J58=\"\"),\"\",ROUND(Fuhrparkliste!J58/1000,0))","v":""},"",{"$f":"IF(Fuhrparkliste!N58=\"\",\"\",VLOOKUP(Fuhrparkliste!N58,AUFBAUMATRIXKEY,2,FALSE))","v":""},{"$f":"IF(B49=\"\",\"\",IF(OR(tblRisiken!AC49=\"03\",tblRisiken!AC49=\"04\"),\"04\",IF(B49=\"541\",\"00\",\"02\")))","v":""},"",{"$f":"tblRisiken!AE49","v":""},{"$f":"tblRisiken!AF49","v":""},{"$f":"tblRisiken!AG49","v":""},{"$f":"tblRisiken!N49","v":""},null,{"$f":"SUBSTITUTE(Fuhrparkliste!E58,\" \",\"\")","v":""},"","",{"$f":"RIGHT(V49,COUNT(RIGHT(V49,COLUMN(48:48))*1))","v":""}]
["",{"$f":"tblRisiken!C50","v":""},{"$f":"tblRisiken!J50","v":""},{"$f":"IF(Fuhrparkliste!D59=\"\",\"\",Fuhrparkliste!D59)","v":""},"","",{"$f":"tblRisiken!H50","v":""},{"$f":"tblRisiken!I50","v":""},null,null,null,{"$f":"IF(OR(B50=\"\",Fuhrparkliste!J59=\"\"),\"\",ROUND(Fuhrparkliste!J59/1000,0))","v":""},"",{"$f":"IF(Fuhrparkliste!N59=\"\",\"\",VLOOKUP(Fuhrparkliste!N59,AUFBAUMATRIXKEY,2,FALSE))","v":""},{"$f":"IF(B50=\"\",\"\",IF(OR(tblRisiken!AC50=\"03\",tblRisiken!AC50=\"04\"),\"04\",IF(B50=\"541\",\"00\",\"02\")))","v":""},"",{"$f":"tblRisiken!AE50","v":""},{"$f":"tblRisiken!AF50","v":""},{"$f":"tblRisiken!AG50","v":""},{"$f":"tblRisiken!N50","v":""},null,{"$f":"SUBSTITUTE(Fuhrparkliste!E59,\" \",\"\")","v":""},"","",{"$f":"RIGHT(V50,COUNT(RIGHT(V50,COLUMN(49:49))*1))","v":""}]
["",{"$f":"tblRisiken!C51","v":""},{"$f":"tblRisiken!J51","v":""},{"$f":"IF(Fuhrparkliste!D60=\"\",\"\",Fuhrparkliste!D60)","v":""},"","",{"$f":"tblRisiken!H51","v":""},{"$f":"tblRisiken!I51","v":""},null,null,null,{"$f":"IF(OR(B51=\"\",Fuhrparkliste!J60=\"\"),\"\",ROUND(Fuhrparkliste!J60/1000,0))","v":""},"",{"$f":"IF(Fuhrparkliste!N60=\"\",\"\",VLOOKUP(Fuhrparkliste!N60,AUFBAUMATRIXKEY,2,FALSE))","v":""},{"$f":"IF(B51=\"\",\"\",IF(OR(tblRisiken!AC51=\"03\",tblRisiken!AC51=\"04\"),\"04\",IF(B51=\"541\",\"00\",\"02\")))","v":""},"",{"$f":"tblRisiken!AE51","v":""},{"$f":"tblRisiken!AF51","v":""},{"$f":"tblRisiken!AG51","v":""},{"$f":"tblRisiken!N51","v":""},null,{"$f":"SUBSTITUTE(Fuhrparkliste!E60,\" \",\"\")","v":""},"","",{"$f":"RIGHT(V51,COUNT(RIGHT(V51,COLUMN(50:50))*1))","v":""}]
["",{"$f":"tblRisiken!C52","v":""},{"$f":"tblRisiken!J52","v":""},{"$f":"IF(Fuhrparkliste!D61=\"\",\"\",Fuhrparkliste!D61)","v":""},"","",{"$f":"tblRisiken!H52","v":""},{"$f":"tblRisiken!I52","v":""},null,null,null,{"$f":"IF(OR(B52=\"\",Fuhrparkliste!J61=\"\"),\"\",ROUND(Fuhrparkliste!J61/1000,0))","v":""},"",{"$f":"IF(Fuhrparkliste!N61=\"\",\"\",VLOOKUP(Fuhrparkliste!N61,AUFBAUMATRIXKEY,2,FALSE))","v":""},{"$f":"IF(B52=\"\",\"\",IF(OR(tblRisiken!AC52=\"03\",tblRisiken!AC52=\"04\"),\"04\",IF(B52=\"541\",\"00\",\"02\")))","v":""},"",{"$f":"tblRisiken!AE52","v":""},{"$f":"tblRisiken!AF52","v":""},{"$f":"tblRisiken!AG52","v":""},{"$f":"tblRisiken!N52","v":""},null,{"$f":"SUBSTITUTE(Fuhrparkliste!E61,\" \",\"\")","v":""},"","",{"$f":"RIGHT(V52,COUNT(RIGHT(V52,COLUMN(51:51))*1))","v":""}]
["",{"$f":"tblRisiken!C53","v":""},{"$f":"tblRisiken!J53","v":""},{"$f":"IF(Fuhrparkliste!D62=\"\",\"\",Fuhrparkliste!D62)","v":""},"","",{"$f":"tblRisiken!H53","v":""},{"$f":"tblRisiken!I53","v":""},null,null,null,{"$f":"IF(OR(B53=\"\",Fuhrparkliste!J62=\"\"),\"\",ROUND(Fuhrparkliste!J62/1000,0))","v":""},"",{"$f":"IF(Fuhrparkliste!N62=\"\",\"\",VLOOKUP(Fuhrparkliste!N62,AUFBAUMATRIXKEY,2,FALSE))","v":""},{"$f":"IF(B53=\"\",\"\",IF(OR(tblRisiken!AC53=\"03\",tblRisiken!AC53=\"04\"),\"04\",IF(B53=\"541\",\"00\",\"02\")))","v":""},"",{"$f":"tblRisiken!AE53","v":""},{"$f":"tblRisiken!AF53","v":""},{"$f":"tblRisiken!AG53","v":""},{"$f":"tblRisiken!N53","v":""},null,{"$f":"SUBSTITUTE(Fuhrparkliste!E62,\" \",\"\")","v":""},"","",{"$f":"RIGHT(V53,COUNT(RIGHT(V53,COLUMN(52:52))*1))","v":""}]
["",{"$f":"tblRisiken!C54","v":""},{"$f":"tblRisiken!J54","v":""},{"$f":"IF(Fuhrparkliste!D63=\"\",\"\",Fuhrparkliste!D63)","v":""},"","",{"$f":"tblRisiken!H54","v":""},{"$f":"tblRisiken!I54","v":""},null,null,null,{"$f":"IF(OR(B54=\"\",Fuhrparkliste!J63=\"\"),\"\",ROUND(Fuhrparkliste!J63/1000,0))","v":""},"",{"$f":"IF(Fuhrparkliste!N63=\"\",\"\",VLOOKUP(Fuhrparkliste!N63,AUFBAUMATRIXKEY,2,FALSE))","v":""},{"$f":"IF(B54=\"\",\"\",IF(OR(tblRisiken!AC54=\"03\",tblRisiken!AC54=\"04\"),\"04\",IF(B54=\"541\",\"00\",\"02\")))","v":""},"",{"$f":"tblRisiken!AE54","v":""},{"$f":"tblRisiken!AF54","v":""},{"$f":"tblRisiken!AG54","v":""},{"$f":"tblRisiken!N54","v":""},null,{"$f":"SUBSTITUTE(Fuhrparkliste!E63,\" \",\"\")","v":""},"","",{"$f":"RIGHT(V54,COUNT(RIGHT(V54,COLUMN(53:53))*1))","v":""}]
["",{"$f":"tblRisiken!C55","v":""},{"$f":"tblRisiken!J55","v":""},{"$f":"IF(Fuhrparkliste!D64=\"\",\"\",Fuhrparkliste!D64)","v":""},"","",{"$f":"tblRisiken!H55","v":""},{"$f":"tblRisiken!I55","v":""},null,null,null,{"$f":"IF(OR(B55=\"\",Fuhrparkliste!J64=\"\"),\"\",ROUND(Fuhrparkliste!J64/1000,0))","v":""},"",{"$f":"IF(Fuhrparkliste!N64=\"\",\"\",VLOOKUP(Fuhrparkliste!N64,AUFBAUMATRIXKEY,2,FALSE))","v":""},{"$f":"IF(B55=\"\",\"\",IF(OR(tblRisiken!AC55=\"03\",tblRisiken!AC55=\"04\"),\"04\",IF(B55=\"541\",\"00\",\"02\")))","v":""},"",{"$f":"tblRisiken!AE55","v":""},{"$f":"tblRisiken!AF55","v":""},{"$f":"tblRisiken!AG55","v":""},{"$f":"tblRisiken!N55","v":""},null,{"$f":"SUBSTITUTE(Fuhrparkliste!E64,\" \",\"\")","v":""},"","",{"$f":"RIGHT(V55,COUNT(RIGHT(V55,COLUMN(54:54))*1))","v":""}]
["",{"$f":"tblRisiken!C56","v":""},{"$f":"tblRisiken!J56","v":""},{"$f":"IF(Fuhrparkliste!D65=\"\",\"\",Fuhrparkliste!D65)","v":""},"","",{"$f":"tblRisiken!H56","v":""},{"$f":"tblRisiken!I56","v":""},null,null,null,{"$f":"IF(OR(B56=\"\",Fuhrparkliste!J65=\"\"),\"\",ROUND(Fuhrparkliste!J65/1000,0))","v":""},"",{"$f":"IF(Fuhrparkliste!N65=\"\",\"\",VLOOKUP(Fuhrparkliste!N65,AUFBAUMATRIXKEY,2,FALSE))","v":""},{"$f":"IF(B56=\"\",\"\",IF(OR(tblRisiken!AC56=\"03\",tblRisiken!AC56=\"04\"),\"04\",IF(B56=\"541\",\"00\",\"02\")))","v":""},"",{"$f":"tblRisiken!AE56","v":""},{"$f":"tblRisiken!AF56","v":""},{"$f":"tblRisiken!AG56","v":""},{"$f":"tblRisiken!N56","v":""},null,{"$f":"SUBSTITUTE(Fuhrparkliste!E65,\" \",\"\")","v":""},"","",{"$f":"RIGHT(V56,COUNT(RIGHT(V56,COLUMN(55:55))*1))","v":""}]
["",{"$f":"tblRisiken!C57","v":""},{"$f":"tblRisiken!J57","v":""},{"$f":"IF(Fuhrparkliste!D66=\"\",\"\",Fuhrparkliste!D66)","v":""},"","",{"$f":"tblRisiken!H57","v":""},{"$f":"tblRisiken!I57","v":""},null,null,null,{"$f":"IF(OR(B57=\"\",Fuhrparkliste!J66=\"\"),\"\",ROUND(Fuhrparkliste!J66/1000,0))","v":""},"",{"$f":"IF(Fuhrparkliste!N66=\"\",\"\",VLOOKUP(Fuhrparkliste!N66,AUFBAUMATRIXKEY,2,FALSE))","v":""},{"$f":"IF(B57=\"\",\"\",IF(OR(tblRisiken!AC57=\"03\",tblRisiken!AC57=\"04\"),\"04\",IF(B57=\"541\",\"00\",\"02\")))","v":""},"",{"$f":"tblRisiken!AE57","v":""},{"$f":"tblRisiken!AF57","v":""},{"$f":"tblRisiken!AG57","v":""},{"$f":"tblRisiken!N57","v":""},null,{"$f":"SUBSTITUTE(Fuhrparkliste!E66,\" \",\"\")","v":""},"","",{"$f":"RIGHT(V57,COUNT(RIGHT(V57,COLUMN(56:56))*1))","v":""}]
["",{"$f":"tblRisiken!C58","v":""},{"$f":"tblRisiken!J58","v":""},{"$f":"IF(Fuhrparkliste!D67=\"\",\"\",Fuhrparkliste!D67)","v":""},"","",{"$f":"tblRisiken!H58","v":""},{"$f":"tblRisiken!I58","v":""},null,null,null,{"$f":"IF(OR(B58=\"\",Fuhrparkliste!J67=\"\"),\"\",ROUND(Fuhrparkliste!J67/1000,0))","v":""},"",{"$f":"IF(Fuhrparkliste!N67=\"\",\"\",VLOOKUP(Fuhrparkliste!N67,AUFBAUMATRIXKEY,2,FALSE))","v":""},{"$f":"IF(B58=\"\",\"\",IF(OR(tblRisiken!AC58=\"03\",tblRisiken!AC58=\"04\"),\"04\",IF(B58=\"541\",\"00\",\"02\")))","v":""},"",{"$f":"tblRisiken!AE58","v":""},{"$f":"tblRisiken!AF58","v":""},{"$f":"tblRisiken!AG58","v":""},{"$f":"tblRisiken!N58","v":""},null,{"$f":"SUBSTITUTE(Fuhrparkliste!E67,\" \",\"\")","v":""},"","",{"$f":"RIGHT(V58,COUNT(RIGHT(V58,COLUMN(57:57))*1))","v":""}]
["",{"$f":"tblRisiken!C59","v":""},{"$f":"tblRisiken!J59","v":""},{"$f":"IF(Fuhrparkliste!D68=\"\",\"\",Fuhrparkliste!D68)","v":""},"","",{"$f":"tblRisiken!H59","v":""},{"$f":"tblRisiken!I59","v":""},null,null,null,{"$f":"IF(OR(B59=\"\",Fuhrparkliste!J68=\"\"),\"\",ROUND(Fuhrparkliste!J68/1000,0))","v":""},"",{"$f":"IF(Fuhrparkliste!N68=\"\",\"\",VLOOKUP(Fuhrparkliste!N68,AUFBAUMATRIXKEY,2,FALSE))","v":""},{"$f":"IF(B59=\"\",\"\",IF(OR(tblRisiken!AC59=\"03\",tblRisiken!AC59=\"04\"),\"04\",IF(B59=\"541\",\"00\",\"02\")))","v":""},"",{"$f":"tblRisiken!AE59","v":""},{"$f":"tblRisiken!AF59","v":""},{"$f":"tblRisiken!AG59","v":""},{"$f":"tblRisiken!N59","v":""},null,{"$f":"SUBSTITUTE(Fuhrparkliste!E68,\" \",\"\")","v":""},"","",{"$f":"RIGHT(V59,COUNT(RIGHT(V59,COLUMN(58:58))*1))","v":""}]
["",{"$f":"tblRisiken!C60","v":""},{"$f":"tblRisiken!J60","v":""},{"$f":"IF(Fuhrparkliste!D69=\"\",\"\",Fuhrparkliste!D69)","v":""},"","",{"$f":"tblRisiken!H60","v":""},{"$f":"tblRisiken!I60","v":""},null,null,null,{"$f":"IF(OR(B60=\"\",Fuhrparkliste!J69=\"\"),\"\",ROUND(Fuhrparkliste!J69/1000,0))","v":""},"",{"$f":"IF(Fuhrparkliste!N69=\"\",\"\",VLOOKUP(Fuhrparkliste!N69,AUFBAUMATRIXKEY,2,FALSE))","v":""},{"$f":"IF(B60=\"\",\"\",IF(OR(tblRisiken!AC60=\"03\",tblRisiken!AC60=\"04\"),\"04\",IF(B60=\"541\",\"00\",\"02\")))","v":""},"",{"$f":"tblRisiken!AE60","v":""},{"$f":"tblRisiken!AF60","v":""},{"$f":"tblRisiken!AG60","v":""},{"$f":"tblRisiken!N60","v":""},null,{"$f":"SUBSTITUTE(Fuhrparkliste!E69,\" \",\"\")","v":""},"","",{"$f":"RIGHT(V60,COUNT(RIGHT(V60,COLUMN(59:59))*1))","v":""}]
["",{"$f":"tblRisiken!C61","v":""},{"$f":"tblRisiken!J61","v":""},{"$f":"IF(Fuhrparkliste!D70=\"\",\"\",Fuhrparkliste!D70)","v":""},"","",{"$f":"tblRisiken!H61","v":""},{"$f":"tblRisiken!I61","v":""},null,null,null,{"$f":"IF(OR(B61=\"\",Fuhrparkliste!J70=\"\"),\"\",ROUND(Fuhrparkliste!J70/1000,0))","v":""},"",{"$f":"IF(Fuhrparkliste!N70=\"\",\"\",VLOOKUP(Fuhrparkliste!N70,AUFBAUMATRIXKEY,2,FALSE))","v":""},{"$f":"IF(B61=\"\",\"\",IF(OR(tblRisiken!AC61=\"03\",tblRisiken!AC61=\"04\"),\"04\",IF(B61=\"541\",\"00\",\"02\")))","v":""},"",{"$f":"tblRisiken!AE61","v":""},{"$f":"tblRisiken!AF61","v":""},{"$f":"tblRisiken!AG61","v":""},{"$f":"tblRisiken!N61","v":""},null,{"$f":"SUBSTITUTE(Fuhrparkliste!E70,\" \",\"\")","v":""},"","",{"$f":"RIGHT(V61,COUNT(RIGHT(V61,COLUMN(60:60))*1))","v":""}]
["",{"$f":"tblRisiken!C62","v":""},{"$f":"tblRisiken!J62","v":""},{"$f":"IF(Fuhrparkliste!D71=\"\",\"\",Fuhrparkliste!D71)","v":""},"","",{"$f":"tblRisiken!H62","v":""},{"$f":"tblRisiken!I62","v":""},null,null,null,{"$f":"IF(OR(B62=\"\",Fuhrparkliste!J71=\"\"),\"\",ROUND(Fuhrparkliste!J71/1000,0))","v":""},"",{"$f":"IF(Fuhrparkliste!N71=\"\",\"\",VLOOKUP(Fuhrparkliste!N71,AUFBAUMATRIXKEY,2,FALSE))","v":""},{"$f":"IF(B62=\"\",\"\",IF(OR(tblRisiken!AC62=\"03\",tblRisiken!AC62=\"04\"),\"04\",IF(B62=\"541\",\"00\",\"02\")))","v":""},"",{"$f":"tblRisiken!AE62","v":""},{"$f":"tblRisiken!AF62","v":""},{"$f":"tblRisiken!AG62","v":""},{"$f":"tblRisiken!N62","v":""},null,{"$f":"SUBSTITUTE(Fuhrparkliste!E71,\" \",\"\")","v":""},"","",{"$f":"RIGHT(V62,COUNT(RIGHT(V62,COLUMN(61:61))*1))","v":""}]
["",{"$f":"tblRisiken!C63","v":""},{"$f":"tblRisiken!J63","v":""},{"$f":"IF(Fuhrparkliste!D72=\"\",\"\",Fuhrparkliste!D72)","v":""},"","",{"$f":"tblRisiken!H63","v":""},{"$f":"tblRisiken!I63","v":""},null,null,null,{"$f":"IF(OR(B63=\"\",Fuhrparkliste!J72=\"\"),\"\",ROUND(Fuhrparkliste!J72/1000,0))","v":""},"",{"$f":"IF(Fuhrparkliste!N72=\"\",\"\",VLOOKUP(Fuhrparkliste!N72,AUFBAUMATRIXKEY,2,FALSE))","v":""},{"$f":"IF(B63=\"\",\"\",IF(OR(tblRisiken!AC63=\"03\",tblRisiken!AC63=\"04\"),\"04\",IF(B63=\"541\",\"00\",\"02\")))","v":""},"",{"$f":"tblRisiken!AE63","v":""},{"$f":"tblRisiken!AF63","v":""},{"$f":"tblRisiken!AG63","v":""},{"$f":"tblRisiken!N63","v":""},null,{"$f":"SUBSTITUTE(Fuhrparkliste!E72,\" \",\"\")","v":""},"","",{"$f":"RIGHT(V63,COUNT(RIGHT(V63,COLUMN(62:62))*1))","v":""}]
["",{"$f":"tblRisiken!C64","v":""},{"$f":"tblRisiken!J64","v":""},{"$f":"IF(Fuhrparkliste!D73=\"\",\"\",Fuhrparkliste!D73)","v":""},"","",{"$f":"tblRisiken!H64","v":""},{"$f":"tblRisiken!I64","v":""},null,null,null,{"$f":"IF(OR(B64=\"\",Fuhrparkliste!J73=\"\"),\"\",ROUND(Fuhrparkliste!J73/1000,0))","v":""},"",{"$f":"IF(Fuhrparkliste!N73=\"\",\"\",VLOOKUP(Fuhrparkliste!N73,AUFBAUMATRIXKEY,2,FALSE))","v":""},{"$f":"IF(B64=\"\",\"\",IF(OR(tblRisiken!AC64=\"03\",tblRisiken!AC64=\"04\"),\"04\",IF(B64=\"541\",\"00\",\"02\")))","v":""},"",{"$f":"tblRisiken!AE64","v":""},{"$f":"tblRisiken!AF64","v":""},{"$f":"tblRisiken!AG64","v":""},{"$f":"tblRisiken!N64","v":""},null,{"$f":"SUBSTITUTE(Fuhrparkliste!E73,\" \",\"\")","v":""},"","",{"$f":"RIGHT(V64,COUNT(RIGHT(V64,COLUMN(63:63))*1))","v":""}]
["",{"$f":"tblRisiken!C65","v":""},{"$f":"tblRisiken!J65","v":""},{"$f":"IF(Fuhrparkliste!D74=\"\",\"\",Fuhrparkliste!D74)","v":""},"","",{"$f":"tblRisiken!H65","v":""},{"$f":"tblRisiken!I65","v":""},null,null,null,{"$f":"IF(OR(B65=\"\",Fuhrparkliste!J74=\"\"),\"\",ROUND(Fuhrparkliste!J74/1000,0))","v":""},"",{"$f":"IF(Fuhrparkliste!N74=\"\",\"\",VLOOKUP(Fuhrparkliste!N74,AUFBAUMATRIXKEY,2,FALSE))","v":""},{"$f":"IF(B65=\"\",\"\",IF(OR(tblRisiken!AC65=\"03\",tblRisiken!AC65=\"04\"),\"04\",IF(B65=\"541\",\"00\",\"02\")))","v":""},"",{"$f":"tblRisiken!AE65","v":""},{"$f":"tblRisiken!AF65","v":""},{"$f":"tblRisiken!AG65","v":""},{"$f":"tblRisiken!N65","v":""},null,{"$f":"SUBSTITUTE(Fuhrparkliste!E74,\" \",\"\")","v":""},"","",{"$f":"RIGHT(V65,COUNT(RIGHT(V65,COLUMN(64:64))*1))","v":""}]
["",{"$f":"tblRisiken!C66","v":""},{"$f":"tblRisiken!J66","v":""},{"$f":"IF(Fuhrparkliste!D75=\"\",\"\",Fuhrparkliste!D75)","v":""},"",{"$f":"IF(B66=\"\",\"\",IF(ISERROR(VLOOKUP(W66,REGIOSLMATRIX,2,FALSE)),\"N\",\"\"))","v":""},{"$f":"tblRisiken!H66","v":""},{"$f":"tblRisiken!I66","v":""},null,null,null,{"$f":"IF(OR(B66=\"\",Fuhrparkliste!J75=\"\"),\"\",ROUND(Fuhrparkliste!J75/1000,0))","v":""},"",{"$f":"IF(Fuhrparkliste!N75=\"\",\"\",VLOOKUP(Fuhrparkliste!N75,AUFBAUMATRIXKEY,2,FALSE))","v":""},{"$f":"IF(B66=\"\",\"\",IF(OR(tblRisiken!AC66=\"03\",tblRisiken!AC66=\"04\"),\"04\",IF(B66=\"541\",\"00\",\"02\")))","v":""},"",{"$f":"tblRisiken!AE66","v":""},{"$f":"tblRisiken!AF66","v":""},{"$f":"tblRisiken!AG66","v":""},{"$f":"tblRisiken!N66","v":""},null,{"$f":"SUBSTITUTE(Fuhrparkliste!E75,\" \",\"\")","v":""},"","",{"$f":"RIGHT(V66,COUNT(RIGHT(V66,COLUMN(65:65))*1))","v":""}]
[{"$f":"IF(B67=\"\",\"\",1)","v":""},{"$f":"tblRisiken!C67","v":""},{"$f":"tblRisiken!J67","v":""},{"$f":"IF(Fuhrparkliste!D76=\"\",\"\",Fuhrparkliste!D76)","v":""},{"$f":"IF(B67=\"\",\"\",TRIM(CONCATENATE(W67,\"-\",X67,\" \",Y67)))","v":""},"",{"$f":"tblRisiken!H67","v":""},{"$f":"tblRisiken!I67","v":""},null,null,null,{"$f":"IF(OR(B67=\"\",Fuhrparkliste!J76=\"\"),\"\",ROUND(Fuhrparkliste!J76/1000,0))","v":""},"",{"$f":"IF(Fuhrparkliste!N76=\"\",\"\",VLOOKUP(Fuhrparkliste!N76,AUFBAUMATRIXKEY,2,FALSE))","v":""},{"$f":"IF(B67=\"\",\"\",IF(OR(tblRisiken!AC67=\"03\",tblRisiken!AC67=\"04\"),\"04\",IF(B67=\"541\",\"00\",\"02\")))","v":""},"",{"$f":"tblRisiken!AE67","v":""},{"$f":"tblRisiken!AF67","v":""},{"$f":"tblRisiken!AG67","v":""},{"$f":"tblRisiken!N67","v":""},null,{"$f":"SUBSTITUTE(Fuhrparkliste!E76,\" \",\"\")","v":""},"","",{"$f":"RIGHT(V67,COUNT(RIGHT(V67,COLUMN(66:66))*1))","v":""}]
["",{"$f":"tblRisiken!C68","v":""},{"$f":"tblRisiken!J68","v":""},{"$f":"IF(Fuhrparkliste!D77=\"\",\"\",Fuhrparkliste!D77)","v":""},"","",{"$f":"tblRisiken!H68","v":""},{"$f":"tblRisiken!I68","v":""},null,null,null,{"$f":"IF(OR(B68=\"\",Fuhrparkliste!J77=\"\"),\"\",ROUND(Fuhrparkliste!J77/1000,0))","v":""},"",{"$f":"IF(Fuhrparkliste!N77=\"\",\"\",VLOOKUP(Fuhrparkliste!N77,AUFBAUMATRIXKEY,2,FALSE))","v":""},{"$f":"IF(B68=\"\",\"\",IF(OR(tblRisiken!AC68=\"03\",tblRisiken!AC68=\"04\"),\"04\",IF(B68=\"541\",\"00\",\"02\")))","v":""},"",{"$f":"tblRisiken!AE68","v":""},{"$f":"tblRisiken!AF68","v":""},{"$f":"tblRisiken!AG68","v":""},{"$f":"tblRisiken!N68","v":""},null,{"$f":"SUBSTITUTE(Fuhrparkliste!E77,\" \",\"\")","v":""},{"$f":"IF(B68=\"\",\"\",IF(ISERROR(SEARCH(\"-\",V68)),LEFT(V68,15),LEFT(V68,SEARCH(\"-\",V68)-1)))","v":""},{"$f":"IF(ISERROR(MID(V68,LEN(W68)+2,LEN(V68)-LEN(W68)-LEN(Y68)-1)),\"\",MID(V68,LEN(W68)+2,LEN(V68)-LEN(W68)-LEN(Y68)-1))","v":""},{"$f":"RIGHT(V68,COUNT(RIGHT(V68,COLUMN(67:67))*1))","v":""}]
["",{"$f":"tblRisiken!C69","v":""},{"$f":"tblRisiken!J69","v":""},{"$f":"IF(Fuhrparkliste!D78=\"\",\"\",Fuhrparkliste!D78)","v":""},"","",{"$f":"tblRisiken!H69","v":""},{"$f":"tblRisiken!I69","v":""},null,null,null,{"$f":"IF(OR(B69=\"\",Fuhrparkliste!J78=\"\"),\"\",ROUND(Fuhrparkliste!J78/1000,0))","v":""},"",{"$f":"IF(Fuhrparkliste!N78=\"\",\"\",VLOOKUP(Fuhrparkliste!N78,AUFBAUMATRIXKEY,2,FALSE))","v":""},{"$f":"IF(B69=\"\",\"\",IF(OR(tblRisiken!AC69=\"03\",tblRisiken!AC69=\"04\"),\"04\",IF(B69=\"541\",\"00\",\"02\")))","v":""},"",{"$f":"tblRisiken!AE69","v":""},{"$f":"tblRisiken!AF69","v":""},{"$f":"tblRisiken!AG69","v":""},{"$f":"tblRisiken!N69","v":""},null,{"$f":"SUBSTITUTE(Fuhrparkliste!E78,\" \",\"\")","v":""},"","",{"$f":"RIGHT(V69,COUNT(RIGHT(V69,COLUMN(68:68))*1))","v":""}]
["",{"$f":"tblRisiken!C70","v":""},{"$f":"tblRisiken!J70","v":""},{"$f":"IF(Fuhrparkliste!D79=\"\",\"\",Fuhrparkliste!D79)","v":""},"","",{"$f":"tblRisiken!H70","v":""},{"$f":"tblRisiken!I70","v":""},null,null,null,{"$f":"IF(OR(B70=\"\",Fuhrparkliste!J79=\"\"),\"\",ROUND(Fuhrparkliste!J79/1000,0))","v":""},"",{"$f":"IF(Fuhrparkliste!N79=\"\",\"\",VLOOKUP(Fuhrparkliste!N79,AUFBAUMATRIXKEY,2,FALSE))","v":""},{"$f":"IF(B70=\"\",\"\",IF(OR(tblRisiken!AC70=\"03\",tblRisiken!AC70=\"04\"),\"04\",IF(B70=\"541\",\"00\",\"02\")))","v":""},"",{"$f":"tblRisiken!AE70","v":""},{"$f":"tblRisiken!AF70","v":""},{"$f":"tblRisiken!AG70","v":""},{"$f":"tblRisiken!N70","v":""},null,{"$f":"SUBSTITUTE(Fuhrparkliste!E79,\" \",\"\")","v":""},"","",{"$f":"RIGHT(V70,COUNT(RIGHT(V70,COLUMN(69:69))*1))","v":""}]
["",{"$f":"tblRisiken!C71","v":""},{"$f":"tblRisiken!J71","v":""},{"$f":"IF(Fuhrparkliste!D80=\"\",\"\",Fuhrparkliste!D80)","v":""},"","",{"$f":"tblRisiken!H71","v":""},{"$f":"tblRisiken!I71","v":""},null,null,null,{"$f":"IF(OR(B71=\"\",Fuhrparkliste!J80=\"\"),\"\",ROUND(Fuhrparkliste!J80/1000,0))","v":""},{"$f":"IF(B71=\"112\",\"2\",\"\")","v":""},{"$f":"IF(Fuhrparkliste!N80=\"\",\"\",VLOOKUP(Fuhrparkliste!N80,AUFBAUMATRIXKEY,2,FALSE))","v":""},{"$f":"IF(B71=\"\",\"\",IF(OR(tblRisiken!AC71=\"03\",tblRisiken!AC71=\"04\"),\"04\",IF(B71=\"541\",\"00\",\"02\")))","v":""},{"$f":"IF(B71=\"\",\"\",\"3\")","v":""},{"$f":"tblRisiken!AE71","v":""},{"$f":"tblRisiken!AF71","v":""},{"$f":"tblRisiken!AG71","v":""},{"$f":"tblRisiken!N71","v":""},null,{"$f":"SUBSTITUTE(Fuhrparkliste!E80,\" \",\"\")","v":""},"","",{"$f":"RIGHT(V71,COUNT(RIGHT(V71,COLUMN(70:70))*1))","v":""}]
["",{"$f":"tblRisiken!C72","v":""},{"$f":"tblRisiken!J72","v":""},{"$f":"IF(Fuhrparkliste!D81=\"\",\"\",Fuhrparkliste!D81)","v":""},"","",{"$f":"tblRisiken!H72","v":""},{"$f":"tblRisiken!I72","v":""},null,null,null,{"$f":"IF(OR(B72=\"\",Fuhrparkliste!J81=\"\"),\"\",ROUND(Fuhrparkliste!J81/1000,0))","v":""},"",{"$f":"IF(Fuhrparkliste!N81=\"\",\"\",VLOOKUP(Fuhrparkliste!N81,AUFBAUMATRIXKEY,2,FALSE))","v":""},{"$f":"IF(B72=\"\",\"\",IF(OR(tblRisiken!AC72=\"03\",tblRisiken!AC72=\"04\"),\"04\",IF(B72=\"541\",\"00\",\"02\")))","v":""},"",{"$f":"tblRisiken!AE72","v":""},{"$f":"tblRisiken!AF72","v":""},{"$f":"tblRisiken!AG72","v":""},{"$f":"tblRisiken!N72","v":""},null,{"$f":"SUBSTITUTE(Fuhrparkliste!E81,\" \",\"\")","v":""},"","",{"$f":"RIGHT(V72,COUNT(RIGHT(V72,COLUMN(71:71))*1))","v":""}]
["",{"$f":"tblRisiken!C73","v":""},{"$f":"tblRisiken!J73","v":""},{"$f":"IF(Fuhrparkliste!D82=\"\",\"\",Fuhrparkliste!D82)","v":""},"","",{"$f":"tblRisiken!H73","v":""},{"$f":"tblRisiken!I73","v":""},null,null,null,{"$f":"IF(OR(B73=\"\",Fuhrparkliste!J82=\"\"),\"\",ROUND(Fuhrparkliste!J82/1000,0))","v":""},"",{"$f":"IF(Fuhrparkliste!N82=\"\",\"\",VLOOKUP(Fuhrparkliste!N82,AUFBAUMATRIXKEY,2,FALSE))","v":""},{"$f":"IF(B73=\"\",\"\",IF(OR(tblRisiken!AC73=\"03\",tblRisiken!AC73=\"04\"),\"04\",IF(B73=\"541\",\"00\",\"02\")))","v":""},"",{"$f":"tblRisiken!AE73","v":""},{"$f":"tblRisiken!AF73","v":""},{"$f":"tblRisiken!AG73","v":""},{"$f":"tblRisiken!N73","v":""},null,{"$f":"SUBSTITUTE(Fuhrparkliste!E82,\" \",\"\")","v":""},"","",{"$f":"RIGHT(V73,COUNT(RIGHT(V73,COLUMN(72:72))*1))","v":""}]
["",{"$f":"tblRisiken!C74","v":""},{"$f":"tblRisiken!J74","v":""},{"$f":"IF(Fuhrparkliste!D83=\"\",\"\",Fuhrparkliste!D83)","v":""},"","",{"$f":"tblRisiken!H74","v":""},{"$f":"tblRisiken!I74","v":""},null,null,null,{"$f":"IF(OR(B74=\"\",Fuhrparkliste!J83=\"\"),\"\",ROUND(Fuhrparkliste!J83/1000,0))","v":""},"",{"$f":"IF(Fuhrparkliste!N83=\"\",\"\",VLOOKUP(Fuhrparkliste!N83,AUFBAUMATRIXKEY,2,FALSE))","v":""},{"$f":"IF(B74=\"\",\"\",IF(OR(tblRisiken!AC74=\"03\",tblRisiken!AC74=\"04\"),\"04\",IF(B74=\"541\",\"00\",\"02\")))","v":""},"",{"$f":"tblRisiken!AE74","v":""},{"$f":"tblRisiken!AF74","v":""},{"$f":"tblRisiken!AG74","v":""},{"$f":"tblRisiken!N74","v":""},null,{"$f":"SUBSTITUTE(Fuhrparkliste!E83,\" \",\"\")","v":""},"","",{"$f":"RIGHT(V74,COUNT(RIGHT(V74,COLUMN(73:73))*1))","v":""}]
["",{"$f":"tblRisiken!C75","v":""},{"$f":"tblRisiken!J75","v":""},{"$f":"IF(Fuhrparkliste!D84=\"\",\"\",Fuhrparkliste!D84)","v":""},"","",{"$f":"tblRisiken!H75","v":""},{"$f":"tblRisiken!I75","v":""},null,null,null,{"$f":"IF(OR(B75=\"\",Fuhrparkliste!J84=\"\"),\"\",ROUND(Fuhrparkliste!J84/1000,0))","v":""},"",{"$f":"IF(Fuhrparkliste!N84=\"\",\"\",VLOOKUP(Fuhrparkliste!N84,AUFBAUMATRIXKEY,2,FALSE))","v":""},{"$f":"IF(B75=\"\",\"\",IF(OR(tblRisiken!AC75=\"03\",tblRisiken!AC75=\"04\"),\"04\",IF(B75=\"541\",\"00\",\"02\")))","v":""},"",{"$f":"tblRisiken!AE75","v":""},{"$f":"tblRisiken!AF75","v":""},{"$f":"tblRisiken!AG75","v":""},{"$f":"tblRisiken!N75","v":""},null,{"$f":"SUBSTITUTE(Fuhrparkliste!E84,\" \",\"\")","v":""},"","",{"$f":"RIGHT(V75,COUNT(RIGHT(V75,COLUMN(74:74))*1))","v":""}]
["",{"$f":"tblRisiken!C76","v":""},{"$f":"tblRisiken!J76","v":""},{"$f":"IF(Fuhrparkliste!D85=\"\",\"\",Fuhrparkliste!D85)","v":""},"","",{"$f":"tblRisiken!H76","v":""},{"$f":"tblRisiken!I76","v":""},null,null,null,{"$f":"IF(OR(B76=\"\",Fuhrparkliste!J85=\"\"),\"\",ROUND(Fuhrparkliste!J85/1000,0))","v":""},"",{"$f":"IF(Fuhrparkliste!N85=\"\",\"\",VLOOKUP(Fuhrparkliste!N85,AUFBAUMATRIXKEY,2,FALSE))","v":""},{"$f":"IF(B76=\"\",\"\",IF(OR(tblRisiken!AC76=\"03\",tblRisiken!AC76=\"04\"),\"04\",IF(B76=\"541\",\"00\",\"02\")))","v":""},"",{"$f":"tblRisiken!AE76","v":""},{"$f":"tblRisiken!AF76","v":""},{"$f":"tblRisiken!AG76","v":""},{"$f":"tblRisiken!N76","v":""},null,{"$f":"SUBSTITUTE(Fuhrparkliste!E85,\" \",\"\")","v":""},"","",{"$f":"RIGHT(V76,COUNT(RIGHT(V76,COLUMN(75:75))*1))","v":""}]
["",{"$f":"tblRisiken!C77","v":""},{"$f":"tblRisiken!J77","v":""},{"$f":"IF(Fuhrparkliste!D86=\"\",\"\",Fuhrparkliste!D86)","v":""},"","",{"$f":"tblRisiken!H77","v":""},{"$f":"tblRisiken!I77","v":""},null,null,null,{"$f":"IF(OR(B77=\"\",Fuhrparkliste!J86=\"\"),\"\",ROUND(Fuhrparkliste!J86/1000,0))","v":""},"",{"$f":"IF(Fuhrparkliste!N86=\"\",\"\",VLOOKUP(Fuhrparkliste!N86,AUFBAUMATRIXKEY,2,FALSE))","v":""},{"$f":"IF(B77=\"\",\"\",IF(OR(tblRisiken!AC77=\"03\",tblRisiken!AC77=\"04\"),\"04\",IF(B77=\"541\",\"00\",\"02\")))","v":""},"",{"$f":"tblRisiken!AE77","v":""},{"$f":"tblRisiken!AF77","v":""},{"$f":"tblRisiken!AG77","v":""},{"$f":"tblRisiken!N77","v":""},null,{"$f":"SUBSTITUTE(Fuhrparkliste!E86,\" \",\"\")","v":""},"","",{"$f":"RIGHT(V77,COUNT(RIGHT(V77,COLUMN(76:76))*1))","v":""}]
["",{"$f":"tblRisiken!C78","v":""},{"$f":"tblRisiken!J78","v":""},{"$f":"IF(Fuhrparkliste!D87=\"\",\"\",Fuhrparkliste!D87)","v":""},"","",{"$f":"tblRisiken!H78","v":""},{"$f":"tblRisiken!I78","v":""},null,null,null,{"$f":"IF(OR(B78=\"\",Fuhrparkliste!J87=\"\"),\"\",ROUND(Fuhrparkliste!J87/1000,0))","v":""},"",{"$f":"IF(Fuhrparkliste!N87=\"\",\"\",VLOOKUP(Fuhrparkliste!N87,AUFBAUMATRIXKEY,2,FALSE))","v":""},{"$f":"IF(B78=\"\",\"\",IF(OR(tblRisiken!AC78=\"03\",tblRisiken!AC78=\"04\"),\"04\",IF(B78=\"541\",\"00\",\"02\")))","v":""},"",{"$f":"tblRisiken!AE78","v":""},{"$f":"tblRisiken!AF78","v":""},{"$f":"tblRisiken!AG78","v":""},{"$f":"tblRisiken!N78","v":""},null,{"$f":"SUBSTITUTE(Fuhrparkliste!E87,\" \",\"\")","v":""},"","",{"$f":"RIGHT(V78,COUNT(RIGHT(V78,COLUMN(77:77))*1))","v":""}]
["",{"$f":"tblRisiken!C79","v":""},{"$f":"tblRisiken!J79","v":""},{"$f":"IF(Fuhrparkliste!D88=\"\",\"\",Fuhrparkliste!D88)","v":""},"","",{"$f":"tblRisiken!H79","v":""},{"$f":"tblRisiken!I79","v":""},null,null,null,{"$f":"IF(OR(B79=\"\",Fuhrparkliste!J88=\"\"),\"\",ROUND(Fuhrparkliste!J88/1000,0))","v":""},"",{"$f":"IF(Fuhrparkliste!N88=\"\",\"\",VLOOKUP(Fuhrparkliste!N88,AUFBAUMATRIXKEY,2,FALSE))","v":""},{"$f":"IF(B79=\"\",\"\",IF(OR(tblRisiken!AC79=\"03\",tblRisiken!AC79=\"04\"),\"04\",IF(B79=\"541\",\"00\",\"02\")))","v":""},"",{"$f":"tblRisiken!AE79","v":""},{"$f":"tblRisiken!AF79","v":""},{"$f":"tblRisiken!AG79","v":""},{"$f":"tblRisiken!N79","v":""},null,{"$f":"SUBSTITUTE(Fuhrparkliste!E88,\" \",\"\")","v":""},"","",{"$f":"RIGHT(V79,COUNT(RIGHT(V79,COLUMN(78:78))*1))","v":""}]
["",{"$f":"tblRisiken!C80","v":""},{"$f":"tblRisiken!J80","v":""},{"$f":"IF(Fuhrparkliste!D89=\"\",\"\",Fuhrparkliste!D89)","v":""},"","",{"$f":"tblRisiken!H80","v":""},{"$f":"tblRisiken!I80","v":""},null,null,null,{"$f":"IF(OR(B80=\"\",Fuhrparkliste!J89=\"\"),\"\",ROUND(Fuhrparkliste!J89/1000,0))","v":""},"",{"$f":"IF(Fuhrparkliste!N89=\"\",\"\",VLOOKUP(Fuhrparkliste!N89,AUFBAUMATRIXKEY,2,FALSE))","v":""},{"$f":"IF(B80=\"\",\"\",IF(OR(tblRisiken!AC80=\"03\",tblRisiken!AC80=\"04\"),\"04\",IF(B80=\"541\",\"00\",\"02\")))","v":""},"",{"$f":"tblRisiken!AE80","v":""},{"$f":"tblRisiken!AF80","v":""},{"$f":"tblRisiken!AG80","v":""},{"$f":"tblRisiken!N80","v":""},null,{"$f":"SUBSTITUTE(Fuhrparkliste!E89,\" \",\"\")","v":""},"","",{"$f":"RIGHT(V80,COUNT(RIGHT(V80,COLUMN(79:79))*1))","v":""}]
["",{"$f":"tblRisiken!C81","v":""},{"$f":"tblRisiken!J81","v":""},{"$f":"IF(Fuhrparkliste!D90=\"\",\"\",Fuhrparkliste!D90)","v":""},"","",{"$f":"tblRisiken!H81","v":""},{"$f":"tblRisiken!I81","v":""},null,null,null,{"$f":"IF(OR(B81=\"\",Fuhrparkliste!J90=\"\"),\"\",ROUND(Fuhrparkliste!J90/1000,0))","v":""},"",{"$f":"IF(Fuhrparkliste!N90=\"\",\"\",VLOOKUP(Fuhrparkliste!N90,AUFBAUMATRIXKEY,2,FALSE))","v":""},{"$f":"IF(B81=\"\",\"\",IF(OR(tblRisiken!AC81=\"03\",tblRisiken!AC81=\"04\"),\"04\",IF(B81=\"541\",\"00\",\"02\")))","v":""},"",{"$f":"tblRisiken!AE81","v":""},{"$f":"tblRisiken!AF81","v":""},{"$f":"tblRisiken!AG81","v":""},{"$f":"tblRisiken!N81","v":""},null,{"$f":"SUBSTITUTE(Fuhrparkliste!E90,\" \",\"\")","v":""},"","",{"$f":"RIGHT(V81,COUNT(RIGHT(V81,COLUMN(80:80))*1))","v":""}]
["",{"$f":"tblRisiken!C82","v":""},{"$f":"tblRisiken!J82","v":""},{"$f":"IF(Fuhrparkliste!D91=\"\",\"\",Fuhrparkliste!D91)","v":""},"","",{"$f":"tblRisiken!H82","v":""},{"$f":"tblRisiken!I82","v":""},null,null,null,{"$f":"IF(OR(B82=\"\",Fuhrparkliste!J91=\"\"),\"\",ROUND(Fuhrparkliste!J91/1000,0))","v":""},"",{"$f":"IF(Fuhrparkliste!N91=\"\",\"\",VLOOKUP(Fuhrparkliste!N91,AUFBAUMATRIXKEY,2,FALSE))","v":""},{"$f":"IF(B82=\"\",\"\",IF(OR(tblRisiken!AC82=\"03\",tblRisiken!AC82=\"04\"),\"04\",IF(B82=\"541\",\"00\",\"02\")))","v":""},"",{"$f":"tblRisiken!AE82","v":""},{"$f":"tblRisiken!AF82","v":""},{"$f":"tblRisiken!AG82","v":""},{"$f":"tblRisiken!N82","v":""},null,{"$f":"SUBSTITUTE(Fuhrparkliste!E91,\" \",\"\")","v":""},"","",{"$f":"RIGHT(V82,COUNT(RIGHT(V82,COLUMN(81:81))*1))","v":""}]
["",{"$f":"tblRisiken!C83","v":""},{"$f":"tblRisiken!J83","v":""},{"$f":"IF(Fuhrparkliste!D92=\"\",\"\",Fuhrparkliste!D92)","v":""},"","",{"$f":"tblRisiken!H83","v":""},{"$f":"tblRisiken!I83","v":""},null,null,null,{"$f":"IF(OR(B83=\"\",Fuhrparkliste!J92=\"\"),\"\",ROUND(Fuhrparkliste!J92/1000,0))","v":""},"",{"$f":"IF(Fuhrparkliste!N92=\"\",\"\",VLOOKUP(Fuhrparkliste!N92,AUFBAUMATRIXKEY,2,FALSE))","v":""},{"$f":"IF(B83=\"\",\"\",IF(OR(tblRisiken!AC83=\"03\",tblRisiken!AC83=\"04\"),\"04\",IF(B83=\"541\",\"00\",\"02\")))","v":""},"",{"$f":"tblRisiken!AE83","v":""},{"$f":"tblRisiken!AF83","v":""},{"$f":"tblRisiken!AG83","v":""},{"$f":"tblRisiken!N83","v":""},null,{"$f":"SUBSTITUTE(Fuhrparkliste!E92,\" \",\"\")","v":""},"","",{"$f":"RIGHT(V83,COUNT(RIGHT(V83,COLUMN(82:82))*1))","v":""}]
["",{"$f":"tblRisiken!C84","v":""},{"$f":"tblRisiken!J84","v":""},{"$f":"IF(Fuhrparkliste!D93=\"\",\"\",Fuhrparkliste!D93)","v":""},"","",{"$f":"tblRisiken!H84","v":""},{"$f":"tblRisiken!I84","v":""},null,null,null,{"$f":"IF(OR(B84=\"\",Fuhrparkliste!J93=\"\"),\"\",ROUND(Fuhrparkliste!J93/1000,0))","v":""},"",{"$f":"IF(Fuhrparkliste!N93=\"\",\"\",VLOOKUP(Fuhrparkliste!N93,AUFBAUMATRIXKEY,2,FALSE))","v":""},{"$f":"IF(B84=\"\",\"\",IF(OR(tblRisiken!AC84=\"03\",tblRisiken!AC84=\"04\"),\"04\",IF(B84=\"541\",\"00\",\"02\")))","v":""},"",{"$f":"tblRisiken!AE84","v":""},{"$f":"tblRisiken!AF84","v":""},{"$f":"tblRisiken!AG84","v":""},{"$f":"tblRisiken!N84","v":""},null,{"$f":"SUBSTITUTE(Fuhrparkliste!E93,\" \",\"\")","v":""},"","",{"$f":"RIGHT(V84,COUNT(RIGHT(V84,COLUMN(83:83))*1))","v":""}]
["",{"$f":"tblRisiken!C85","v":""},{"$f":"tblRisiken!J85","v":""},{"$f":"IF(Fuhrparkliste!D94=\"\",\"\",Fuhrparkliste!D94)","v":""},"","",{"$f":"tblRisiken!H85","v":""},{"$f":"tblRisiken!I85","v":""},null,null,null,{"$f":"IF(OR(B85=\"\",Fuhrparkliste!J94=\"\"),\"\",ROUND(Fuhrparkliste!J94/1000,0))","v":""},"",{"$f":"IF(Fuhrparkliste!N94=\"\",\"\",VLOOKUP(Fuhrparkliste!N94,AUFBAUMATRIXKEY,2,FALSE))","v":""},{"$f":"IF(B85=\"\",\"\",IF(OR(tblRisiken!AC85=\"03\",tblRisiken!AC85=\"04\"),\"04\",IF(B85=\"541\",\"00\",\"02\")))","v":""},"",{"$f":"tblRisiken!AE85","v":""},{"$f":"tblRisiken!AF85","v":""},{"$f":"tblRisiken!AG85","v":""},{"$f":"tblRisiken!N85","v":""},null,{"$f":"SUBSTITUTE(Fuhrparkliste!E94,\" \",\"\")","v":""},"","",{"$f":"RIGHT(V85,COUNT(RIGHT(V85,COLUMN(84:84))*1))","v":""}]
["",{"$f":"tblRisiken!C86","v":""},{"$f":"tblRisiken!J86","v":""},{"$f":"IF(Fuhrparkliste!D95=\"\",\"\",Fuhrparkliste!D95)","v":""},"","",{"$f":"tblRisiken!H86","v":""},{"$f":"tblRisiken!I86","v":""},null,null,null,{"$f":"IF(OR(B86=\"\",Fuhrparkliste!J95=\"\"),\"\",ROUND(Fuhrparkliste!J95/1000,0))","v":""},"",{"$f":"IF(Fuhrparkliste!N95=\"\",\"\",VLOOKUP(Fuhrparkliste!N95,AUFBAUMATRIXKEY,2,FALSE))","v":""},{"$f":"IF(B86=\"\",\"\",IF(OR(tblRisiken!AC86=\"03\",tblRisiken!AC86=\"04\"),\"04\",IF(B86=\"541\",\"00\",\"02\")))","v":""},"",{"$f":"tblRisiken!AE86","v":""},{"$f":"tblRisiken!AF86","v":""},{"$f":"tblRisiken!AG86","v":""},{"$f":"tblRisiken!N86","v":""},null,{"$f":"SUBSTITUTE(Fuhrparkliste!E95,\" \",\"\")","v":""},"","",{"$f":"RIGHT(V86,COUNT(RIGHT(V86,COLUMN(85:85))*1))","v":""}]
["",{"$f":"tblRisiken!C87","v":""},{"$f":"tblRisiken!J87","v":""},{"$f":"IF(Fuhrparkliste!D96=\"\",\"\",Fuhrparkliste!D96)","v":""},"","",{"$f":"tblRisiken!H87","v":""},{"$f":"tblRisiken!I87","v":""},null,null,null,{"$f":"IF(OR(B87=\"\",Fuhrparkliste!J96=\"\"),\"\",ROUND(Fuhrparkliste!J96/1000,0))","v":""},"",{"$f":"IF(Fuhrparkliste!N96=\"\",\"\",VLOOKUP(Fuhrparkliste!N96,AUFBAUMATRIXKEY,2,FALSE))","v":""},{"$f":"IF(B87=\"\",\"\",IF(OR(tblRisiken!AC87=\"03\",tblRisiken!AC87=\"04\"),\"04\",IF(B87=\"541\",\"00\",\"02\")))","v":""},"",{"$f":"tblRisiken!AE87","v":""},{"$f":"tblRisiken!AF87","v":""},{"$f":"tblRisiken!AG87","v":""},{"$f":"tblRisiken!N87","v":""},null,{"$f":"SUBSTITUTE(Fuhrparkliste!E96,\" \",\"\")","v":""},"","",{"$f":"RIGHT(V87,COUNT(RIGHT(V87,COLUMN(86:86))*1))","v":""}]
["",{"$f":"tblRisiken!C88","v":""},{"$f":"tblRisiken!J88","v":""},{"$f":"IF(Fuhrparkliste!D97=\"\",\"\",Fuhrparkliste!D97)","v":""},"","",{"$f":"tblRisiken!H88","v":""},{"$f":"tblRisiken!I88","v":""},null,null,null,{"$f":"IF(OR(B88=\"\",Fuhrparkliste!J97=\"\"),\"\",ROUND(Fuhrparkliste!J97/1000,0))","v":""},"",{"$f":"IF(Fuhrparkliste!N97=\"\",\"\",VLOOKUP(Fuhrparkliste!N97,AUFBAUMATRIXKEY,2,FALSE))","v":""},{"$f":"IF(B88=\"\",\"\",IF(OR(tblRisiken!AC88=\"03\",tblRisiken!AC88=\"04\"),\"04\",IF(B88=\"541\",\"00\",\"02\")))","v":""},"",{"$f":"tblRisiken!AE88","v":""},{"$f":"tblRisiken!AF88","v":""},{"$f":"tblRisiken!AG88","v":""},{"$f":"tblRisiken!N88","v":""},null,{"$f":"SUBSTITUTE(Fuhrparkliste!E97,\" \",\"\")","v":""},"","",{"$f":"RIGHT(V88,COUNT(RIGHT(V88,COLUMN(87:87))*1))","v":""}]
["",{"$f":"tblRisiken!C89","v":""},{"$f":"tblRisiken!J89","v":""},{"$f":"IF(Fuhrparkliste!D98=\"\",\"\",Fuhrparkliste!D98)","v":""},"","",{"$f":"tblRisiken!H89","v":""},{"$f":"tblRisiken!I89","v":""},null,null,null,{"$f":"IF(OR(B89=\"\",Fuhrparkliste!J98=\"\"),\"\",ROUND(Fuhrparkliste!J98/1000,0))","v":""},"",{"$f":"IF(Fuhrparkliste!N98=\"\",\"\",VLOOKUP(Fuhrparkliste!N98,AUFBAUMATRIXKEY,2,FALSE))","v":""},{"$f":"IF(B89=\"\",\"\",IF(OR(tblRisiken!AC89=\"03\",tblRisiken!AC89=\"04\"),\"04\",IF(B89=\"541\",\"00\",\"02\")))","v":""},"",{"$f":"tblRisiken!AE89","v":""},{"$f":"tblRisiken!AF89","v":""},{"$f":"tblRisiken!AG89","v":""},{"$f":"tblRisiken!N89","v":""},null,{"$f":"SUBSTITUTE(Fuhrparkliste!E98,\" \",\"\")","v":""},"","",{"$f":"RIGHT(V89,COUNT(RIGHT(V89,COLUMN(88:88))*1))","v":""}]
["",{"$f":"tblRisiken!C90","v":""},{"$f":"tblRisiken!J90","v":""},{"$f":"IF(Fuhrparkliste!D99=\"\",\"\",Fuhrparkliste!D99)","v":""},"","",{"$f":"tblRisiken!H90","v":""},{"$f":"tblRisiken!I90","v":""},null,null,null,{"$f":"IF(OR(B90=\"\",Fuhrparkliste!J99=\"\"),\"\",ROUND(Fuhrparkliste!J99/1000,0))","v":""},"",{"$f":"IF(Fuhrparkliste!N99=\"\",\"\",VLOOKUP(Fuhrparkliste!N99,AUFBAUMATRIXKEY,2,FALSE))","v":""},{"$f":"IF(B90=\"\",\"\",IF(OR(tblRisiken!AC90=\"03\",tblRisiken!AC90=\"04\"),\"04\",IF(B90=\"541\",\"00\",\"02\")))","v":""},"",{"$f":"tblRisiken!AE90","v":""},{"$f":"tblRisiken!AF90","v":""},{"$f":"tblRisiken!AG90","v":""},{"$f":"tblRisiken!N90","v":""},null,{"$f":"SUBSTITUTE(Fuhrparkliste!E99,\" \",\"\")","v":""},"","",{"$f":"RIGHT(V90,COUNT(RIGHT(V90,COLUMN(89:89))*1))","v":""}]
["",{"$f":"tblRisiken!C91","v":""},{"$f":"tblRisiken!J91","v":""},{"$f":"IF(Fuhrparkliste!D100=\"\",\"\",Fuhrparkliste!D100)","v":""},"","",{"$f":"tblRisiken!H91","v":""},{"$f":"tblRisiken!I91","v":""},null,null,null,{"$f":"IF(OR(B91=\"\",Fuhrparkliste!J100=\"\"),\"\",ROUND(Fuhrparkliste!J100/1000,0))","v":""},"",{"$f":"IF(Fuhrparkliste!N100=\"\",\"\",VLOOKUP(Fuhrparkliste!N100,AUFBAUMATRIXKEY,2,FALSE))","v":""},{"$f":"IF(B91=\"\",\"\",IF(OR(tblRisiken!AC91=\"03\",tblRisiken!AC91=\"04\"),\"04\",IF(B91=\"541\",\"00\",\"02\")))","v":""},"",{"$f":"tblRisiken!AE91","v":""},{"$f":"tblRisiken!AF91","v":""},{"$f":"tblRisiken!AG91","v":""},{"$f":"tblRisiken!N91","v":""},null,{"$f":"SUBSTITUTE(Fuhrparkliste!E100,\" \",\"\")","v":""},"","",{"$f":"RIGHT(V91,COUNT(RIGHT(V91,COLUMN(90:90))*1))","v":""}]
["",{"$f":"tblRisiken!C92","v":""},{"$f":"tblRisiken!J92","v":""},{"$f":"IF(Fuhrparkliste!D101=\"\",\"\",Fuhrparkliste!D101)","v":""},"","",{"$f":"tblRisiken!H92","v":""},{"$f":"tblRisiken!I92","v":""},null,null,null,{"$f":"IF(OR(B92=\"\",Fuhrparkliste!J101=\"\"),\"\",ROUND(Fuhrparkliste!J101/1000,0))","v":""},"",{"$f":"IF(Fuhrparkliste!N101=\"\",\"\",VLOOKUP(Fuhrparkliste!N101,AUFBAUMATRIXKEY,2,FALSE))","v":""},{"$f":"IF(B92=\"\",\"\",IF(OR(tblRisiken!AC92=\"03\",tblRisiken!AC92=\"04\"),\"04\",IF(B92=\"541\",\"00\",\"02\")))","v":""},"",{"$f":"tblRisiken!AE92","v":""},{"$f":"tblRisiken!AF92","v":""},{"$f":"tblRisiken!AG92","v":""},{"$f":"tblRisiken!N92","v":""},null,{"$f":"SUBSTITUTE(Fuhrparkliste!E101,\" \",\"\")","v":""},"","",{"$f":"RIGHT(V92,COUNT(RIGHT(V92,COLUMN(91:91))*1))","v":""}]
["",{"$f":"tblRisiken!C93","v":""},{"$f":"tblRisiken!J93","v":""},{"$f":"IF(Fuhrparkliste!D102=\"\",\"\",Fuhrparkliste!D102)","v":""},"","",{"$f":"tblRisiken!H93","v":""},{"$f":"tblRisiken!I93","v":""},null,null,null,{"$f":"IF(OR(B93=\"\",Fuhrparkliste!J102=\"\"),\"\",ROUND(Fuhrparkliste!J102/1000,0))","v":""},"",{"$f":"IF(Fuhrparkliste!N102=\"\",\"\",VLOOKUP(Fuhrparkliste!N102,AUFBAUMATRIXKEY,2,FALSE))","v":""},{"$f":"IF(B93=\"\",\"\",IF(OR(tblRisiken!AC93=\"03\",tblRisiken!AC93=\"04\"),\"04\",IF(B93=\"541\",\"00\",\"02\")))","v":""},"",{"$f":"tblRisiken!AE93","v":""},{"$f":"tblRisiken!AF93","v":""},{"$f":"tblRisiken!AG93","v":""},{"$f":"tblRisiken!N93","v":""},null,{"$f":"SUBSTITUTE(Fuhrparkliste!E102,\" \",\"\")","v":""},"","",{"$f":"RIGHT(V93,COUNT(RIGHT(V93,COLUMN(92:92))*1))","v":""}]
["",{"$f":"tblRisiken!C94","v":""},{"$f":"tblRisiken!J94","v":""},{"$f":"IF(Fuhrparkliste!D103=\"\",\"\",Fuhrparkliste!D103)","v":""},"","",{"$f":"tblRisiken!H94","v":""},{"$f":"tblRisiken!I94","v":""},null,null,null,{"$f":"IF(OR(B94=\"\",Fuhrparkliste!J103=\"\"),\"\",ROUND(Fuhrparkliste!J103/1000,0))","v":""},"",{"$f":"IF(Fuhrparkliste!N103=\"\",\"\",VLOOKUP(Fuhrparkliste!N103,AUFBAUMATRIXKEY,2,FALSE))","v":""},{"$f":"IF(B94=\"\",\"\",IF(OR(tblRisiken!AC94=\"03\",tblRisiken!AC94=\"04\"),\"04\",IF(B94=\"541\",\"00\",\"02\")))","v":""},"",{"$f":"tblRisiken!AE94","v":""},{"$f":"tblRisiken!AF94","v":""},{"$f":"tblRisiken!AG94","v":""},{"$f":"tblRisiken!N94","v":""},null,{"$f":"SUBSTITUTE(Fuhrparkliste!E103,\" \",\"\")","v":""},"","",{"$f":"RIGHT(V94,COUNT(RIGHT(V94,COLUMN(93:93))*1))","v":""}]
["",{"$f":"tblRisiken!C95","v":""},{"$f":"tblRisiken!J95","v":""},{"$f":"IF(Fuhrparkliste!D104=\"\",\"\",Fuhrparkliste!D104)","v":""},"","",{"$f":"tblRisiken!H95","v":""},{"$f":"tblRisiken!I95","v":""},null,null,null,{"$f":"IF(OR(B95=\"\",Fuhrparkliste!J104=\"\"),\"\",ROUND(Fuhrparkliste!J104/1000,0))","v":""},"",{"$f":"IF(Fuhrparkliste!N104=\"\",\"\",VLOOKUP(Fuhrparkliste!N104,AUFBAUMATRIXKEY,2,FALSE))","v":""},{"$f":"IF(B95=\"\",\"\",IF(OR(tblRisiken!AC95=\"03\",tblRisiken!AC95=\"04\"),\"04\",IF(B95=\"541\",\"00\",\"02\")))","v":""},"",{"$f":"tblRisiken!AE95","v":""},{"$f":"tblRisiken!AF95","v":""},{"$f":"tblRisiken!AG95","v":""},{"$f":"tblRisiken!N95","v":""},null,{"$f":"SUBSTITUTE(Fuhrparkliste!E104,\" \",\"\")","v":""},"","",{"$f":"RIGHT(V95,COUNT(RIGHT(V95,COLUMN(94:94))*1))","v":""}]
["",{"$f":"tblRisiken!C96","v":""},{"$f":"tblRisiken!J96","v":""},{"$f":"IF(Fuhrparkliste!D105=\"\",\"\",Fuhrparkliste!D105)","v":""},"","",{"$f":"tblRisiken!H96","v":""},{"$f":"tblRisiken!I96","v":""},null,null,null,{"$f":"IF(OR(B96=\"\",Fuhrparkliste!J105=\"\"),\"\",ROUND(Fuhrparkliste!J105/1000,0))","v":""},"",{"$f":"IF(Fuhrparkliste!N105=\"\",\"\",VLOOKUP(Fuhrparkliste!N105,AUFBAUMATRIXKEY,2,FALSE))","v":""},{"$f":"IF(B96=\"\",\"\",IF(OR(tblRisiken!AC96=\"03\",tblRisiken!AC96=\"04\"),\"04\",IF(B96=\"541\",\"00\",\"02\")))","v":""},"",{"$f":"tblRisiken!AE96","v":""},{"$f":"tblRisiken!AF96","v":""},{"$f":"tblRisiken!AG96","v":""},{"$f":"tblRisiken!N96","v":""},null,{"$f":"SUBSTITUTE(Fuhrparkliste!E105,\" \",\"\")","v":""},"","",{"$f":"RIGHT(V96,COUNT(RIGHT(V96,COLUMN(95:95))*1))","v":""}]
["",{"$f":"tblRisiken!C97","v":""},{"$f":"tblRisiken!J97","v":""},{"$f":"IF(Fuhrparkliste!D106=\"\",\"\",Fuhrparkliste!D106)","v":""},"","",{"$f":"tblRisiken!H97","v":""},{"$f":"tblRisiken!I97","v":""},null,null,null,{"$f":"IF(OR(B97=\"\",Fuhrparkliste!J106=\"\"),\"\",ROUND(Fuhrparkliste!J106/1000,0))","v":""},"",{"$f":"IF(Fuhrparkliste!N106=\"\",\"\",VLOOKUP(Fuhrparkliste!N106,AUFBAUMATRIXKEY,2,FALSE))","v":""},{"$f":"IF(B97=\"\",\"\",IF(OR(tblRisiken!AC97=\"03\",tblRisiken!AC97=\"04\"),\"04\",IF(B97=\"541\",\"00\",\"02\")))","v":""},"",{"$f":"tblRisiken!AE97","v":""},{"$f":"tblRisiken!AF97","v":""},{"$f":"tblRisiken!AG97","v":""},{"$f":"tblRisiken!N97","v":""},null,{"$f":"SUBSTITUTE(Fuhrparkliste!E106,\" \",\"\")","v":""},"","",{"$f":"RIGHT(V97,COUNT(RIGHT(V97,COLUMN(96:96))*1))","v":""}]
["",{"$f":"tblRisiken!C98","v":""},{"$f":"tblRisiken!J98","v":""},{"$f":"IF(Fuhrparkliste!D107=\"\",\"\",Fuhrparkliste!D107)","v":""},"","",{"$f":"tblRisiken!H98","v":""},{"$f":"tblRisiken!I98","v":""},null,null,null,{"$f":"IF(OR(B98=\"\",Fuhrparkliste!J107=\"\"),\"\",ROUND(Fuhrparkliste!J107/1000,0))","v":""},"",{"$f":"IF(Fuhrparkliste!N107=\"\",\"\",VLOOKUP(Fuhrparkliste!N107,AUFBAUMATRIXKEY,2,FALSE))","v":""},{"$f":"IF(B98=\"\",\"\",IF(OR(tblRisiken!AC98=\"03\",tblRisiken!AC98=\"04\"),\"04\",IF(B98=\"541\",\"00\",\"02\")))","v":""},"",{"$f":"tblRisiken!AE98","v":""},{"$f":"tblRisiken!AF98","v":""},{"$f":"tblRisiken!AG98","v":""},{"$f":"tblRisiken!N98","v":""},null,{"$f":"SUBSTITUTE(Fuhrparkliste!E107,\" \",\"\")","v":""},"","",{"$f":"RIGHT(V98,COUNT(RIGHT(V98,COLUMN(97:97))*1))","v":""}]
["",{"$f":"tblRisiken!C99","v":""},{"$f":"tblRisiken!J99","v":""},{"$f":"IF(Fuhrparkliste!D108=\"\",\"\",Fuhrparkliste!D108)","v":""},"","",{"$f":"tblRisiken!H99","v":""},{"$f":"tblRisiken!I99","v":""},null,null,null,{"$f":"IF(OR(B99=\"\",Fuhrparkliste!J108=\"\"),\"\",ROUND(Fuhrparkliste!J108/1000,0))","v":""},"",{"$f":"IF(Fuhrparkliste!N108=\"\",\"\",VLOOKUP(Fuhrparkliste!N108,AUFBAUMATRIXKEY,2,FALSE))","v":""},{"$f":"IF(B99=\"\",\"\",IF(OR(tblRisiken!AC99=\"03\",tblRisiken!AC99=\"04\"),\"04\",IF(B99=\"541\",\"00\",\"02\")))","v":""},"",{"$f":"tblRisiken!AE99","v":""},{"$f":"tblRisiken!AF99","v":""},{"$f":"tblRisiken!AG99","v":""},{"$f":"tblRisiken!N99","v":""},null,{"$f":"SUBSTITUTE(Fuhrparkliste!E108,\" \",\"\")","v":""},"","",{"$f":"RIGHT(V99,COUNT(RIGHT(V99,COLUMN(98:98))*1))","v":""}]
["",{"$f":"tblRisiken!C100","v":""},{"$f":"tblRisiken!J100","v":""},{"$f":"IF(Fuhrparkliste!D109=\"\",\"\",Fuhrparkliste!D109)","v":""},"","",{"$f":"tblRisiken!H100","v":""},{"$f":"tblRisiken!I100","v":""},null,null,null,{"$f":"IF(OR(B100=\"\",Fuhrparkliste!J109=\"\"),\"\",ROUND(Fuhrparkliste!J109/1000,0))","v":""},"",{"$f":"IF(Fuhrparkliste!N109=\"\",\"\",VLOOKUP(Fuhrparkliste!N109,AUFBAUMATRIXKEY,2,FALSE))","v":""},{"$f":"IF(B100=\"\",\"\",IF(OR(tblRisiken!AC100=\"03\",tblRisiken!AC100=\"04\"),\"04\",IF(B100=\"541\",\"00\",\"02\")))","v":""},"",{"$f":"tblRisiken!AE100","v":""},{"$f":"tblRisiken!AF100","v":""},{"$f":"tblRisiken!AG100","v":""},{"$f":"tblRisiken!N100","v":""},null,{"$f":"SUBSTITUTE(Fuhrparkliste!E109,\" \",\"\")","v":""},"","",{"$f":"RIGHT(V100,COUNT(RIGHT(V100,COLUMN(99:99))*1))","v":""}]
["",{"$f":"tblRisiken!C101","v":""},{"$f":"tblRisiken!J101","v":""},{"$f":"IF(Fuhrparkliste!D110=\"\",\"\",Fuhrparkliste!D110)","v":""},"","",{"$f":"tblRisiken!H101","v":""},{"$f":"tblRisiken!I101","v":""},null,null,null,{"$f":"IF(OR(B101=\"\",Fuhrparkliste!J110=\"\"),\"\",ROUND(Fuhrparkliste!J110/1000,0))","v":""},"",{"$f":"IF(Fuhrparkliste!N110=\"\",\"\",VLOOKUP(Fuhrparkliste!N110,AUFBAUMATRIXKEY,2,FALSE))","v":""},{"$f":"IF(B101=\"\",\"\",IF(OR(tblRisiken!AC101=\"03\",tblRisiken!AC101=\"04\"),\"04\",IF(B101=\"541\",\"00\",\"02\")))","v":""},"",{"$f":"tblRisiken!AE101","v":""},{"$f":"tblRisiken!AF101","v":""},{"$f":"tblRisiken!AG101","v":""},{"$f":"tblRisiken!N101","v":""},null,{"$f":"SUBSTITUTE(Fuhrparkliste!E110,\" \",\"\")","v":""},"","",{"$f":"RIGHT(V101,COUNT(RIGHT(V101,COLUMN(100:100))*1))","v":""}]